Shooting information for this photo
Camera: | PENTAX Corporation PENTAX K200D |
Exposure: | 0.008 sec. (1/125) |
Aperture: | f/5.6 |
Focal Length: | 300.0 mm (35 mm equivalent: 450.0 mm) |
Flash: | Off, Did not fire |
Exposure mode: | Shutter speed priority AE |
Resolution: | 240 x 240 dpi |
Dimension: | 829 x 703 pixels |
Original Date: | 2010:06:29 00:08:11 |
Digitized Date: | 2010:06:29 00:08:11+02:00 |
Created on: | 2010:06:29 00:08:11 |
Modified on: | 2010:06:29 11:18:11 |
Software: | K200D Ver 1.00 |
Copyright: | Copyright 2010 by Tobias Bauer. Alle Rechte vorbehalten |
Already Applied | True |
Artist | Tobias Bauer |
Blue Hue | 0 |
Blue Saturation | 0 |
Brightness | +10 |
Camera Profile | Adobe Standard |
Chromatic Aberration B | 0 |
Chromatic Aberration R | 0 |
Circle Of Confusion | 0.020 mm |
City | Bayreuth |
Clarity | 0 |
Color Noise Reduction | 25 |
Color Noise Reduction Detail | 50 |
Color Temperature | 3150 |
Contrast | High |
Convert To Grayscale | True |
Country | Deutschland |
Country Code | DEU |
Creator | Tobias Bauer |
Crop Angle | 0 |
Crop Bottom | 0.665152 |
Crop Constrain To Warp | 0 |
Crop Height | 703 |
Crop Left | 0.394523 |
Crop Right | 0.608519 |
Crop Top | 0.393939 |
Crop Unit | pixels |
Crop Width | 829 |
Custom Rendered | Normal |
Defringe | 0 |
Description | Mond am 29. Juni 2010 um 00:08 Uhr MESZ. |
Exposure | +1.68 |
Exposure Compensation | 0 |
Exposure Mode | Auto |
Field Of View | 4.6 deg |
Fill Light | 24 |
Flash Fired | False |
Flash Function | False |
Flash Mode | Off |
Flash Red Eye Mode | False |
Flash Return | No return detection |
Focal Length In 35mm Format | 450 mm |
Grain Amount | 0 |
Gray Mixer Aqua | -22 |
Gray Mixer Blue | -2 |
Gray Mixer Green | -17 |
Gray Mixer Magenta | +9 |
Gray Mixer Orange | -2 |
Gray Mixer Purple | +9 |
Gray Mixer Red | +6 |
Gray Mixer Yellow | -6 |
Green Hue | 0 |
Green Saturation | 0 |
Has Crop | True |
Has Settings | True |
Hierarchical Subject | Natur|Astrofotos, Natur|Astrofotos|Mond, Orte|Deutschland, Orte|Deutschland|Bayern, Orte|Deutschland|Bayern|Bayreu th, Orte|Deutschland|Bayern|Bayreu th|Meyernberg |
Highlight Recovery | 100 |
Hyperfocal Distance | 802.33 m |
ISO | 200 |
Image Description | Mond am 29. Juni 2010 um 00:08 Uhr MESZ. |
Image Size | 829x703 |
Lens | TAMRON AF70-300mm F/4-5.6 LD MACRO |
Lens ID | Tamron AF70-300mm F4-5.6 LD Macro |
Lens Info | 70-300mm f/4-5.6 |
Lens Manual Distortion Amount | 0 |
Lens Profile Enable | 0 |
Lens Profile Setup | LensDefaults |
Light Value | 10.9 |
Location | Meyernberg |
Luminance Smoothing | 0 |
Marked | True |
Metering Mode | Multi-segment |
Parametric Darks | -6 |
Parametric Highlight Split | 75 |
Parametric Highlights | 0 |
Parametric Lights | +34 |
Parametric Midtone Split | 50 |
Parametric Shadow Split | 25 |
Parametric Shadows | 0 |
Perspective Horizontal | 0 |
Perspective Rotate | 0.0 |
Perspective Scale | 100 |
Perspective Vertical | 0 |
Post Crop Vignette Amount | 0 |
Primary Chromaticities | 0.64, 0.33, 0.21, 0.71, 0.15, 0.06 |
Process Version | 5.7 |
Red Hue | 0 |
Red Saturation | 0 |
Rights | Copyright 2010 by Tobias Bauer. Alle Rechte vorbehalten |
Saturation | Normal |
Scale Factor To 35 mm Equivalent | 1.5 |
Scene Capture Type | Standard |
Sensing Method | One-chip color area |
Shadow Tint | 0 |
Shadows | 71 |
Sharpen Detail | 25 |
Sharpen Edge Masking | 0 |
Sharpen Radius | +1.0 |
Sharpness | Hard |
Split Toning Balance | 0 |
Split Toning Highlight Hue | 0 |
Split Toning Highlight Saturation | 0 |
Split Toning Shadow Hue | 0 |
Split Toning Shadow Saturation | 0 |
State | Bayern |
Subject | Astrofotos, Bayern, Bayreuth, Deutschland, Meyernberg, Mond |
Subject Distance Range | Distant |
Tint | 0 |
Title | Mond |
Tone Curve | 0, 0, 32, 22, 64, 56, 128, 128, 192, 196, 255, 255 |
Tone Curve Name | Medium Contrast |
Version | 6.1 |
Vignette Amount | 0 |
White Balance | Auto |
White Point | 0.313, 0.329 |
GPS Information |
GPS Altitude | 378 m Above Sea Level |
GPS Altitude Ref | Above Sea Level |
GPS Date Stamp | 2010:06:28 |
GPS Date/Time | 2010:06:28 22:08:11Z |
GPS Latitude | 49 deg 56' 8.54" N |
GPS Latitude Ref | North |
GPS Longitude | 11 deg 32' 11.10" E |
GPS Longitude Ref | East |
GPS Map Datum | WGS-84 |
GPS Position | 49 deg 56' 8.54" N, 11 deg 32' 11.10" E |
GPS Satellites | 0 |
GPS Time Stamp | 22:08:11 |
GPS Version ID | 2.2.0.0 |