Shooting information for this photo
Camera: | PENTAX Corporation PENTAX K200D |
Exposure: | 0.01667 sec. (1/60) |
Aperture: | f/4.5 |
Focal Length: | 180.0 mm (35 mm equivalent: 270.0 mm) |
Flash: | Off, Did not fire |
Exposure mode: | Action (High speed) |
Resolution: | 240 x 240 dpi |
Dimension: | 3872 x 2592 pixels |
Original Date: | 2009:08:08 10:14:19 |
Digitized Date: | 2009:08:08 10:14:19+02:00 |
Created on: | 2009:08:08 10:14:19 |
Modified on: | 2009:08:09 20:32:35 |
Software: | K200D Ver 1.00 |
Copyright: | Copyright 2009 by Tobias Bauer. |
Already Applied | True |
Artist | Tobias Bauer |
Blue Hue | 0 |
Blue Saturation | 0 |
Brightness | +78 |
Camera Profile | Adobe Standard |
Chromatic Aberration B | 0 |
Chromatic Aberration R | 0 |
Circle Of Confusion | 0.020 mm |
City | Nürnberg |
Clarity | 0 |
Color Noise Reduction | 25 |
Color Temperature | 5500 |
Contrast | Normal |
Convert To Grayscale | False |
Country | Deutschland |
Country Code | DEU |
Creator | Tobias Bauer |
Custom Rendered | Normal |
Date Created | 2009:08:08 10:14:19 |
Defringe | 0 |
Exposure | +0.50 |
Exposure Compensation | 0 |
Exposure Mode | Auto |
Field Of View | 7.6 deg |
Fill Light | 0 |
Flash Fired | False |
Flash Function | False |
Flash Mode | Off |
Flash Red Eye Mode | False |
Flash Return | No return detection |
Focal Length In 35mm Format | 270 mm |
Green Hue | 0 |
Green Saturation | 0 |
Has Crop | False |
Has Settings | True |
Highlight Recovery | 100 |
Hue Adjustment Aqua | 0 |
Hue Adjustment Blue | 0 |
Hue Adjustment Green | 0 |
Hue Adjustment Magenta | 0 |
Hue Adjustment Orange | 0 |
Hue Adjustment Purple | 0 |
Hue Adjustment Red | 0 |
Hue Adjustment Yellow | 0 |
Hyperfocal Distance | 359.45 m |
ISO | 200 |
Image Size | 3872x2592 |
Lens | TAMRON AF70-300mm F/4-5.6 LD MACRO |
Lens ID | Tamron AF70-300mm F4-5.6 LD Macro |
Lens Info | 70-300mm f/4-5.6 |
Light Value | 9.2 |
Location | Tiergarten Nürnberg |
Luminance Adjustment Aqua | 0 |
Luminance Adjustment Blue | 0 |
Luminance Adjustment Green | 0 |
Luminance Adjustment Magenta | 0 |
Luminance Adjustment Orange | 0 |
Luminance Adjustment Purple | 0 |
Luminance Adjustment Red | 0 |
Luminance Adjustment Yellow | 0 |
Luminance Smoothing | 0 |
Marked | True |
Metering Mode | Multi-segment |
Parametric Darks | 0 |
Parametric Highlight Split | 75 |
Parametric Highlights | 0 |
Parametric Lights | 0 |
Parametric Midtone Split | 50 |
Parametric Shadow Split | 25 |
Parametric Shadows | 0 |
Post Crop Vignette Amount | 0 |
Primary Chromaticities | 0.64, 0.33, 0.21, 0.71, 0.15, 0.06 |
Red Hue | 0 |
Red Saturation | 0 |
Rights | Copyright 2009 by Tobias Bauer. |
Saturation | Normal |
Saturation Adjustment Aqua | 0 |
Saturation Adjustment Blue | 0 |
Saturation Adjustment Green | 0 |
Saturation Adjustment Magenta | 0 |
Saturation Adjustment Orange | 0 |
Saturation Adjustment Purple | 0 |
Saturation Adjustment Red | 0 |
Saturation Adjustment Yellow | 0 |
Scale Factor To 35 mm Equivalent | 1.5 |
Scene Capture Type | Standard |
Sensing Method | One-chip color area |
Shadow Tint | 0 |
Shadows | 3 |
Sharpen Detail | 25 |
Sharpen Edge Masking | 0 |
Sharpen Radius | +1.0 |
Sharpness | Hard |
Split Toning Balance | 0 |
Split Toning Highlight Hue | 0 |
Split Toning Highlight Saturation | 0 |
Split Toning Shadow Hue | 0 |
Split Toning Shadow Saturation | 0 |
State | Bayern |
Subject | Nürnberg, Zerzabelshof |
Subject Distance Range | Close |
Tint | +10 |
Tone Curve | 0, 0, 32, 22, 64, 56, 128, 128, 192, 196, 255, 255 |
Tone Curve Name | Medium Contrast |
Version | 5.4 |
Vibrance | 0 |
Vignette Amount | 0 |
White Balance | Auto |
White Point | 0.313, 0.329 |
GPS Information |
GPS Altitude | 365 m Above Sea Level |
GPS Altitude Ref | Above Sea Level |
GPS Date Stamp | 2009:08:08 |
GPS Date/Time | 2009:08:08 08:14:19Z |
GPS Latitude | 49 deg 26' 51.50" N |
GPS Latitude Ref | North |
GPS Longitude | 11 deg 8' 55.21" E |
GPS Longitude Ref | East |
GPS Map Datum | WGS-84 |
GPS Position | 49 deg 26' 51.50" N, 11 deg 8' 55.21" E |
GPS Satellites | 0 |
GPS Time Stamp | 08:14:19 |
GPS Version ID | 2.2.0.0 |