Shooting information for this photo
Camera: | PENTAX Corporation PENTAX K200D |
Exposure: | 0.1 sec. (1/10) |
Aperture: | f/4.5 |
Focal Length: | 70.0 mm (35 mm equivalent: 105.0 mm) |
Flash: | Off, Did not fire |
Exposure mode: | Shutter speed priority AE |
Resolution: | 240 x 240 dpi |
Dimension: | 2318 x 1524 pixels |
Original Date: | 2009:06:05 23:31:07 |
Digitized Date: | 2009:06:05 23:31:07+03:00 |
Created on: | 2009:06:05 23:31:07 |
Modified on: | 2009:06:08 21:25:26 |
Software: | K200D Ver 1.00 |
Copyright: | Copyright 2009 by Tobias Bauer. Alle Rechte vorbehalten |
Already Applied | True |
Artist | Tobias Bauer |
Blue Hue | 0 |
Blue Saturation | 0 |
Brightness | +20 |
Camera Profile | Adobe Standard |
Chromatic Aberration B | 0 |
Chromatic Aberration R | 0 |
Circle Of Confusion | 0.020 mm |
Clarity | 0 |
Color Noise Reduction | 25 |
Color Temperature | 3700 |
Contrast | High |
Convert To Grayscale | False |
Country | Rumänien |
Country Code | ROU |
Creator | Tobias Bauer |
Crop Angle | -1.452 |
Crop Bottom | 0.760448 |
Crop Height | 1524 |
Crop Left | 0.140591 |
Crop Right | 0.749089 |
Crop Top | 0.195229 |
Crop Unit | pixels |
Crop Width | 2318 |
Custom Rendered | Normal |
Date Created | 2009:06:05 23:31:07+03:00 |
Defringe | 0 |
Exposure | +4.00 |
Exposure Compensation | 0 |
Exposure Mode | Auto |
Field Of View | 19.5 deg |
Fill Light | 0 |
Flash Fired | False |
Flash Function | False |
Flash Mode | Off |
Flash Red Eye Mode | False |
Flash Return | No return detection |
Focal Length In 35mm Format | 105 mm |
Green Hue | 0 |
Green Saturation | 0 |
Has Crop | True |
Has Settings | True |
Highlight Recovery | 0 |
Hue Adjustment Aqua | 0 |
Hue Adjustment Blue | 0 |
Hue Adjustment Green | 0 |
Hue Adjustment Magenta | 0 |
Hue Adjustment Orange | 0 |
Hue Adjustment Purple | 0 |
Hue Adjustment Red | 0 |
Hue Adjustment Yellow | 0 |
Hyperfocal Distance | 54.36 m |
ISO | 100 |
Image Size | 2318x1524 |
Lens | Sigma or Tamron Lens |
Lens ID | Sigma 17-70mm F2.8-4.5 DC Macro or Tamron 35-90mm F4 AF |
Light Value | 7.7 |
Location | Hunedoara |
Luminance Adjustment Aqua | 0 |
Luminance Adjustment Blue | 0 |
Luminance Adjustment Green | +100 |
Luminance Adjustment Magenta | 0 |
Luminance Adjustment Orange | 0 |
Luminance Adjustment Purple | 0 |
Luminance Adjustment Red | 0 |
Luminance Adjustment Yellow | 0 |
Luminance Smoothing | 0 |
Marked | True |
Metering Mode | Multi-segment |
Parametric Darks | 0 |
Parametric Highlight Split | 75 |
Parametric Highlights | 0 |
Parametric Lights | 0 |
Parametric Midtone Split | 50 |
Parametric Shadow Split | 25 |
Parametric Shadows | 0 |
Post Crop Vignette Amount | 0 |
Primary Chromaticities | 0.64, 0.33, 0.21, 0.71, 0.15, 0.06 |
Red Hue | 0 |
Red Saturation | 0 |
Rights | Copyright 2009 by Tobias Bauer. Alle Rechte vorbehalten |
Saturation | Normal |
Saturation Adjustment Aqua | 0 |
Saturation Adjustment Blue | 0 |
Saturation Adjustment Green | 0 |
Saturation Adjustment Magenta | 0 |
Saturation Adjustment Orange | 0 |
Saturation Adjustment Purple | 0 |
Saturation Adjustment Red | 0 |
Saturation Adjustment Yellow | 0 |
Scale Factor To 35 mm Equivalent | 1.5 |
Scene Capture Type | Standard |
Sensing Method | One-chip color area |
Shadow Tint | 0 |
Shadows | 0 |
Sharpen Detail | 25 |
Sharpen Edge Masking | 0 |
Sharpen Radius | +1.0 |
Sharpness | Hard |
Split Toning Balance | 0 |
Split Toning Highlight Hue | 0 |
Split Toning Highlight Saturation | 0 |
Split Toning Shadow Hue | 0 |
Split Toning Shadow Saturation | 0 |
State | Hunedoara |
Subject | Ausflugsziele, Burg Hunedoara, Ereignisse, Hunedoara, Jagd nach Wissen, Orte, Rumänien, Transilvania |
Subject Distance Range | Distant |
Tint | +15 |
Tone Curve | 0, 0, 32, 16, 64, 50, 128, 128, 192, 202, 255, 255 |
Tone Curve Name | Strong Contrast |
Version | 5.3 |
Vibrance | 0 |
Vignette Amount | 0 |
White Balance | Auto |
White Point | 0.313, 0.329 |
GPS Information |
GPS Altitude | 247 m Above Sea Level |
GPS Altitude Ref | Above Sea Level |
GPS Date Stamp | 2009:06:05 |
GPS Date/Time | 2009:06:05 20:31:07Z |
GPS Latitude | 45 deg 45' 0.11" N |
GPS Latitude Ref | North |
GPS Longitude | 22 deg 53' 17.84" E |
GPS Longitude Ref | East |
GPS Map Datum | WGS-84 |
GPS Position | 45 deg 45' 0.11" N, 22 deg 53' 17.84" E |
GPS Satellites | 0 |
GPS Time Stamp | 20:31:07 |
GPS Version ID | 2.2.0.0 |