Shooting information for this photo
Camera: | PENTAX Corporation PENTAX K200D |
Exposure: | 0.004 sec. (1/250) |
Aperture: | f/9.5 |
Focal Length: | 34.0 mm (35 mm equivalent: 51.0 mm) |
Flash: | Off, Did not fire |
Exposure mode: | Program AE |
Resolution: | 240 x 240 dpi |
Dimension: | 3872 x 2592 pixels |
Original Date: | 2008:09:28 14:40:23 |
Digitized Date: | 2008:09:28 14:40:23+02:00 |
Created on: | 2008:09:28 14:40:23 |
Modified on: | 2008:09:28 17:46:18 |
Software: | K200D Ver 1.00 |
Copyright: | Copyright 2008 by Tobias Bauer. |
Already Applied | True |
Artist | Tobias Bauer |
Blue Hue | 0 |
Blue Saturation | 0 |
Brightness | +46 |
Camera Profile | ACR 4.4 |
Chromatic Aberration B | 0 |
Chromatic Aberration R | 0 |
Circle Of Confusion | 0.020 mm |
City | Kulmbach |
Clarity | 0 |
Color Noise Reduction | 25 |
Color Temperature | 5500 |
Contrast | High |
Convert To Grayscale | False |
Country | Deutschland |
Country Code | DEU |
Creator | Tobias Bauer |
Custom Rendered | Normal |
Defringe | 0 |
Exposure | +0.50 |
Exposure Compensation | 0 |
Exposure Mode | Auto |
Field Of View | 38.9 deg |
Fill Light | 0 |
Flash Fired | False |
Flash Function | False |
Flash Mode | Off |
Flash Red Eye Mode | False |
Flash Return | No return detection |
Focal Length In 35mm Format | 51 mm |
Green Hue | 0 |
Green Saturation | 0 |
Has Crop | False |
Has Settings | True |
Hierarchical Subject | Orte|Ausflugsziele|Plassenburg , Orte|Deutschland, Orte|Deutschland|Bayern, Orte|Deutschland|Bayern|Kulmba ch |
Highlight Recovery | 100 |
Hue Adjustment Aqua | 0 |
Hue Adjustment Blue | 0 |
Hue Adjustment Green | 0 |
Hue Adjustment Magenta | 0 |
Hue Adjustment Orange | 0 |
Hue Adjustment Purple | 0 |
Hue Adjustment Red | 0 |
Hue Adjustment Yellow | 0 |
Hyperfocal Distance | 6.07 m |
ISO | 100 |
Image Size | 3872x2592 |
Lens | Tamron 35-90mm F4 AF or various SIGMA models |
Lens ID | Sigma 17-70mm F2.8-4.5 DC Macro or Sigma 18-50mm F3.5-5.6 DC |
Light Value | 14.5 |
Location | Kulmbach |
Luminance Adjustment Aqua | 0 |
Luminance Adjustment Blue | 0 |
Luminance Adjustment Green | 0 |
Luminance Adjustment Magenta | 0 |
Luminance Adjustment Orange | 0 |
Luminance Adjustment Purple | 0 |
Luminance Adjustment Red | 0 |
Luminance Adjustment Yellow | 0 |
Luminance Smoothing | 0 |
Marked | True |
Metering Mode | Multi-segment |
Parametric Darks | 0 |
Parametric Highlight Split | 75 |
Parametric Highlights | 0 |
Parametric Lights | 0 |
Parametric Midtone Split | 50 |
Parametric Shadow Split | 25 |
Parametric Shadows | 0 |
Post Crop Vignette Amount | 0 |
Red Hue | 0 |
Red Saturation | 0 |
Rights | Copyright 2008 by Tobias Bauer. |
Saturation | Normal |
Saturation Adjustment Aqua | 0 |
Saturation Adjustment Blue | 0 |
Saturation Adjustment Green | 0 |
Saturation Adjustment Magenta | 0 |
Saturation Adjustment Orange | 0 |
Saturation Adjustment Purple | 0 |
Saturation Adjustment Red | 0 |
Saturation Adjustment Yellow | 0 |
Scale Factor To 35 mm Equivalent | 1.5 |
Scene Capture Type | Standard |
Sensing Method | One-chip color area |
Shadow Tint | 0 |
Shadows | 3 |
Sharpen Detail | 25 |
Sharpen Edge Masking | 0 |
Sharpen Radius | +1.0 |
Sharpness | Hard |
Split Toning Balance | 0 |
Split Toning Highlight Hue | 0 |
Split Toning Highlight Saturation | 0 |
Split Toning Shadow Hue | 0 |
Split Toning Shadow Saturation | 0 |
State | Bayern |
Subject | Ausflugsziele, Bayern, Deutschland, Kulmbach, Orte, Plassenburg |
Subject Distance Range | Distant |
Tint | +10 |
Tone Curve | 0, 0, 32, 22, 64, 56, 128, 128, 192, 196, 255, 255 |
Tone Curve Name | Medium Contrast |
Version | 4.5 |
Vibrance | 0 |
Vignette Amount | 0 |
White Balance | Auto |
GPS Information |
GPS Altitude | 313 m Above Sea Level |
GPS Altitude Ref | Above Sea Level |
GPS Date Stamp | 2008:09:28 |
GPS Date/Time | 2008:09:28 12:40:23Z |
GPS Latitude | 50 deg 6' 21.68" N |
GPS Latitude Ref | North |
GPS Longitude | 11 deg 27' 30.83" E |
GPS Longitude Ref | East |
GPS Map Datum | WGS-84 |
GPS Position | 50 deg 6' 21.68" N, 11 deg 27' 30.83" E |
GPS Satellites | 0 |
GPS Time Stamp | 12:40:23 |
GPS Version ID | 2.2.0.0 |