Shooting information for this photo
Camera: | PENTAX Corporation PENTAX K200D |
Exposure: | 0.02222 sec. (1/45) |
Aperture: | f/4.0 |
Focal Length: | 26.0 mm (35 mm equivalent: 39.0 mm) |
Flash: | On, Fired |
Exposure mode: | Portrait |
Resolution: | 240 x 240 dpi |
Dimension: | 3872 x 2592 pixels |
Original Date: | 2008:08:02 13:18:01 |
Digitized Date: | 2008:08:02 13:18:01+02:00 |
Created on: | 2008:08:02 13:18:01 |
Modified on: | 2008:08:03 11:12:20 |
Software: | K200D Ver 1.00 |
Copyright: | Copyright 2008 by Tobias Bauer. |
Already Applied | True |
Artist | Tobias Bauer |
Blue Hue | 0 |
Blue Saturation | 0 |
Brightness | +36 |
Camera Profile | ACR 4.4 |
Chromatic Aberration B | 0 |
Chromatic Aberration R | 0 |
Circle Of Confusion | 0.020 mm |
City | Marktredwitz |
Clarity | 0 |
Color Noise Reduction | 25 |
Color Temperature | 6400 |
Contrast | Normal |
Convert To Grayscale | False |
Country | Deutschland |
Country Code | DEU |
Creator | Tobias Bauer |
Custom Rendered | Normal |
Defringe | 0 |
Exposure | 0.00 |
Exposure Compensation | 0 |
Exposure Mode | Auto |
Field Of View | 49.6 deg |
Fill Light | 0 |
Flash Fired | True |
Flash Function | False |
Flash Mode | On |
Flash Red Eye Mode | False |
Flash Return | No return detection |
Focal Length In 35mm Format | 39 mm |
Green Hue | 0 |
Green Saturation | 0 |
Has Crop | False |
Has Settings | True |
Hierarchical Subject | Ereignisse|FieldDay, Orte|Deutschland, Orte|Deutschland|Bayern, Orte|Deutschland|Bayern|Haingr ün, Orte|Deutschland|Bayern|Marktr edwitz, Personen|Funkamateure|DD1ND, Sonstiges|DARC, Sonstiges|DARC|FieldDay 2008 |
Highlight Recovery | 25 |
Hue Adjustment Aqua | 0 |
Hue Adjustment Blue | 0 |
Hue Adjustment Green | 0 |
Hue Adjustment Magenta | 0 |
Hue Adjustment Orange | 0 |
Hue Adjustment Purple | 0 |
Hue Adjustment Red | 0 |
Hue Adjustment Yellow | 0 |
Hyperfocal Distance | 8.44 m |
ISO | 200 |
Image Size | 3872x2592 |
Lens | smc PENTAX-DA 18-55mm F3.5-5.6 AL |
Lens ID | smc PENTAX-DA 18-55mm F3.5-5.6 AL |
Lens Info | 18-55mm f/3.5-5.6 |
Light Value | 8.5 |
Location | Haingrün |
Luminance Adjustment Aqua | 0 |
Luminance Adjustment Blue | 0 |
Luminance Adjustment Green | 0 |
Luminance Adjustment Magenta | 0 |
Luminance Adjustment Orange | 0 |
Luminance Adjustment Purple | 0 |
Luminance Adjustment Red | 0 |
Luminance Adjustment Yellow | 0 |
Luminance Smoothing | 0 |
Marked | True |
Metering Mode | Multi-segment |
Parametric Darks | 0 |
Parametric Highlight Split | 75 |
Parametric Highlights | 0 |
Parametric Lights | 0 |
Parametric Midtone Split | 50 |
Parametric Shadow Split | 25 |
Parametric Shadows | 0 |
Post Crop Vignette Amount | 0 |
Red Hue | 0 |
Red Saturation | 0 |
Rights | Copyright 2008 by Tobias Bauer. |
Saturation | Normal |
Saturation Adjustment Aqua | 0 |
Saturation Adjustment Blue | 0 |
Saturation Adjustment Green | 0 |
Saturation Adjustment Magenta | 0 |
Saturation Adjustment Orange | 0 |
Saturation Adjustment Purple | 0 |
Saturation Adjustment Red | 0 |
Saturation Adjustment Yellow | 0 |
Scale Factor To 35 mm Equivalent | 1.5 |
Scene Capture Type | Portrait |
Sensing Method | One-chip color area |
Shadow Tint | 0 |
Shadows | 14 |
Sharpen Detail | 25 |
Sharpen Edge Masking | 0 |
Sharpen Radius | +1.0 |
Sharpness | Normal |
Split Toning Balance | 0 |
Split Toning Highlight Hue | 0 |
Split Toning Highlight Saturation | 0 |
Split Toning Shadow Hue | 0 |
Split Toning Shadow Saturation | 0 |
State | Bayern |
Subject | Bayern, DARC, DD1ND, Deutschland, Ereignisse, FieldDay, FieldDay 2008, Funkamateure, Haingrün, Marktredwitz, Personen, Sonstiges |
Subject Distance Range | Close |
Tint | +3 |
Tone Curve | 0, 0, 32, 22, 64, 56, 128, 128, 192, 196, 255, 255 |
Tone Curve Name | Medium Contrast |
Version | 4.5 |
Vibrance | 0 |
Vignette Amount | 0 |
White Balance | Auto |
GPS Information |
GPS Altitude | 628 m Above Sea Level |
GPS Altitude Ref | Above Sea Level |
GPS Date Stamp | 2008:08:02 |
GPS Date/Time | 2008:08:02 11:18:01Z |
GPS Latitude | 50 deg 0' 0.56" N |
GPS Latitude Ref | North |
GPS Longitude | 12 deg 8' 21.77" E |
GPS Longitude Ref | East |
GPS Map Datum | WGS-84 |
GPS Position | 50 deg 0' 0.56" N, 12 deg 8' 21.77" E |
GPS Satellites | 0 |
GPS Time Stamp | 11:18:01 |
GPS Version ID | 2.2.0.0 |