Shooting information for this photo
Camera: | RICOH IMAGING COMPANY, LTD. PENTAX KP |
Exposure: | 0.00017 sec. (1/6000) |
Aperture: | f/8.0 |
Focal Length: | 58.0 mm (35 mm equivalent: 87.0 mm) |
Flash: | Off, Did not fire |
Exposure mode: | Aperture-priority AE |
Resolution: | 72 x 72 dpi |
Dimension: | 1800 x 1197 pixels |
Original Date: | 2021:12:15 08:47:48 |
Digitized Date: | 2021:12:15 08:47:48+11:00 |
Created on: | 2021:12:15 08:47:48 |
Modified on: | 2021:12:15 22:59:19 |
Software: | Adobe Photoshop Elements 9.0 Windows |
Copyright: | Copyright George Cook (Tiabunna) |
Already Applied | True |
Artist | GEORGECOOK |
Auto Lateral CA | 0 |
Blacks 2012 | 0 |
Blue Hue | 0 |
Blue Saturation | 0 |
Camera Profile | Embedded |
Circle Of Confusion | 0.020 mm |
Clarity 2012 | +38 |
Color Mode | RGB |
Color Noise Reduction | 6 |
Color Noise Reduction Detail | 50 |
Color Space | sRGB |
Color Temperature | 4500 |
Contrast | Normal |
Contrast 2012 | +36 |
Convert To Grayscale | False |
Creator | GEORGECOOK |
Crop Angle | 0 |
Crop Bottom | 0.905542 |
Crop Constrain To Warp | 0 |
Crop Height | 3436 |
Crop Left | 0.111745 |
Crop Right | 0.970687 |
Crop Top | 0.0466 |
Crop Unit | pixels |
Crop Width | 5167 |
Custom Rendered | Normal |
Date Created | 2021:12:15 |
Defringe Green Amount | 0 |
Defringe Green Hue Hi | 60 |
Defringe Green Hue Lo | 40 |
Defringe Purple Amount | 0 |
Defringe Purple Hue Hi | 70 |
Defringe Purple Hue Lo | 30 |
Exposure 2012 | +0.71 |
Exposure Compensation | -0.3 |
Exposure Mode | Manual |
Field Of View | 23.4 deg |
Flash Fired | False |
Flash Function | False |
Flash Mode | Off |
Flash Red Eye Mode | False |
Flash Return | No return detection |
Focal Length In 35mm Format | 87 mm |
Format | image/jpeg |
Grain Amount | 0 |
Green Hue | 0 |
Green Saturation | 0 |
Has Crop | True |
Has Settings | True |
Highlights 2012 | 0 |
Hue Adjustment Aqua | 0 |
Hue Adjustment Blue | 0 |
Hue Adjustment Green | 0 |
Hue Adjustment Magenta | 0 |
Hue Adjustment Orange | 0 |
Hue Adjustment Purple | 0 |
Hue Adjustment Red | 0 |
Hue Adjustment Yellow | 0 |
Hyperfocal Distance | 20.99 m |
ICC Profile Name | sRGB IEC61966-2.1 |
ISO | 1600 |
Image Size | 1800x1197 |
Lens | Sigma or Tamron Lens |
Lens ID | Unknown (3 44) |
Lens Manual Distortion Amount | 0 |
Lens Model | Sigma or Tamron Lens |
Lens Profile Enable | 0 |
Lens Profile Setup | LensDefaults |
Light Value | 14.6 |
Luminance Adjustment Aqua | 0 |
Luminance Adjustment Blue | 0 |
Luminance Adjustment Green | 0 |
Luminance Adjustment Magenta | 0 |
Luminance Adjustment Orange | 0 |
Luminance Adjustment Purple | 0 |
Luminance Adjustment Red | 0 |
Luminance Adjustment Yellow | 0 |
Luminance Noise Reduction Contrast | 0 |
Luminance Noise Reduction Detail | 38 |
Luminance Smoothing | 40 |
Marked | True |
Metering Mode | Spot |
Paint Correction Active | true |
Paint Correction Amount | 1.000000 |
Paint Correction Brightness | 0.000000 |
Paint Correction Clarity 2012 | 0.500000 |
Paint Correction Contrast 2012 | 0.095240 |
Paint Correction Defringe | 0.119050 |
Paint Correction Exposure 2012 | 0.023750 |
Paint Correction Highlights 2012 | 0.000000 |
Paint Correction Hue | 10.000000 |
Paint Correction Luminance Noise | -0.238100 |
Paint Correction Mask Center Weight | 0.214349 |
Paint Correction Mask Flow | 0.931000 |
Paint Correction Mask Radius | 0.119243 |
Paint Correction Mask Value | 0.547000 |
Paint Correction Mask What | Mask/Paint |
Paint Correction Moire | 0.119050 |
Paint Correction Saturation | 0.230000 |
Paint Correction Shadows 2012 | 0.047620 |
Paint Correction Sharpness | 0.880950 |
Paint Correction Temperature | 0.000000 |
Paint Correction Tint | -0.023810 |
Paint Correction What | Correction |
Parametric Darks | 0 |
Parametric Highlight Split | 75 |
Parametric Highlights | 0 |
Parametric Lights | 0 |
Parametric Midtone Split | 50 |
Parametric Shadow Split | 25 |
Parametric Shadows | 0 |
Perspective Horizontal | 0 |
Perspective Rotate | 0.0 |
Perspective Scale | 100 |
Perspective Vertical | 0 |
Post Crop Vignette Amount | -19 |
Post Crop Vignette Feather | 50 |
Post Crop Vignette Highlight Contrast | 0 |
Post Crop Vignette Midpoint | 50 |
Post Crop Vignette Roundness | 0 |
Post Crop Vignette Style | 1 |
Process Version | 6.7 |
Red Hue | 0 |
Red Saturation | 0 |
Rights | Copyright George Cook (Tiabunna) |
Saturation | Normal |
Saturation Adjustment Aqua | 0 |
Saturation Adjustment Blue | 0 |
Saturation Adjustment Green | 0 |
Saturation Adjustment Magenta | 0 |
Saturation Adjustment Orange | 0 |
Saturation Adjustment Purple | 0 |
Saturation Adjustment Red | 0 |
Saturation Adjustment Yellow | 0 |
Scale Factor To 35 mm Equivalent | 1.5 |
Scene Capture Type | Standard |
Sensing Method | One-chip color area |
Sensitivity Type | Standard Output Sensitivity |
Shadow Tint | 0 |
Shadows 2012 | +38 |
Sharpen Detail | 25 |
Sharpen Edge Masking | 0 |
Sharpen Radius | +1.5 |
Sharpness | Normal |
Split Toning Balance | 0 |
Split Toning Highlight Hue | 0 |
Split Toning Highlight Saturation | 0 |
Split Toning Shadow Hue | 0 |
Split Toning Shadow Saturation | 0 |
Standard Output Sensitivity | 1600 |
Subject Distance Range | Macro |
Tint | +8 |
Tone Curve Name 2012 | Linear |
Tone Curve PV2012 | 0, 0, 255, 255 |
Tone Curve PV2012 Blue | 0, 0, 255, 255 |
Tone Curve PV2012 Green | 0, 0, 255, 255 |
Tone Curve PV2012 Red | 0, 0, 255, 255 |
Version | 7.1 |
Vibrance | +12 |
Vignette Amount | 0 |
White Balance | Auto |
Whites 2012 | 0 |