Shooting information for this photo
Camera: | RICOH IMAGING COMPANY, LTD. PENTAX KP |
Exposure: | 0.01667 sec. (1/60) |
Aperture: | f/11.0 |
Focal Length: | 100.0 mm (35 mm equivalent: 150.0 mm) |
Flash: | Off, Did not fire |
Exposure mode: | Manual |
Resolution: | 72 x 72 dpi |
Dimension: | 1800 x 1200 pixels |
Original Date: | 2021:04:04 20:45:20 |
Digitized Date: | 2021:04:04 20:45:20Z |
Created on: | 2021:04:04 20:45:20 |
Modified on: | 2021:04:04 11:49:27 |
Software: | Adobe Photoshop Elements 9.0 Windows |
Copyright: | Copyright George Cook (Tiabunna) |
Already Applied | True |
Artist | GEORGECOOK |
Auto Lateral CA | 0 |
Blacks 2012 | -60 |
Blue Hue | 0 |
Blue Saturation | 0 |
Camera Profile | Embedded |
Circle Of Confusion | 0.020 mm |
Clarity 2012 | +31 |
Color Mode | RGB |
Color Noise Reduction | 45 |
Color Noise Reduction Detail | 50 |
Color Space | sRGB |
Color Temperature | 6200 |
Contrast | Normal |
Contrast 2012 | 0 |
Convert To Grayscale | False |
Creator | GEORGECOOK |
Crop Angle | 0.029191 |
Crop Bottom | 0.996246 |
Crop Constrain To Warp | 0 |
Crop Height | 3283 |
Crop Left | 0.1098 |
Crop Right | 0.928155 |
Crop Top | 0.174803 |
Crop Unit | pixels |
Crop Width | 4925 |
Custom Rendered | Normal |
Date Created | 2021:04:04 |
Defringe Green Amount | 0 |
Defringe Green Hue Hi | 60 |
Defringe Green Hue Lo | 40 |
Defringe Purple Amount | 0 |
Defringe Purple Hue Hi | 70 |
Defringe Purple Hue Lo | 30 |
Exposure 2012 | +3.21 |
Exposure Compensation | -1 |
Exposure Mode | Manual |
Field Of View | 13.7 deg |
Flash Fired | False |
Flash Function | False |
Flash Mode | Off |
Flash Red Eye Mode | False |
Flash Return | No return detection |
Focal Length In 35mm Format | 150 mm |
Format | image/jpeg |
Grain Amount | 0 |
Green Hue | 0 |
Green Saturation | 0 |
Has Crop | True |
Has Settings | True |
Highlights 2012 | 0 |
Hue Adjustment Aqua | 0 |
Hue Adjustment Blue | 0 |
Hue Adjustment Green | 0 |
Hue Adjustment Magenta | 0 |
Hue Adjustment Orange | 0 |
Hue Adjustment Purple | 0 |
Hue Adjustment Red | 0 |
Hue Adjustment Yellow | 0 |
Hyperfocal Distance | 45.38 m |
ICC Profile Name | sRGB IEC61966-2.1 |
ISO | 3200 |
Image Size | 1800x1200 |
Lens | smc PENTAX-FA MACRO 100mm F2.8 |
Lens ID | Unknown (5 9) |
Lens Info | 100mm f/2.8 |
Lens Manual Distortion Amount | 0 |
Lens Model | smc PENTAX-FA MACRO 100mm F2.8 |
Lens Profile Enable | 0 |
Lens Profile Setup | LensDefaults |
Light Value | 7.8 |
Luminance Adjustment Aqua | 0 |
Luminance Adjustment Blue | 0 |
Luminance Adjustment Green | 0 |
Luminance Adjustment Magenta | 0 |
Luminance Adjustment Orange | 0 |
Luminance Adjustment Purple | 0 |
Luminance Adjustment Red | 0 |
Luminance Adjustment Yellow | 0 |
Luminance Noise Reduction Contrast | 0 |
Luminance Noise Reduction Detail | 50 |
Luminance Smoothing | 65 |
Metering Mode | Center-weighted average |
Paint Correction Active | true |
Paint Correction Amount | 1.000000 |
Paint Correction Brightness | 0.000000 |
Paint Correction Clarity 2012 | 0.057470 |
Paint Correction Contrast 2012 | 0.494250 |
Paint Correction Defringe | 0.000000 |
Paint Correction Exposure 2012 | 0.195500 |
Paint Correction Highlights 2012 | -0.057470 |
Paint Correction Hue | 0.000000 |
Paint Correction Luminance Noise | 0.000000 |
Paint Correction Mask Center Weight | 0.214349 |
Paint Correction Mask Flow | 0.931000 |
Paint Correction Mask Radius | 0.108174 |
Paint Correction Mask Value | 0.547000 |
Paint Correction Mask What | Mask/Paint |
Paint Correction Moire | 0.000000 |
Paint Correction Saturation | 0.000000 |
Paint Correction Shadows 2012 | 0.724140 |
Paint Correction Sharpness | 0.862070 |
Paint Correction Temperature | 0.103450 |
Paint Correction Tint | -0.172410 |
Paint Correction What | Correction |
Parametric Darks | 0 |
Parametric Highlight Split | 75 |
Parametric Highlights | 0 |
Parametric Lights | 0 |
Parametric Midtone Split | 50 |
Parametric Shadow Split | 25 |
Parametric Shadows | 0 |
Perspective Horizontal | 0 |
Perspective Rotate | 0.0 |
Perspective Scale | 100 |
Perspective Vertical | 0 |
Post Crop Vignette Amount | 0 |
Process Version | 6.7 |
Red Hue | 0 |
Red Saturation | 0 |
Rights | Copyright George Cook (Tiabunna) |
Saturation | Normal |
Saturation Adjustment Aqua | 0 |
Saturation Adjustment Blue | 0 |
Saturation Adjustment Green | 0 |
Saturation Adjustment Magenta | 0 |
Saturation Adjustment Orange | 0 |
Saturation Adjustment Purple | 0 |
Saturation Adjustment Red | 0 |
Saturation Adjustment Yellow | 0 |
Scale Factor To 35 mm Equivalent | 1.5 |
Scene Capture Type | Standard |
Sensing Method | One-chip color area |
Sensitivity Type | Standard Output Sensitivity |
Shadow Tint | 0 |
Shadows 2012 | 0 |
Sharpen Detail | 25 |
Sharpen Edge Masking | 0 |
Sharpen Radius | +1.6 |
Sharpness | Normal |
Split Toning Balance | 0 |
Split Toning Highlight Hue | 0 |
Split Toning Highlight Saturation | 0 |
Split Toning Shadow Hue | 0 |
Split Toning Shadow Saturation | 0 |
Standard Output Sensitivity | 3200 |
Subject Distance Range | Macro |
Tint | -1 |
Tone Curve Name 2012 | Linear |
Tone Curve PV2012 | 0, 0, 255, 255 |
Tone Curve PV2012 Blue | 0, 0, 255, 255 |
Tone Curve PV2012 Green | 0, 0, 255, 255 |
Tone Curve PV2012 Red | 0, 0, 255, 255 |
Version | 7.1 |
Vibrance | -31 |
Vignette Amount | 0 |
White Balance | Auto |
Whites 2012 | 0 |