Shooting information for this photo
Camera: | RICOH IMAGING COMPANY, LTD. PENTAX KP |
Exposure: | 0.004 sec. (1/250) |
Aperture: | f/9.0 |
Focal Length: | 18.0 mm (35 mm equivalent: 27.0 mm) |
Flash: | Off, Did not fire |
Exposure mode: | Aperture-priority AE |
Resolution: | 72 x 72 dpi |
Dimension: | 1783 x 1188 pixels |
Original Date: | 2021:03:27 09:54:53 |
Digitized Date: | 2021:03:27 09:54:53Z |
Created on: | 2021:03:27 09:54:53 |
Modified on: | 2021:03:28 03:18:46 |
Software: | Adobe Photoshop Elements 9.0 Windows |
Copyright: | Copyright George Cook (Tiabunna) |
Already Applied | True |
Artist | GEORGECOOK |
Auto Lateral CA | 0 |
Blacks 2012 | 0 |
Blue Hue | 0 |
Blue Saturation | 0 |
Camera Profile | Embedded |
Circle Of Confusion | 0.020 mm |
Clarity 2012 | 0 |
Color Mode | RGB |
Color Noise Reduction | 0 |
Color Space | sRGB |
Contrast | High |
Contrast 2012 | 0 |
Convert To Grayscale | False |
Creator | GEORGECOOK |
Custom Rendered | Normal |
Date Created | 2021:03:27 |
Defringe Green Amount | 0 |
Defringe Green Hue Hi | 60 |
Defringe Green Hue Lo | 40 |
Defringe Purple Amount | 0 |
Defringe Purple Hue Hi | 70 |
Defringe Purple Hue Lo | 30 |
Exposure 2012 | 0.00 |
Exposure Compensation | -0.3 |
Exposure Mode | Manual |
Field Of View | 67.4 deg |
Flash Fired | False |
Flash Function | False |
Flash Mode | Off |
Flash Red Eye Mode | False |
Flash Return | No return detection |
Focal Length In 35mm Format | 27 mm |
Format | image/jpeg |
Grain Amount | 0 |
Green Hue | 0 |
Green Saturation | 0 |
Has Crop | False |
Has Settings | True |
Highlights 2012 | 0 |
Hue Adjustment Aqua | 0 |
Hue Adjustment Blue | 0 |
Hue Adjustment Green | 0 |
Hue Adjustment Magenta | 0 |
Hue Adjustment Orange | 0 |
Hue Adjustment Purple | 0 |
Hue Adjustment Red | 0 |
Hue Adjustment Yellow | 0 |
Hyperfocal Distance | 1.80 m |
ICC Profile Name | sRGB IEC61966-2.1 |
ISO | 100 |
Image Size | 1783x1188 |
Incremental Temperature | 0 |
Incremental Tint | 0 |
Lens | smc PENTAX-DA 18-55mm F3.5-5.6 AL WR |
Lens ID | Unknown (7 218) |
Lens Info | 18-55mm f/3.5-5.6 |
Lens Manual Distortion Amount | +17 |
Lens Model | smc PENTAX-DA 18-55mm F3.5-5.6 AL WR |
Lens Profile Enable | 0 |
Lens Profile Setup | Auto |
Light Value | 14.3 |
Luminance Adjustment Aqua | 0 |
Luminance Adjustment Blue | 0 |
Luminance Adjustment Green | 0 |
Luminance Adjustment Magenta | 0 |
Luminance Adjustment Orange | 0 |
Luminance Adjustment Purple | 0 |
Luminance Adjustment Red | 0 |
Luminance Adjustment Yellow | 0 |
Luminance Smoothing | 0 |
Metering Mode | Center-weighted average |
Paint Correction Active | true |
Paint Correction Amount | 1.000000 |
Paint Correction Brightness | 0.000000 |
Paint Correction Clarity 2012 | 0.402300 |
Paint Correction Contrast 2012 | 0.000000 |
Paint Correction Defringe | 0.000000 |
Paint Correction Exposure 2012 | 0.057500 |
Paint Correction Highlights 2012 | 0.000000 |
Paint Correction Hue | 0.000000 |
Paint Correction Luminance Noise | 0.000000 |
Paint Correction Mask Center Weight | 0.214349 |
Paint Correction Mask Flow | 0.931000 |
Paint Correction Mask Radius | 0.025785 |
Paint Correction Mask Value | 0.547000 |
Paint Correction Mask What | Mask/Paint |
Paint Correction Moire | 0.000000 |
Paint Correction Saturation | 0.000000 |
Paint Correction Shadows 2012 | 0.816090 |
Paint Correction Sharpness | 0.310340 |
Paint Correction Temperature | 0.103450 |
Paint Correction Tint | -0.172410 |
Paint Correction What | Correction |
Parametric Darks | 0 |
Parametric Highlight Split | 75 |
Parametric Highlights | 0 |
Parametric Lights | 0 |
Parametric Midtone Split | 50 |
Parametric Shadow Split | 25 |
Parametric Shadows | 0 |
Perspective Horizontal | 0 |
Perspective Rotate | 0.0 |
Perspective Scale | 104 |
Perspective Vertical | 0 |
Post Crop Vignette Amount | 0 |
Process Version | 6.7 |
Red Hue | 0 |
Red Saturation | 0 |
Rights | Copyright George Cook (Tiabunna) |
Saturation | Normal |
Saturation Adjustment Aqua | 0 |
Saturation Adjustment Blue | 0 |
Saturation Adjustment Green | 0 |
Saturation Adjustment Magenta | 0 |
Saturation Adjustment Orange | 0 |
Saturation Adjustment Purple | 0 |
Saturation Adjustment Red | 0 |
Saturation Adjustment Yellow | 0 |
Scale Factor To 35 mm Equivalent | 1.5 |
Scene Capture Type | Standard |
Sensing Method | One-chip color area |
Sensitivity Type | Standard Output Sensitivity |
Shadow Tint | 0 |
Shadows 2012 | 0 |
Sharpen Detail | 25 |
Sharpen Edge Masking | 0 |
Sharpen Radius | +1.0 |
Sharpness | Hard |
Split Toning Balance | 0 |
Split Toning Highlight Hue | 0 |
Split Toning Highlight Saturation | 0 |
Split Toning Shadow Hue | 0 |
Split Toning Shadow Saturation | 0 |
Standard Output Sensitivity | 100 |
Subject Distance Range | Close |
Tone Curve Name 2012 | Linear |
Tone Curve PV2012 | 0, 0, 255, 255 |
Tone Curve PV2012 Blue | 0, 0, 255, 255 |
Tone Curve PV2012 Green | 0, 0, 255, 255 |
Tone Curve PV2012 Red | 0, 0, 255, 255 |
Version | 7.1 |
Vibrance | 0 |
Vignette Amount | 0 |
White Balance | Auto |
Whites 2012 | 0 |