Shooting information for this photo
Camera: | RICOH IMAGING COMPANY, LTD. PENTAX K-1 |
Exposure: | 0.03333 sec. (1/30) |
Aperture: | f/10.0 |
Focal Length: | 105.0 mm (35 mm equivalent: 105.0 mm) |
Flash: | Off, Did not fire |
Exposure mode: | Aperture-priority AE |
Resolution: | 72 x 72 dpi |
Dimension: | 1500 x 1000 pixels |
Original Date: | 2020:08:25 13:35:05 |
Digitized Date: | 2020:08:25 13:35:05Z |
Created on: | 2020:08:25 13:35:05 |
Modified on: | 2020:09:01 06:13:30 |
Software: | Adobe Photoshop Elements 9.0 Windows |
Copyright: | George Cook (Tiabunna) |
Already Applied | True |
Artist | George Cook "Tiabunna" |
Auto Lateral CA | 1 |
Blacks 2012 | -52 |
Blue Hue | 0 |
Blue Saturation | 0 |
Camera Profile | Embedded |
Circle Of Confusion | 0.030 mm |
Clarity 2012 | +36 |
Color Mode | RGB |
Color Noise Reduction | 0 |
Color Space | sRGB |
Contrast | Normal |
Contrast 2012 | +21 |
Convert To Grayscale | False |
Creator | George Cook "Tiabunna" |
Crop Angle | 0 |
Crop Bottom | 0.967188 |
Crop Constrain To Warp | 0 |
Crop Height | 4347 |
Crop Left | 0 |
Crop Right | 1 |
Crop Top | 0.032812 |
Crop Unit | pixels |
Crop Width | 6513 |
Custom Rendered | Normal |
Date Created | 2020:08:25 |
Defringe Green Amount | 0 |
Defringe Green Hue Hi | 76 |
Defringe Green Hue Lo | 40 |
Defringe Purple Amount | 5 |
Defringe Purple Hue Hi | 70 |
Defringe Purple Hue Lo | 30 |
Exposure 2012 | +0.36 |
Exposure Compensation | -0.7 |
Exposure Mode | Manual |
Field Of View | 19.5 deg |
Flash Fired | False |
Flash Function | False |
Flash Mode | Off |
Flash Red Eye Mode | False |
Flash Return | No return detection |
Focal Length In 35mm Format | 105 mm |
Format | image/jpeg |
Grain Amount | 0 |
Green Hue | 0 |
Green Saturation | 0 |
Has Crop | True |
Has Settings | True |
Highlights 2012 | +2 |
Hue Adjustment Aqua | 0 |
Hue Adjustment Blue | 0 |
Hue Adjustment Green | 0 |
Hue Adjustment Magenta | 0 |
Hue Adjustment Orange | 0 |
Hue Adjustment Purple | 0 |
Hue Adjustment Red | 0 |
Hue Adjustment Yellow | 0 |
Hyperfocal Distance | 36.69 m |
ICC Profile Name | sRGB IEC61966-2.1 |
ISO | 100 |
Image Size | 1500x1000 |
Incremental Temperature | 0 |
Incremental Tint | 0 |
Lens | smc PENTAX-F 35-105mm F4-5.6 |
Lens ID | Unknown (3 25) |
Lens Info | 35-105mm f/4-5.6 |
Lens Manual Distortion Amount | 0 |
Lens Model | smc PENTAX-F 35-105mm F4-5.6 |
Lens Profile Chromatic Aberration Scale | 100 |
Lens Profile Distortion Scale | 100 |
Lens Profile Enable | 1 |
Lens Profile Filename | Canon (Tokina AT-X 16-28 F2.8 PRO FX) - RAW.lcp |
Lens Profile Name | Adobe (Tokina AT-X 16-28 F2.8 PRO FX, Canon) |
Lens Profile Setup | Custom |
Lens Profile Vignetting Scale | 100 |
Light Value | 11.6 |
Luminance Adjustment Aqua | 0 |
Luminance Adjustment Blue | 0 |
Luminance Adjustment Green | 0 |
Luminance Adjustment Magenta | 0 |
Luminance Adjustment Orange | 0 |
Luminance Adjustment Purple | 0 |
Luminance Adjustment Red | 0 |
Luminance Adjustment Yellow | 0 |
Luminance Noise Reduction Contrast | 0 |
Luminance Noise Reduction Detail | 50 |
Luminance Smoothing | 45 |
Marked | True |
Metering Mode | Center-weighted average |
Parametric Darks | 0 |
Parametric Highlight Split | 75 |
Parametric Highlights | 0 |
Parametric Lights | 0 |
Parametric Midtone Split | 50 |
Parametric Shadow Split | 25 |
Parametric Shadows | 0 |
Perspective Horizontal | 0 |
Perspective Rotate | 0.0 |
Perspective Scale | 100 |
Perspective Vertical | 0 |
Post Crop Vignette Amount | 0 |
Process Version | 6.7 |
Red Hue | 0 |
Red Saturation | 0 |
Rights | George Cook (Tiabunna) |
Saturation | Normal |
Saturation Adjustment Aqua | 0 |
Saturation Adjustment Blue | 0 |
Saturation Adjustment Green | 0 |
Saturation Adjustment Magenta | 0 |
Saturation Adjustment Orange | 0 |
Saturation Adjustment Purple | 0 |
Saturation Adjustment Red | 0 |
Saturation Adjustment Yellow | 0 |
Scale Factor To 35 mm Equivalent | 1.0 |
Scene Capture Type | Standard |
Sensing Method | One-chip color area |
Sensitivity Type | Standard Output Sensitivity |
Shadow Tint | 0 |
Shadows 2012 | +33 |
Sharpen Detail | 25 |
Sharpen Edge Masking | 0 |
Sharpen Radius | +1.8 |
Sharpness | Normal |
Split Toning Balance | 0 |
Split Toning Highlight Hue | 0 |
Split Toning Highlight Saturation | 0 |
Split Toning Shadow Hue | 0 |
Split Toning Shadow Saturation | 0 |
Standard Output Sensitivity | 100 |
Subject Distance Range | Distant |
Tone Curve Name 2012 | Linear |
Tone Curve PV2012 | 0, 0, 255, 255 |
Tone Curve PV2012 Blue | 0, 0, 255, 255 |
Tone Curve PV2012 Green | 0, 0, 255, 255 |
Tone Curve PV2012 Red | 0, 0, 255, 255 |
Version | 7.1 |
Vibrance | +12 |
Vignette Amount | 0 |
White Balance | Auto |
Whites 2012 | 0 |