Shooting information for this photo
Camera: | PENTAX Corporation PENTAX K10D |
Exposure: | 0.02222 sec. (1/45) |
Aperture: | f/2.8 |
Focal Length: | 17.0 mm (35 mm equivalent: 25.0 mm) |
Flash: | Off, Did not fire |
Exposure mode: | Manual |
Resolution: | 100 x 100 dpi |
Dimension: | 1734 x 1793 pixels |
Original Date: | 2011:09:10 16:10:18 |
Digitized Date: | 2016:06:14 13:24:49Z |
Created on: | 2016:06:14 13:24:49 |
Modified on: | 2020:05:18 13:29:21 |
Software: | Adobe Photoshop Elements 9.0 Windows |
Copyright: | Copyright George Cook "Tiabunna" |
Already Applied | True |
Artist | George Cook |
Auto Lateral CA | 0 |
Blacks 2012 | -71 |
Blue Hue | 0 |
Blue Saturation | 0 |
Camera Profile | Embedded |
Caption Writer | Sigma 17-70 |
Circle Of Confusion | 0.020 mm |
Clarity 2012 | +36 |
Color Mode | RGB |
Color Noise Reduction | 25 |
Color Noise Reduction Detail | 50 |
Color Space | sRGB |
Contrast | High |
Contrast 2012 | +26 |
Convert To Grayscale | False |
Creator | George Cook |
Custom Rendered | Normal |
Date Created | 2011:09:10 |
Defringe Green Amount | 0 |
Defringe Green Hue Hi | 60 |
Defringe Green Hue Lo | 40 |
Defringe Purple Amount | 0 |
Defringe Purple Hue Hi | 70 |
Defringe Purple Hue Lo | 30 |
Description | Stitched panorama vertically. |
Exposure 2012 | +0.24 |
Exposure Compensation | 0 |
Exposure Mode | Manual |
Field Of View | 71.5 deg |
Flash Fired | False |
Flash Function | False |
Flash Mode | Off |
Flash Red Eye Mode | False |
Flash Return | No return detection |
Focal Length In 35mm Format | 25 mm |
Format | image/jpeg |
Grain Amount | 0 |
Green Hue | 0 |
Green Saturation | 0 |
Has Crop | False |
Has Settings | True |
Highlights 2012 | -7 |
Hue Adjustment Aqua | 0 |
Hue Adjustment Blue | 0 |
Hue Adjustment Green | 0 |
Hue Adjustment Magenta | 0 |
Hue Adjustment Orange | 0 |
Hue Adjustment Purple | 0 |
Hue Adjustment Red | 0 |
Hue Adjustment Yellow | 0 |
Hyperfocal Distance | 5.05 m |
ICC Profile Name | sRGB IEC61966-2.1 |
ISO | 400 |
Image Description | Stitched panorama vertically. |
Image Size | 1734x1793 |
Incremental Temperature | 0 |
Incremental Tint | 0 |
Lens | SIGMA 18-50mm F3.5-5.6 DC |
Lens ID | Sigma 18-50mm F3.5-5.6 DC |
Lens Info | 18-50mm f/3.5-5.6 |
Lens Manual Distortion Amount | 0 |
Lens Model | SIGMA 18-50mm F3.5-5.6 DC |
Lens Profile Enable | 0 |
Lens Profile Setup | LensDefaults |
Light Value | 6.5 |
Luminance Adjustment Aqua | 0 |
Luminance Adjustment Blue | 0 |
Luminance Adjustment Green | 0 |
Luminance Adjustment Magenta | 0 |
Luminance Adjustment Orange | 0 |
Luminance Adjustment Purple | 0 |
Luminance Adjustment Red | 0 |
Luminance Adjustment Yellow | 0 |
Luminance Noise Reduction Contrast | 0 |
Luminance Noise Reduction Detail | 50 |
Luminance Smoothing | 43 |
Marked | True |
Metering Mode | Multi-segment |
Parametric Darks | 0 |
Parametric Highlight Split | 75 |
Parametric Highlights | 0 |
Parametric Lights | 0 |
Parametric Midtone Split | 50 |
Parametric Shadow Split | 25 |
Parametric Shadows | 0 |
Perspective Horizontal | 0 |
Perspective Rotate | 0.0 |
Perspective Scale | 100 |
Perspective Vertical | 0 |
Post Crop Vignette Amount | 0 |
Process Version | 6.7 |
Red Hue | 0 |
Red Saturation | 0 |
Rights | Copyright George Cook "Tiabunna" |
Saturation | High |
Saturation Adjustment Aqua | 0 |
Saturation Adjustment Blue | 0 |
Saturation Adjustment Green | 0 |
Saturation Adjustment Magenta | 0 |
Saturation Adjustment Orange | 0 |
Saturation Adjustment Purple | 0 |
Saturation Adjustment Red | 0 |
Saturation Adjustment Yellow | 0 |
Scale Factor To 35 mm Equivalent | 1.5 |
Scene Capture Type | Standard |
Sensing Method | One-chip color area |
Shadow Tint | 0 |
Shadows 2012 | +55 |
Sharpen Detail | 25 |
Sharpen Edge Masking | 0 |
Sharpen Radius | +1.8 |
Sharpness | Normal |
Split Toning Balance | 0 |
Split Toning Highlight Hue | 0 |
Split Toning Highlight Saturation | 0 |
Split Toning Shadow Hue | 0 |
Split Toning Shadow Saturation | 0 |
Subject | Laos, Panoramas |
Subject Distance Range | Close |
Tone Curve Name 2012 | Linear |
Tone Curve PV2012 | 0, 0, 255, 255 |
Tone Curve PV2012 Blue | 0, 0, 255, 255 |
Tone Curve PV2012 Green | 0, 0, 255, 255 |
Tone Curve PV2012 Red | 0, 0, 255, 255 |
Version | 7.1 |
Vibrance | +17 |
Vignette Amount | 0 |
White Balance | Auto |
Whites 2012 | 0 |
GPS Information |
GPS Latitude | 0 deg 0' 0.00" N |
GPS Latitude Ref | North |
GPS Longitude | 0 deg 0' 0.00" E |
GPS Longitude Ref | East |
GPS Position | 0 deg 0' 0.00" N, 0 deg 0' 0.00" E |