Shooting information for this photo
Camera: | RICOH IMAGING COMPANY, LTD. PENTAX K-1 |
Exposure: | 0.00156 sec. (1/640) |
Focal Length: | 200.0 mm (35 mm equivalent: 200.0 mm) |
Flash: | Off, Did not fire |
Exposure mode: | Manual |
Resolution: | 72 x 72 dpi |
Dimension: | 1500 x 1000 pixels |
Original Date: | 2019:10:11 12:41:47 |
Digitized Date: | 2019:10:11 12:41:47Z |
Created on: | 2019:10:11 12:41:47 |
Modified on: | 2019:10:16 11:56:07 |
Software: | Adobe Photoshop Elements 9.0 Windows |
Copyright: | George Cook (Tiabunna) |
Already Applied | True |
Artist | George Cook "Tiabunna" |
Auto Lateral CA | 1 |
Blacks 2012 | -48 |
Blue Hue | 0 |
Blue Saturation | 0 |
Camera Profile | Embedded |
Circle Of Confusion | 0.030 mm |
Clarity 2012 | +45 |
Color Mode | RGB |
Color Noise Reduction | 37 |
Color Noise Reduction Detail | 50 |
Color Space | Uncalibrated |
Color Temperature | 4950 |
Contrast | Normal |
Contrast 2012 | 0 |
Convert To Grayscale | False |
Creator | George Cook "Tiabunna" |
Crop Angle | 0 |
Crop Bottom | 0.633081 |
Crop Constrain To Warp | 0 |
Crop Height | 3079 |
Crop Left | 0.157201 |
Crop Right | 0.783967 |
Crop Top | 0.006315 |
Crop Unit | pixels |
Crop Width | 4613 |
Custom Rendered | Normal |
Date Created | 2019:10:11 |
Defringe Green Amount | 0 |
Defringe Green Hue Hi | 83 |
Defringe Green Hue Lo | 40 |
Defringe Purple Amount | 3 |
Defringe Purple Hue Hi | 70 |
Defringe Purple Hue Lo | 30 |
Exposure 2012 | +1.43 |
Exposure Compensation | -0.7 |
Exposure Mode | Manual |
Field Of View | 10.3 deg |
Flash Fired | False |
Flash Function | False |
Flash Mode | Off |
Flash Red Eye Mode | False |
Flash Return | No return detection |
Focal Length In 35mm Format | 200 mm |
Format | image/jpeg |
Grain Amount | 0 |
Green Hue | 0 |
Green Saturation | 0 |
Has Crop | True |
Has Settings | True |
Highlights 2012 | -38 |
Hue Adjustment Aqua | 0 |
Hue Adjustment Blue | 0 |
Hue Adjustment Green | 0 |
Hue Adjustment Magenta | 0 |
Hue Adjustment Orange | 0 |
Hue Adjustment Purple | 0 |
Hue Adjustment Red | 0 |
Hue Adjustment Yellow | 0 |
ISO | 800 |
Image Size | 1500x1000 |
Lens | K or M Lens |
Lens ID | Unknown (1 0) |
Lens Manual Distortion Amount | 0 |
Lens Model | K or M Lens |
Lens Profile Enable | 0 |
Lens Profile Setup | LensDefaults |
Luminance Adjustment Aqua | 0 |
Luminance Adjustment Blue | 0 |
Luminance Adjustment Green | 0 |
Luminance Adjustment Magenta | 0 |
Luminance Adjustment Orange | 0 |
Luminance Adjustment Purple | 0 |
Luminance Adjustment Red | 0 |
Luminance Adjustment Yellow | 0 |
Luminance Noise Reduction Contrast | 0 |
Luminance Noise Reduction Detail | 33 |
Luminance Smoothing | 49 |
Marked | True |
Metering Mode | Center-weighted average |
Paint Correction Active | true |
Paint Correction Amount | 1.000000 |
Paint Correction Brightness | 0.000000 |
Paint Correction Clarity 2012 | 0.357140 |
Paint Correction Contrast 2012 | 0.285710 |
Paint Correction Defringe | 0.000000 |
Paint Correction Exposure 2012 | -0.071500 |
Paint Correction Highlights 2012 | 0.428570 |
Paint Correction Hue | 0.000000 |
Paint Correction Luminance Noise | 0.000000 |
Paint Correction Mask Center Weight | 0.177984 |
Paint Correction Mask Flow | 0.482000 |
Paint Correction Mask Radius | 0.009010 |
Paint Correction Mask Value | 0.767000 |
Paint Correction Mask What | Mask/Paint |
Paint Correction Moire | 0.000000 |
Paint Correction Saturation | 0.000000 |
Paint Correction Shadows 2012 | 0.523810 |
Paint Correction Sharpness | 0.166670 |
Paint Correction Temperature | 0.023810 |
Paint Correction Tint | 0.000000 |
Paint Correction What | Correction |
Parametric Darks | 0 |
Parametric Highlight Split | 75 |
Parametric Highlights | 0 |
Parametric Lights | 0 |
Parametric Midtone Split | 50 |
Parametric Shadow Split | 25 |
Parametric Shadows | 0 |
Perspective Horizontal | 0 |
Perspective Rotate | 0.0 |
Perspective Scale | 100 |
Perspective Vertical | 0 |
Post Crop Vignette Amount | 0 |
Process Version | 6.7 |
Red Hue | 0 |
Red Saturation | 0 |
Rights | George Cook (Tiabunna) |
Saturation | Normal |
Saturation Adjustment Aqua | 0 |
Saturation Adjustment Blue | 0 |
Saturation Adjustment Green | 0 |
Saturation Adjustment Magenta | 0 |
Saturation Adjustment Orange | 0 |
Saturation Adjustment Purple | 0 |
Saturation Adjustment Red | 0 |
Saturation Adjustment Yellow | 0 |
Scale Factor To 35 mm Equivalent | 1.0 |
Scene Capture Type | Standard |
Sensing Method | One-chip color area |
Sensitivity Type | Standard Output Sensitivity |
Shadow Tint | 0 |
Shadows 2012 | +19 |
Sharpen Detail | 25 |
Sharpen Edge Masking | 0 |
Sharpen Radius | +2.7 |
Sharpness | Normal |
Split Toning Balance | 0 |
Split Toning Highlight Hue | 0 |
Split Toning Highlight Saturation | 0 |
Split Toning Shadow Hue | 0 |
Split Toning Shadow Saturation | 0 |
Standard Output Sensitivity | 800 |
Subject Distance Range | Distant |
Tint | -13 |
Tone Curve Name 2012 | Linear |
Tone Curve PV2012 | 0, 0, 255, 255 |
Tone Curve PV2012 Blue | 0, 0, 255, 255 |
Tone Curve PV2012 Green | 0, 0, 255, 255 |
Tone Curve PV2012 Red | 0, 0, 255, 255 |
Version | 7.1 |
Vibrance | +7 |
Vignette Amount | 0 |
White Balance | Manual |
Whites 2012 | -19 |