Shooting information for this photo
Camera: | RICOH IMAGING COMPANY, LTD. PENTAX K-1 |
Exposure: | 0.025 sec. (1/40) |
Aperture: | f/13.0 |
Focal Length: | 100.0 mm (35 mm equivalent: 100.0 mm) |
Flash: | Off, Did not fire |
Exposure mode: | Not Defined |
Resolution: | 72 x 72 dpi |
Dimension: | 1001 x 1500 pixels |
Original Date: | 2017:09:03 22:12:42 |
Digitized Date: | 2017:09:03 22:12:42+01:00 |
Created on: | 2017:09:03 22:12:42 |
Modified on: | 2017:09:05 13:03:56 |
Software: | Adobe Photoshop Elements 6.0 Windows |
Copyright: | Copyright George Cook (Tiabunna) |
Already Applied | True |
Artist | George_Cook |
Auto Lateral CA | 1 |
Blacks 2012 | 0 |
Blue Hue | 0 |
Blue Saturation | 0 |
Camera Profile | Embedded |
Caption Writer | SMC Pentax-FA Macro 1:2.8 100mm |
Circle Of Confusion | 0.030 mm |
Clarity 2012 | +50 |
Color Mode | RGB |
Color Noise Reduction | 25 |
Color Noise Reduction Detail | 50 |
Color Space | sRGB |
Color Temperature | 4749 |
Contrast | High |
Contrast 2012 | +20 |
Convert To Grayscale | False |
Creator | George_Cook |
Crop Angle | -1.8057 |
Crop Bottom | 0.779888 |
Crop Constrain To Warp | 0 |
Crop Height | 2505 |
Crop Left | 0.24023 |
Crop Right | 0.760662 |
Crop Top | 0.294257 |
Crop Unit | pixels |
Crop Width | 3753 |
Custom Rendered | Normal |
Date Created | 2017:09:03 |
Defringe Green Amount | 0 |
Defringe Green Hue Hi | 60 |
Defringe Green Hue Lo | 40 |
Defringe Purple Amount | 0 |
Defringe Purple Hue Hi | 70 |
Defringe Purple Hue Lo | 30 |
Exposure 2012 | -0.26 |
Exposure Compensation | -0.3 |
Exposure Mode | Manual |
Field Of View | 20.4 deg |
Flash Fired | False |
Flash Function | False |
Flash Mode | Off |
Flash Red Eye Mode | False |
Flash Return | No return detection |
Focal Length In 35mm Format | 100 mm |
Format | image/jpeg |
Gradient Based Corr Active | true |
Gradient Based Corr Amount | 1.000000 |
Gradient Based Corr Brightness | 0.000000 |
Gradient Based Corr Clarity 2012 | 0.000000 |
Gradient Based Corr Contrast 2012 | 0.684210 |
Gradient Based Corr Defringe | 0.000000 |
Gradient Based Corr Exposure 2012 | -0.286500 |
Gradient Based Corr Highlights 2012 | 0.637430 |
Gradient Based Corr Hue | 229.000000 |
Gradient Based Corr Luminance Noise | 0.000000 |
Gradient Based Corr Mask Full X | 0.442888 |
Gradient Based Corr Mask Full Y | 0.716349 |
Gradient Based Corr Mask Value | 1.000000 |
Gradient Based Corr Mask What | Mask/Gradient |
Gradient Based Corr Mask Zero X | 0.442038 |
Gradient Based Corr Mask Zero Y | 0.624716 |
Gradient Based Corr Moire | 0.000000 |
Gradient Based Corr Saturation | 0.040000 |
Gradient Based Corr Shadows 2012 | 0.274850 |
Gradient Based Corr Sharpness | -0.777780 |
Gradient Based Corr Temperature | 0.052630 |
Gradient Based Corr Tint | 0.111110 |
Gradient Based Corr What | Correction |
Grain Amount | 0 |
Green Hue | 0 |
Green Saturation | 0 |
Has Crop | True |
Has Settings | True |
Highlights 2012 | -43 |
Hue Adjustment Aqua | 0 |
Hue Adjustment Blue | 0 |
Hue Adjustment Green | 0 |
Hue Adjustment Magenta | 0 |
Hue Adjustment Orange | 0 |
Hue Adjustment Purple | 0 |
Hue Adjustment Red | 0 |
Hue Adjustment Yellow | 0 |
Hyperfocal Distance | 25.60 m |
ICC Profile Name | sRGB IEC61966-2.1 |
ISO | 3200 |
Image Size | 1001x1500 |
Lens | smc PENTAX-FA MACRO 100mm F2.8 |
Lens ID | Unknown (5 9) |
Lens Info | 100mm f/2.8 |
Lens Manual Distortion Amount | 0 |
Lens Model | smc PENTAX-FA MACRO 100mm F2.8 |
Lens Profile Chromatic Aberration Scale | 100 |
Lens Profile Distortion Scale | 100 |
Lens Profile Enable | 1 |
Lens Profile Filename | PENTAX (smc PENTAX-D FA 100mm F2.8 MACRO) - RAW.lcp |
Lens Profile Name | Adobe (smc PENTAX-D FA 100mm F2.8 MACRO) |
Lens Profile Setup | Custom |
Lens Profile Vignetting Scale | 100 |
Light Value | 7.7 |
Luminance Adjustment Aqua | 0 |
Luminance Adjustment Blue | 0 |
Luminance Adjustment Green | 0 |
Luminance Adjustment Magenta | 0 |
Luminance Adjustment Orange | 0 |
Luminance Adjustment Purple | 0 |
Luminance Adjustment Red | 0 |
Luminance Adjustment Yellow | 0 |
Luminance Noise Reduction Contrast | 0 |
Luminance Noise Reduction Detail | 52 |
Luminance Smoothing | 34 |
Marked | True |
Metering Mode | Multi-segment |
Paint Correction Active | true |
Paint Correction Amount | 1.000000 |
Paint Correction Brightness | 0.000000 |
Paint Correction Clarity 2012 | 0.000000 |
Paint Correction Contrast 2012 | 0.684210 |
Paint Correction Defringe | 0.000000 |
Paint Correction Exposure 2012 | 0.672500 |
Paint Correction Highlights 2012 | 0.637430 |
Paint Correction Hue | 229.000000 |
Paint Correction Luminance Noise | 0.000000 |
Paint Correction Mask Center Weight | 0.089472 |
Paint Correction Mask Flow | 0.525000 |
Paint Correction Mask Radius | 0.007468 |
Paint Correction Mask Value | 0.919000 |
Paint Correction Mask What | Mask/Paint |
Paint Correction Moire | 0.000000 |
Paint Correction Saturation | 0.040000 |
Paint Correction Shadows 2012 | 0.274850 |
Paint Correction Sharpness | -0.181290 |
Paint Correction Temperature | 0.520470 |
Paint Correction Tint | 0.111110 |
Paint Correction What | Correction |
Parametric Darks | 0 |
Parametric Highlight Split | 75 |
Parametric Highlights | 0 |
Parametric Lights | 0 |
Parametric Midtone Split | 50 |
Parametric Shadow Split | 25 |
Parametric Shadows | 0 |
Perspective Horizontal | 0 |
Perspective Rotate | 0.0 |
Perspective Scale | 100 |
Perspective Vertical | 0 |
Post Crop Vignette Amount | 0 |
Process Version | 6.7 |
Rating | 4 |
Red Hue | 0 |
Red Saturation | 0 |
Rights | Copyright George Cook (Tiabunna) |
Saturation | Normal |
Saturation Adjustment Aqua | 0 |
Saturation Adjustment Blue | 0 |
Saturation Adjustment Green | 0 |
Saturation Adjustment Magenta | 0 |
Saturation Adjustment Orange | 0 |
Saturation Adjustment Purple | 0 |
Saturation Adjustment Red | 0 |
Saturation Adjustment Yellow | 0 |
Scale Factor To 35 mm Equivalent | 1.0 |
Scene Capture Type | Standard |
Sensing Method | One-chip color area |
Sensitivity Type | Standard Output Sensitivity |
Shadow Tint | 0 |
Shadows 2012 | -20 |
Sharpen Detail | 40 |
Sharpen Edge Masking | 0 |
Sharpen Radius | +2.2 |
Sharpness | Hard |
Split Toning Balance | 0 |
Split Toning Highlight Hue | 0 |
Split Toning Highlight Saturation | 0 |
Split Toning Shadow Hue | 0 |
Split Toning Shadow Saturation | 0 |
Standard Output Sensitivity | 3200 |
Subject Distance Range | Macro |
Tint | +25 |
Tone Curve Name 2012 | Custom |
Tone Curve PV2012 | 0, 0, 32, 17, 68, 53, 128, 121, 198, 190, 254, 222 |
Tone Curve PV2012 Blue | 0, 0, 255, 255 |
Tone Curve PV2012 Green | 0, 0, 255, 255 |
Tone Curve PV2012 Red | 0, 0, 255, 255 |
Version | 7.4 |
Vibrance | +42 |
Vignette Amount | 0 |
White Balance | Auto |
Whites 2012 | -13 |