Shooting information for this photo
Camera: | RICOH IMAGING COMPANY, LTD. PENTAX K-1 |
Exposure: | 0.00625 sec. (1/160) |
Aperture: | f/8.0 |
Focal Length: | 70.0 mm (35 mm equivalent: 70.0 mm) |
Flash: | Off, Did not fire |
Exposure mode: | Aperture-priority AE |
Resolution: | 72 x 72 dpi |
Dimension: | 955 x 1432 pixels |
Original Date: | 2017:04:15 09:28:23 |
Digitized Date: | 2017:04:15 09:28:23+01:00 |
Created on: | 2017:04:15 09:28:23 |
Modified on: | 2017:04:19 12:17:41 |
Software: | Adobe Photoshop Elements 6.0 Windows |
Copyright: | George Cook/"Tiabunna" |
Already Applied | True |
Artist | George_Cook |
Auto Lateral CA | 0 |
Blacks 2012 | 0 |
Blue Hue | 0 |
Blue Saturation | 0 |
Camera Profile | Adobe Standard |
Circle Of Confusion | 0.030 mm |
Clarity 2012 | 0 |
Color Mode | RGB |
Color Noise Reduction | 25 |
Color Noise Reduction Detail | 50 |
Color Space | sRGB |
Color Temperature | 6700 |
Contrast | Normal |
Contrast 2012 | 0 |
Convert To Grayscale | True |
Creator | George_Cook |
Custom Rendered | Normal |
Date Created | 2017:04:15 |
Exposure 2012 | 0.00 |
Exposure Compensation | -0.3 |
Exposure Mode | Manual |
Field Of View | 28.8 deg |
Flash Fired | False |
Flash Function | False |
Flash Mode | Off |
Flash Red Eye Mode | False |
Flash Return | No return detection |
Focal Length In 35mm Format | 70 mm |
Format | image/jpeg |
Gradient Based Corr Active | true |
Gradient Based Corr Amount | 1.000000 |
Gradient Based Corr Brightness | 0.000000 |
Gradient Based Corr Clarity 2012 | 0.380120 |
Gradient Based Corr Contrast 2012 | 0.122810 |
Gradient Based Corr Defringe | 0.000000 |
Gradient Based Corr Exposure 2012 | -0.122750 |
Gradient Based Corr Highlights 2012 | 0.052630 |
Gradient Based Corr Hue | 229.000000 |
Gradient Based Corr Luminance Noise | -0.040940 |
Gradient Based Corr Mask Full X | 0.227018 |
Gradient Based Corr Mask Full Y | 0.346643 |
Gradient Based Corr Mask Value | 1.000000 |
Gradient Based Corr Mask What | Mask/Gradient |
Gradient Based Corr Mask Zero X | 0.211436 |
Gradient Based Corr Mask Zero Y | 0.342629 |
Gradient Based Corr Moire | 0.000000 |
Gradient Based Corr Saturation | 0.040000 |
Gradient Based Corr Shadows 2012 | 0.192980 |
Gradient Based Corr Sharpness | 0.473680 |
Gradient Based Corr Temperature | 0.450290 |
Gradient Based Corr Tint | -0.099420 |
Gradient Based Corr What | Correction |
Grain Amount | 0 |
Gray Mixer Aqua | 0 |
Gray Mixer Blue | 0 |
Gray Mixer Green | 0 |
Gray Mixer Magenta | 0 |
Gray Mixer Orange | 0 |
Gray Mixer Purple | 0 |
Gray Mixer Red | 0 |
Gray Mixer Yellow | 0 |
Green Hue | 0 |
Green Saturation | 0 |
Has Crop | False |
Has Settings | True |
Highlights 2012 | 0 |
Hyperfocal Distance | 20.39 m |
ICC Profile Name | sRGB IEC61966-2.1 |
ISO | 400 |
Image Size | 955x1432 |
Lens | smc PENTAX-F 28-80mm F3.5-4.5 |
Lens ID | Unknown (3 27) |
Lens Info | 28-80mm f/3.5-4.5 |
Lens Manual Distortion Amount | 0 |
Lens Model | smc PENTAX-F 28-80mm F3.5-4.5 |
Lens Profile Enable | 0 |
Lens Profile Setup | LensDefaults |
Light Value | 11.3 |
Luminance Smoothing | 0 |
Marked | True |
Metering Mode | Multi-segment |
Paint Correction Active | true |
Paint Correction Amount | 1.000000 |
Paint Correction Brightness | 0.000000 |
Paint Correction Clarity 2012 | 0.380120 |
Paint Correction Contrast 2012 | 0.122810 |
Paint Correction Defringe | 0.000000 |
Paint Correction Exposure 2012 | -0.555500 |
Paint Correction Highlights 2012 | 0.052630 |
Paint Correction Hue | 229.000000 |
Paint Correction Luminance Noise | -0.040940 |
Paint Correction Mask Center Weight | 0.160160 |
Paint Correction Mask Flow | 0.697000 |
Paint Correction Mask Radius | 0.193864 |
Paint Correction Mask Value | 0.601000 |
Paint Correction Mask What | Mask/Paint |
Paint Correction Moire | 0.000000 |
Paint Correction Saturation | 0.040000 |
Paint Correction Shadows 2012 | 0.192980 |
Paint Correction Sharpness | 0.473680 |
Paint Correction Temperature | 0.099420 |
Paint Correction Tint | -0.239770 |
Paint Correction What | Correction |
Parametric Darks | -15 |
Parametric Highlight Split | 75 |
Parametric Highlights | 0 |
Parametric Lights | 0 |
Parametric Midtone Split | 50 |
Parametric Shadow Split | 25 |
Parametric Shadows | 0 |
Perspective Horizontal | 0 |
Perspective Rotate | 0.0 |
Perspective Scale | 100 |
Perspective Vertical | 0 |
Post Crop Vignette Amount | 0 |
Process Version | 6.7 |
Red Hue | 0 |
Red Saturation | 0 |
Rights | George Cook/"Tiabunna" |
Saturation | Normal |
Scale Factor To 35 mm Equivalent | 1.0 |
Scene Capture Type | Standard |
Sensing Method | One-chip color area |
Sensitivity Type | Standard Output Sensitivity |
Shadow Tint | 0 |
Shadows 2012 | 0 |
Sharpen Detail | 25 |
Sharpen Edge Masking | 0 |
Sharpen Radius | +2.0 |
Sharpness | Normal |
Split Toning Balance | +85 |
Split Toning Highlight Hue | 37 |
Split Toning Highlight Saturation | 34 |
Split Toning Shadow Hue | 246 |
Split Toning Shadow Saturation | 60 |
Standard Output Sensitivity | 400 |
Subject Distance Range | Distant |
Tint | +11 |
Tone Curve Name 2012 | Linear |
Tone Curve PV2012 | 0, 0, 255, 255 |
Tone Curve PV2012 Blue | 0, 0, 255, 255 |
Tone Curve PV2012 Green | 0, 0, 255, 255 |
Tone Curve PV2012 Red | 0, 0, 255, 255 |
Version | 7.4 |
Vignette Amount | 0 |
White Balance | Auto |
Whites 2012 | 0 |