Shooting information for this photo
Camera: | PENTAX Corporation PENTAX K10D |
Exposure: | 0.16667 sec. (1/6) |
Aperture: | f/13.0 |
Focal Length: | 17.0 mm (35 mm equivalent: 25.0 mm) |
Flash: | Off, Did not fire |
Exposure mode: | Aperture-priority AE |
Resolution: | 72 x 72 dpi |
Dimension: | 1400 x 942 pixels |
Original Date: | 2011:09:14 19:14:05 |
Digitized Date: | 2011:09:14 19:14:05+10:00 |
Created on: | 2011:09:14 19:14:05 |
Modified on: | 2017:02:11 22:29:07 |
Software: | Adobe Photoshop Elements 6.0 Windows |
Copyright: | Copyright George Cook "Tiabunna" |
Already Applied | True |
Artist | George Cook |
Auto Lateral CA | 0 |
Blacks 2012 | 0 |
Blue Hue | 0 |
Blue Saturation | 0 |
Camera Profile | Adobe Standard |
Caption Writer | Sigma 17-70 |
Circle Of Confusion | 0.020 mm |
Clarity 2012 | +20 |
Color Mode | RGB |
Color Noise Reduction | 0 |
Color Space | sRGB |
Color Temperature | 4950 |
Contrast | High |
Contrast 2012 | 0 |
Convert To Grayscale | False |
Creator | George Cook |
Crop Angle | 0 |
Crop Bottom | 0.990956 |
Crop Constrain To Warp | 0 |
Crop Height | 2492 |
Crop Left | 0.018166 |
Crop Right | 0.974913 |
Crop Top | 0.029716 |
Crop Unit | pixels |
Crop Width | 3705 |
Custom Rendered | Normal |
Date Created | 2011:09:14 |
Defringe Green Amount | 0 |
Defringe Green Hue Hi | 60 |
Defringe Green Hue Lo | 40 |
Defringe Purple Amount | 0 |
Defringe Purple Hue Hi | 70 |
Defringe Purple Hue Lo | 30 |
Exposure 2012 | 0.00 |
Exposure Compensation | 0 |
Exposure Mode | Auto |
Field Of View | 71.5 deg |
Flash Fired | False |
Flash Function | False |
Flash Mode | Off |
Flash Red Eye Mode | False |
Flash Return | No return detection |
Focal Length In 35mm Format | 25 mm |
Format | image/jpeg |
Grain Amount | 0 |
Green Hue | 0 |
Green Saturation | 0 |
Has Crop | True |
Has Settings | True |
Highlights 2012 | 0 |
Hue Adjustment Aqua | 0 |
Hue Adjustment Blue | 0 |
Hue Adjustment Green | 0 |
Hue Adjustment Magenta | 0 |
Hue Adjustment Orange | 0 |
Hue Adjustment Purple | 0 |
Hue Adjustment Red | 0 |
Hue Adjustment Yellow | 0 |
Hyperfocal Distance | 1.09 m |
ICC Profile Name | sRGB IEC61966-2.1 |
ISO | 200 |
Image Size | 1400x942 |
Lens | SIGMA 18-50mm F3.5-5.6 DC |
Lens ID | Sigma 18-50mm F3.5-5.6 DC |
Lens Info | 18-50mm f/3.5-5.6 |
Lens Manual Distortion Amount | 0 |
Lens Model | SIGMA 18-50mm F3.5-5.6 DC |
Lens Profile Enable | 0 |
Lens Profile Setup | LensDefaults |
Light Value | 9.0 |
Luminance Adjustment Aqua | 0 |
Luminance Adjustment Blue | 0 |
Luminance Adjustment Green | 0 |
Luminance Adjustment Magenta | 0 |
Luminance Adjustment Orange | 0 |
Luminance Adjustment Purple | 0 |
Luminance Adjustment Red | 0 |
Luminance Adjustment Yellow | 0 |
Luminance Smoothing | 0 |
Marked | True |
Metering Mode | Multi-segment |
Paint Correction Active | true |
Paint Correction Amount | 1.000000 |
Paint Correction Brightness | 0.000000 |
Paint Correction Clarity 2012 | 0.368420 |
Paint Correction Contrast 2012 | 0.567250 |
Paint Correction Defringe | 0.000000 |
Paint Correction Exposure 2012 | 0.602250 |
Paint Correction Highlights 2012 | 0.695910 |
Paint Correction Hue | 229.000000 |
Paint Correction Luminance Noise | 0.204680 |
Paint Correction Mask Center Weight | 0.175849 |
Paint Correction Mask Flow | 0.697000 |
Paint Correction Mask Radius | 0.115115 |
Paint Correction Mask Value | 0.705000 |
Paint Correction Mask What | Mask/Paint |
Paint Correction Moire | 0.000000 |
Paint Correction Saturation | 0.040000 |
Paint Correction Shadows 2012 | -0.192980 |
Paint Correction Sharpness | 0.450290 |
Paint Correction Temperature | 0.000000 |
Paint Correction Tint | 0.000000 |
Paint Correction What | Correction |
Parametric Darks | -26 |
Parametric Highlight Split | 65 |
Parametric Highlights | -10 |
Parametric Lights | +43 |
Parametric Midtone Split | 34 |
Parametric Shadow Split | 10 |
Parametric Shadows | -18 |
Perspective Horizontal | 0 |
Perspective Rotate | 0.0 |
Perspective Scale | 100 |
Perspective Vertical | 0 |
Post Crop Vignette Amount | 0 |
Process Version | 6.7 |
Red Hue | 0 |
Red Saturation | 0 |
Rights | Copyright George Cook "Tiabunna" |
Saturation | High |
Saturation Adjustment Aqua | 0 |
Saturation Adjustment Blue | 0 |
Saturation Adjustment Green | 0 |
Saturation Adjustment Magenta | 0 |
Saturation Adjustment Orange | 0 |
Saturation Adjustment Purple | 0 |
Saturation Adjustment Red | 0 |
Saturation Adjustment Yellow | 0 |
Scale Factor To 35 mm Equivalent | 1.5 |
Scene Capture Type | Standard |
Sensing Method | One-chip color area |
Shadow Tint | 0 |
Shadows 2012 | 0 |
Sharpen Detail | 25 |
Sharpen Edge Masking | 0 |
Sharpen Radius | +1.6 |
Sharpness | Normal |
Split Toning Balance | 0 |
Split Toning Highlight Hue | 0 |
Split Toning Highlight Saturation | 0 |
Split Toning Shadow Hue | 0 |
Split Toning Shadow Saturation | 0 |
Subject | Asia, Laos, Places |
Subject Distance Range | Close |
Tint | +12 |
Tone Curve Name 2012 | Custom |
Tone Curve PV2012 | 0, 0, 37, 29, 105, 105, 178, 188, 255, 255 |
Tone Curve PV2012 Blue | 0, 0, 255, 255 |
Tone Curve PV2012 Green | 0, 0, 255, 255 |
Tone Curve PV2012 Red | 0, 0, 255, 255 |
Version | 7.4 |
Vibrance | +7 |
Vignette Amount | 0 |
White Balance | Auto |
Whites 2012 | 0 |
GPS Information |
GPS Latitude | 0 deg 0' 0.00" N |
GPS Latitude Ref | North |
GPS Longitude | 0 deg 0' 0.00" |
GPS Longitude Ref | East |
GPS Position | 0 deg 0' 0.00" N, 0 deg 0' 0.00" |