Shooting information for this photo
Camera: | PENTAX K-50 |
Exposure: | 0.005 sec. (1/200) |
Aperture: | f/10.0 |
Focal Length: | 34.0 mm (35 mm equivalent: 51.0 mm) |
Flash: | Off, Did not fire |
Exposure mode: | Aperture-priority AE |
Resolution: | 72 x 72 dpi |
Dimension: | 1477 x 831 pixels |
Original Date: | 2015:08:31 13:15:26 |
Digitized Date: | 2015:08:31 13:15:26+10:00 |
Created on: | 2015:08:31 13:15:26 |
Modified on: | 2015:09:11 13:13:57 |
Software: | Adobe Photoshop Elements 6.0 Windows |
Copyright: | George Cook "Tiabunna" |
Already Applied | True |
Artist | George_Cook |
Blue Hue | 0 |
Blue Saturation | 0 |
Brightness | +50 |
Camera Profile | Embedded |
Chromatic Aberration B | 0 |
Chromatic Aberration R | 0 |
Circle Of Confusion | 0.020 mm |
Clarity | 75 |
Color Mode | RGB |
Color Noise Reduction | 25 |
Color Space | sRGB |
Color Temperature | 5100 |
Contrast | Normal |
Convert To Grayscale | False |
Creator | George_Cook, George Cook |
Crop Angle | 0 |
Crop Bottom | 0.967548 |
Crop Height | 9 |
Crop Left | 0 |
Crop Right | 0.999204 |
Crop Top | 0.11896 |
Crop Unit | Unknown (3) |
Crop Width | 16 |
Custom Rendered | Normal |
Defringe | 0 |
Exposure | 0.00 |
Exposure Compensation | +0.7 |
Exposure Mode | Manual |
Field Of View | 38.9 deg |
Fill Light | 10 |
Flash Fired | False |
Flash Function | False |
Flash Mode | Off |
Flash Red Eye Mode | False |
Flash Return | No return detection |
Focal Length In 35mm Format | 51 mm |
Format | image/jpeg |
Green Hue | 0 |
Green Saturation | 0 |
Has Crop | True |
Has Settings | True |
Highlight Recovery | 13 |
Hue Adjustment Aqua | 0 |
Hue Adjustment Blue | 0 |
Hue Adjustment Green | 0 |
Hue Adjustment Magenta | 0 |
Hue Adjustment Orange | 0 |
Hue Adjustment Purple | 0 |
Hue Adjustment Red | 0 |
Hue Adjustment Yellow | 0 |
Hyperfocal Distance | 5.77 m |
ICC Profile Name | sRGB IEC61966-2.1 |
ISO | 100 |
Image Size | 1477x831 |
Light Value | 14.3 |
Luminance Adjustment Aqua | 0 |
Luminance Adjustment Blue | 0 |
Luminance Adjustment Green | 0 |
Luminance Adjustment Magenta | 0 |
Luminance Adjustment Orange | 0 |
Luminance Adjustment Purple | 0 |
Luminance Adjustment Red | 0 |
Luminance Adjustment Yellow | 0 |
Luminance Smoothing | 15 |
Metering Mode | Center-weighted average |
Parametric Darks | 0 |
Parametric Highlight Split | 75 |
Parametric Highlights | 0 |
Parametric Lights | 0 |
Parametric Midtone Split | 50 |
Parametric Shadow Split | 25 |
Parametric Shadows | 0 |
Rating | 0 |
Raw File Name | IMGP1784.DNG |
Red Hue | 0 |
Red Saturation | 0 |
Rights | George Cook "Tiabunna" |
Saturation | Normal |
Saturation Adjustment Aqua | 0 |
Saturation Adjustment Blue | 0 |
Saturation Adjustment Green | 0 |
Saturation Adjustment Magenta | 0 |
Saturation Adjustment Orange | 0 |
Saturation Adjustment Purple | 0 |
Saturation Adjustment Red | 0 |
Saturation Adjustment Yellow | 0 |
Scale Factor To 35 mm Equivalent | 1.5 |
Scene Capture Type | Standard |
Sensing Method | One-chip color area |
Shadow Tint | 0 |
Shadows | 15 |
Sharpen Detail | 32 |
Sharpen Edge Masking | 0 |
Sharpen Radius | +1.3 |
Sharpness | Normal |
Split Toning Balance | 0 |
Split Toning Highlight Hue | 0 |
Split Toning Highlight Saturation | 0 |
Split Toning Shadow Hue | 0 |
Split Toning Shadow Saturation | 0 |
Subject Distance Range | Distant |
Tint | +23 |
Tone Curve | 0, 0, 32, 22, 64, 56, 128, 128, 192, 196, 255, 255 |
Tone Curve Name | Medium Contrast |
Version | 4.2 |
Vibrance | +33 |
Vignette Amount | 0 |
White Balance | Auto |