Shooting information for this photo
Camera: | DJI FC3582 |
Exposure: | 0.00556 sec. (1/180) |
Aperture: | f/1.7 |
Focal Length: | 6.7 mm (35 mm equivalent: 24.0 mm) |
Flash: | No Flash |
Exposure mode: | Program AE |
Max Aperture: | 1.7 |
Resolution: | 240 x 240 dpi |
Original Date: | 2023:08:07 14:48:40.1 |
Created on: | 2023:08:07 14:48:40.1 |
Modified on: | 2023:08:07 20:22:55 |
Software: | Adobe Photoshop Lightroom Classic 12.4 (Windows) |
Absolute Altitude | -56.513 |
Already Applied | True |
Altitude Type | RtkAlt |
Auto Lateral CA | 0 |
Blacks 2012 | -44 |
Blue Hue | 0 |
Blue Saturation | +100 |
Cam Reverse | 0 |
Camera Profile | Embedded |
Camera Serial Number | 53HQK4M0M107SH |
Circle Of Confusion | 0.008 mm |
City | Kingsbridge |
Clarity 2012 | +38 |
Color Grade Blending | 50 |
Color Grade Global Hue | 0 |
Color Grade Global Lum | 0 |
Color Grade Global Sat | 0 |
Color Grade Highlight Lum | 0 |
Color Grade Midtone Hue | 0 |
Color Grade Midtone Lum | 0 |
Color Grade Midtone Sat | 0 |
Color Grade Shadow Lum | 0 |
Color Noise Reduction | 25 |
Color Noise Reduction Detail | 50 |
Color Noise Reduction Smoothness | 50 |
Color Space | sRGB |
Color Temperature | 4500 |
Contrast | Normal |
Contrast 2012 | +9 |
Convert To Grayscale | False |
Country | Vereinigtes Königreich |
Country Code | GB |
Crop Angle | 0 |
Crop Bottom | 0.999256 |
Crop Constrain To Warp | 0 |
Crop Left | 0.000744 |
Crop Right | 0.999256 |
Crop Top | 0.000744 |
Date Created | 2023:08:07 14:48:40 |
Defringe Green Amount | 0 |
Defringe Green Hue Hi | 60 |
Defringe Green Hue Lo | 40 |
Defringe Purple Amount | 0 |
Defringe Purple Hue Hi | 70 |
Defringe Purple Hue Lo | 30 |
Dehaze | +27 |
Digital Zoom Ratio | 1 |
Drone Model | Mini 3 Pro |
Drone Serial Number | 1581F4XFC22580 |
Exposure 2012 | +0.14 |
Exposure Compensation | -1.3 |
Exposure Mode | Auto |
Field Of View | 73.7 deg |
Flight Pitch Degree | +4.40 |
Flight Roll Degree | -4.40 |
Flight X Speed | -0.1 |
Flight Y Speed | 0.0 |
Flight Yaw Degree | -34.30 |
Flight Z Speed | 0.0 |
Focal Length In 35mm Format | 24 mm |
Format | image/jpeg |
Gain Control | None |
Gimbal Pitch Degree | -89.90 |
Gimbal Reverse | 0 |
Gimbal Roll Degree | +0.00 |
Gimbal Yaw Degree | -18.60 |
Gps Latitude | +50.262321832 |
Gps Longitude | -3.652870915 |
Gps Status | Invalid |
Grain Amount | 0 |
Green Hue | 0 |
Green Saturation | 0 |
Has Crop | True |
Has Settings | True |
Highlights 2012 | -1 |
Hue Adjustment Aqua | 0 |
Hue Adjustment Blue | 0 |
Hue Adjustment Green | 0 |
Hue Adjustment Magenta | 0 |
Hue Adjustment Orange | 0 |
Hue Adjustment Purple | 0 |
Hue Adjustment Red | 0 |
Hue Adjustment Yellow | 0 |
Hyperfocal Distance | 3.16 m |
ISO | 100 |
Image Size | 4026x3020 |
Image Source | DefaultCamera |
Is Merged HDR | True |
Lens | 6.7 mm f/1.7 |
Lens Info | 6.72mm f/1.7 |
Lens Manual Distortion Amount | 0 |
Lens Model | 6.7 mm f/1.7 |
Lens Profile Enable | 0 |
Light Source | Daylight |
Light Value | 9.0 |
Location | Torcross |
Luminance Adjustment Aqua | 0 |
Luminance Adjustment Blue | -11 |
Luminance Adjustment Green | 0 |
Luminance Adjustment Magenta | 0 |
Luminance Adjustment Orange | 0 |
Luminance Adjustment Purple | 0 |
Luminance Adjustment Red | 0 |
Luminance Adjustment Yellow | 0 |
Luminance Smoothing | 0 |
Metering Mode | Average |
Override Look Vignette | False |
Parametric Darks | 0 |
Parametric Highlight Split | 75 |
Parametric Highlights | 0 |
Parametric Lights | 0 |
Parametric Midtone Split | 50 |
Parametric Shadow Split | 25 |
Parametric Shadows | 0 |
Perspective Aspect | 0 |
Perspective Horizontal | 0 |
Perspective Rotate | 0.0 |
Perspective Scale | 100 |
Perspective Upright | 0 |
Perspective Vertical | 0 |
Perspective X | 0.00 |
Perspective Y | 0.00 |
Post Crop Vignette Amount | 0 |
Preserved File Name | DJI_0493.DNG |
Process Version | 15.4 |
Raw File Name | DJI_0490-HDR.dng |
Red Hue | 0 |
Red Saturation | 0 |
Relative Altitude | +12.400 |
Saturation | Normal |
Saturation Adjustment Aqua | 0 |
Saturation Adjustment Blue | -69 |
Saturation Adjustment Green | 0 |
Saturation Adjustment Magenta | 0 |
Saturation Adjustment Orange | 0 |
Saturation Adjustment Purple | 0 |
Saturation Adjustment Red | 0 |
Saturation Adjustment Yellow | 0 |
Scale Factor To 35 mm Equivalent | 3.6 |
Scene Capture Type | Standard |
Scene Type | Directly photographed |
Sensitivity Type | Recommended Exposure Index |
Shadow Tint | 0 |
Shadows 2012 | +96 |
Sharpen Detail | 25 |
Sharpen Edge Masking | 0 |
Sharpen Radius | +1.0 |
Sharpness | Normal |
Shutter Type | Electronic |
Split Toning Balance | 0 |
Split Toning Highlight Hue | 0 |
Split Toning Highlight Saturation | 0 |
Split Toning Shadow Hue | 0 |
Split Toning Shadow Saturation | 0 |
State | England |
Surveying Mode | 0 |
Texture | +33 |
Tint | +6 |
Tone Curve Name 2012 | Linear |
Tone Curve PV2012 | 0, 0, 255, 255 |
Tone Curve PV2012 Blue | 0, 0, 255, 255 |
Tone Curve PV2012 Green | 0, 0, 255, 255 |
Tone Curve PV2012 Red | 0, 0, 255, 255 |
Version | 15.4 |
Vibrance | +17 |
Vignette Amount | 0 |
White Balance | Auto |
Whites 2012 | +59 |
GPS Information |
GPS Altitude | 56.5 m Below Sea Level |
GPS Altitude Ref | Below Sea Level |
GPS Latitude | 50 deg 15' 44.36" N |
GPS Latitude Ref | North |
GPS Longitude | 3 deg 39' 10.33" W |
GPS Longitude Ref | West |
GPS Map Datum | WGS-84 |
GPS Position | 50 deg 15' 44.36" N, 3 deg 39' 10.33" W |
GPS Status | Measurement Void |
GPS Version ID | 2.3.0.0 |