Shooting information for this photo
Camera: | DJI FC3582 |
Exposure: | 0.01 sec. (1/100) |
Aperture: | f/1.7 |
Focal Length: | 6.7 mm |
Flash: | No Flash |
Exposure mode: | Program AE |
Max Aperture: | 1.7 |
Resolution: | 240 x 240 dpi |
Original Date: | 2023:05:15 08:17:41 |
Created on: | 2023:05:15 08:17:41 |
Modified on: | 2023:05:15 18:28:06 |
Software: | Adobe Photoshop Lightroom Classic 12.3 (Windows) |
Absolute Altitude | +384.727 |
Already Applied | True |
Altitude Type | RtkAlt |
Auto Lateral CA | 0 |
Blacks 2012 | 0 |
Blue Hue | 0 |
Blue Saturation | +32 |
Cam Reverse | 0 |
Camera Profile | Embedded |
Camera Serial Number | 53HQK4M0M107SH |
City | Mörlenbach |
Clarity 2012 | +21 |
Color Grade Blending | 50 |
Color Grade Global Hue | 0 |
Color Grade Global Lum | 0 |
Color Grade Global Sat | 0 |
Color Grade Highlight Lum | 0 |
Color Grade Midtone Hue | 0 |
Color Grade Midtone Lum | 0 |
Color Grade Midtone Sat | 0 |
Color Grade Shadow Lum | 0 |
Color Noise Reduction | 25 |
Color Noise Reduction Detail | 50 |
Color Noise Reduction Smoothness | 50 |
Color Space | sRGB |
Contrast | Normal |
Contrast 2012 | +13 |
Convert To Grayscale | False |
Country | Deutschland |
Country Code | DE |
Crop Angle | 0 |
Crop Bottom | 0.880769 |
Crop Constrain To Warp | 0 |
Crop Left | 0 |
Crop Right | 1 |
Crop Top | 0.099519 |
Date Created | 2023:05:15 08:17:41 |
Defringe Green Amount | 0 |
Defringe Green Hue Hi | 60 |
Defringe Green Hue Lo | 40 |
Defringe Purple Amount | 0 |
Defringe Purple Hue Hi | 70 |
Defringe Purple Hue Lo | 30 |
Dehaze | +12 |
Description | default |
Digital Zoom Ratio | 1 |
Drone Model | Mini 3 Pro |
Drone Serial Number | 1581F4XFC22580 |
Exposure 2012 | 0.00 |
Exposure Compensation | 0 |
Exposure Mode | Auto |
Flight Pitch Degree | -0.20 |
Flight Roll Degree | +0.20 |
Flight X Speed | 0.0 |
Flight Y Speed | 0.0 |
Flight Yaw Degree | -105.10 |
Flight Z Speed | 0.0 |
Format | image/jpeg |
Gain Control | None |
Gimbal Pitch Degree | -5.50 |
Gimbal Reverse | 0 |
Gimbal Roll Degree | +0.00 |
Gimbal Yaw Degree | -105.00 |
Gps Latitude | +49.585592106 |
Gps Longitude | +8.752839159 |
Gps Status | Invalid |
Grain Amount | 0 |
Green Hue | 0 |
Green Saturation | 0 |
Has Crop | True |
Has Settings | True |
Highlights 2012 | -100 |
Hue Adjustment Aqua | 0 |
Hue Adjustment Blue | 0 |
Hue Adjustment Green | 0 |
Hue Adjustment Magenta | 0 |
Hue Adjustment Orange | 0 |
Hue Adjustment Purple | 0 |
Hue Adjustment Red | 0 |
Hue Adjustment Yellow | 0 |
ISO | 100 |
Image Description | default |
Image Size | 7200x4050 |
Image Source | DefaultCamera |
Incremental Temperature | +4 |
Incremental Tint | 0 |
Lens | 6.7 mm f/1.7 |
Lens Info | 6.72mm f/1.7 |
Lens Manual Distortion Amount | 0 |
Lens Model | 6.7 mm f/1.7 |
Lens Profile Enable | 1 |
Lens Profile Setup | LensDefaults |
Light Source | Cloudy |
Light Value | 8.2 |
Location | Weiher |
Luminance Adjustment Aqua | 0 |
Luminance Adjustment Blue | 0 |
Luminance Adjustment Green | 0 |
Luminance Adjustment Magenta | 0 |
Luminance Adjustment Orange | 0 |
Luminance Adjustment Purple | 0 |
Luminance Adjustment Red | 0 |
Luminance Adjustment Yellow | 0 |
Luminance Smoothing | 0 |
Metering Mode | Average |
Override Look Vignette | False |
Parametric Darks | 0 |
Parametric Highlight Split | 75 |
Parametric Highlights | 0 |
Parametric Lights | +9 |
Parametric Midtone Split | 50 |
Parametric Shadow Split | 25 |
Parametric Shadows | -13 |
Perspective Aspect | 0 |
Perspective Horizontal | 0 |
Perspective Rotate | 0.0 |
Perspective Scale | 100 |
Perspective Upright | 0 |
Perspective Vertical | 0 |
Perspective X | 0.00 |
Perspective Y | 0.00 |
Post Crop Vignette Amount | 0 |
Preserved File Name | DJI_0138.JPG |
Process Version | 11.0 |
Raw File Name | DJI_0138.JPG |
Recommended Exposure Index | 100 |
Red Hue | 0 |
Red Saturation | 0 |
Relative Altitude | +100.700 |
Saturation | Normal |
Saturation Adjustment Aqua | 0 |
Saturation Adjustment Blue | -27 |
Saturation Adjustment Green | 0 |
Saturation Adjustment Magenta | 0 |
Saturation Adjustment Orange | 0 |
Saturation Adjustment Purple | 0 |
Saturation Adjustment Red | 0 |
Saturation Adjustment Yellow | 0 |
Scene Capture Type | Standard |
Scene Type | Directly photographed |
Sensitivity Type | Recommended Exposure Index |
Shadow Tint | 0 |
Shadows 2012 | +13 |
Sharpen Detail | 25 |
Sharpen Edge Masking | 0 |
Sharpen Radius | +1.0 |
Sharpness | Normal |
Shutter Type | Electronic |
Split Toning Balance | 0 |
Split Toning Highlight Hue | 0 |
Split Toning Highlight Saturation | 0 |
Split Toning Shadow Hue | 0 |
Split Toning Shadow Saturation | 0 |
State | Hessen |
Surveying Mode | 0 |
Texture | +17 |
Tone Curve Name 2012 | Linear |
Tone Curve PV2012 | 0, 0, 255, 255 |
Tone Curve PV2012 Blue | 0, 0, 255, 255 |
Tone Curve PV2012 Green | 0, 0, 255, 255 |
Tone Curve PV2012 Red | 0, 0, 255, 255 |
Version | 15.3 |
Vibrance | +4 |
Vignette Amount | 0 |
White Balance | Auto |
Whites 2012 | 0 |
GPS Information |
GPS Altitude | 384.7 m Above Sea Level |
GPS Altitude Ref | Above Sea Level |
GPS Latitude | 49 deg 35' 8.13" N |
GPS Latitude Ref | North |
GPS Longitude | 8 deg 45' 10.22" E |
GPS Longitude Ref | East |
GPS Map Datum | WGS-84 |
GPS Position | 49 deg 35' 8.13" N, 8 deg 45' 10.22" E |
GPS Status | Measurement Void |
GPS Version ID | 2.3.0.0 |