Shooting information for this photo
Camera: | DJI FC3582 |
Exposure: | 0.00625 sec. (1/160) |
Aperture: | f/1.7 |
Focal Length: | 6.7 mm (35 mm equivalent: 24.0 mm) |
Flash: | No Flash |
Exposure mode: | Program AE |
Max Aperture: | 1.7 |
Resolution: | 240 x 240 dpi |
Original Date: | 2023:05:15 08:19:13.1 |
Created on: | 2023:05:15 08:19:13.1 |
Modified on: | 2023:05:15 18:19:24 |
Software: | Adobe Photoshop Lightroom Classic 12.3 (Windows) |
Absolute Altitude | +384.727 |
Already Applied | True |
Altitude Type | RtkAlt |
Auto Lateral CA | 0 |
Blacks 2012 | -34 |
Blue Hue | 0 |
Blue Saturation | +61 |
Cam Reverse | 0 |
Camera Profile | Embedded |
Camera Serial Number | 53HQK4M0M107SH |
Circle Of Confusion | 0.008 mm |
City | Mörlenbach |
Clarity 2012 | +19 |
Color Grade Blending | 50 |
Color Grade Global Hue | 0 |
Color Grade Global Lum | 0 |
Color Grade Global Sat | 0 |
Color Grade Highlight Lum | 0 |
Color Grade Midtone Hue | 0 |
Color Grade Midtone Lum | 0 |
Color Grade Midtone Sat | 0 |
Color Grade Shadow Lum | 0 |
Color Noise Reduction | 25 |
Color Noise Reduction Detail | 50 |
Color Noise Reduction Smoothness | 50 |
Color Space | sRGB |
Color Temperature | 7180 |
Contrast | Normal |
Contrast 2012 | +7 |
Convert To Grayscale | False |
Country | Deutschland |
Country Code | DE |
Crop Angle | 0 |
Crop Bottom | 0.998419 |
Crop Constrain To Warp | 0 |
Crop Left | 0.001581 |
Crop Right | 0.998419 |
Crop Top | 0.001581 |
Date Created | 2023:05:15 08:19:13 |
Defringe Green Amount | 0 |
Defringe Green Hue Hi | 60 |
Defringe Green Hue Lo | 40 |
Defringe Purple Amount | 0 |
Defringe Purple Hue Hi | 70 |
Defringe Purple Hue Lo | 30 |
Dehaze | +11 |
Digital Zoom Ratio | 1 |
Drone Model | Mini 3 Pro |
Drone Serial Number | 1581F4XFC22580 |
Exposure 2012 | +0.31 |
Exposure Compensation | -0.7 |
Exposure Mode | Auto |
Field Of View | 73.7 deg |
Flight Pitch Degree | -0.10 |
Flight Roll Degree | +1.00 |
Flight X Speed | 0.0 |
Flight Y Speed | 0.0 |
Flight Yaw Degree | -96.00 |
Flight Z Speed | 0.0 |
Focal Length In 35mm Format | 24 mm |
Format | image/jpeg |
Gain Control | None |
Gimbal Pitch Degree | -5.50 |
Gimbal Reverse | 0 |
Gimbal Roll Degree | +0.00 |
Gimbal Yaw Degree | -105.30 |
Gps Latitude | +49.585597501 |
Gps Longitude | +8.752840418 |
Gps Status | Invalid |
Grain Amount | 0 |
Green Hue | 0 |
Green Saturation | 0 |
Has Crop | True |
Has Settings | True |
Highlights 2012 | -79 |
Hue Adjustment Aqua | 0 |
Hue Adjustment Blue | 0 |
Hue Adjustment Green | 0 |
Hue Adjustment Magenta | 0 |
Hue Adjustment Orange | 0 |
Hue Adjustment Purple | 0 |
Hue Adjustment Red | 0 |
Hue Adjustment Yellow | 0 |
Hyperfocal Distance | 3.16 m |
ISO | 100 |
Image Size | 4019x3014 |
Image Source | DefaultCamera |
Is Merged HDR | True |
Lens | 6.7 mm f/1.7 |
Lens Info | 6.72mm f/1.7 |
Lens Manual Distortion Amount | 0 |
Lens Model | 6.7 mm f/1.7 |
Lens Profile Enable | 0 |
Light Source | Cloudy |
Light Value | 8.9 |
Location | Weiher |
Luminance Adjustment Aqua | 0 |
Luminance Adjustment Blue | -8 |
Luminance Adjustment Green | 0 |
Luminance Adjustment Magenta | 0 |
Luminance Adjustment Orange | 0 |
Luminance Adjustment Purple | 0 |
Luminance Adjustment Red | 0 |
Luminance Adjustment Yellow | 0 |
Luminance Smoothing | 0 |
Metering Mode | Average |
Override Look Vignette | False |
Parametric Darks | 0 |
Parametric Highlight Split | 75 |
Parametric Highlights | 0 |
Parametric Lights | 0 |
Parametric Midtone Split | 50 |
Parametric Shadow Split | 25 |
Parametric Shadows | 0 |
Perspective Aspect | 0 |
Perspective Horizontal | 0 |
Perspective Rotate | 0.0 |
Perspective Scale | 100 |
Perspective Upright | 0 |
Perspective Vertical | 0 |
Perspective X | 0.00 |
Perspective Y | 0.00 |
Post Crop Vignette Amount | 0 |
Preserved File Name | DJI_0140.DNG |
Process Version | 11.0 |
Raw File Name | DJI_0139-HDR.dng |
Red Hue | 0 |
Red Saturation | 0 |
Relative Altitude | +100.700 |
Saturation | Normal |
Saturation Adjustment Aqua | 0 |
Saturation Adjustment Blue | -37 |
Saturation Adjustment Green | 0 |
Saturation Adjustment Magenta | 0 |
Saturation Adjustment Orange | 0 |
Saturation Adjustment Purple | 0 |
Saturation Adjustment Red | 0 |
Saturation Adjustment Yellow | 0 |
Scale Factor To 35 mm Equivalent | 3.6 |
Scene Capture Type | Standard |
Scene Type | Directly photographed |
Sensitivity Type | Recommended Exposure Index |
Shadow Tint | 0 |
Shadows 2012 | +61 |
Sharpen Detail | 25 |
Sharpen Edge Masking | 0 |
Sharpen Radius | +1.0 |
Sharpness | Normal |
Shutter Type | Electronic |
Split Toning Balance | 0 |
Split Toning Highlight Hue | 0 |
Split Toning Highlight Saturation | 0 |
Split Toning Shadow Hue | 0 |
Split Toning Shadow Saturation | 0 |
State | Hessen |
Surveying Mode | 0 |
Texture | +12 |
Tint | +9 |
Tone Curve Name 2012 | Linear |
Tone Curve PV2012 | 0, 0, 255, 255 |
Tone Curve PV2012 Blue | 0, 0, 255, 255 |
Tone Curve PV2012 Green | 0, 0, 255, 255 |
Tone Curve PV2012 Red | 0, 0, 255, 255 |
Version | 15.3 |
Vibrance | +20 |
Vignette Amount | 0 |
White Balance | Auto |
Whites 2012 | +21 |
GPS Information |
GPS Altitude | 384.7 m |
GPS Latitude | 49 deg 35' 8.15" N |
GPS Latitude Ref | North |
GPS Longitude | 8 deg 45' 10.23" E |
GPS Longitude Ref | East |
GPS Map Datum | WGS-84 |
GPS Position | 49 deg 35' 8.15" N, 8 deg 45' 10.23" E |
GPS Status | Measurement Void |
GPS Version ID | 2.3.0.0 |