Shooting information for this photo
Camera: | NIKON CORPORATION NIKON D800 |
Exposure: | 0.00125 sec. (1/800) |
Aperture: | f/5.0 |
Focal Length: | 105.0 mm (35 mm equivalent: 105.0 mm) |
Flash: | Off, Did not fire |
Exposure mode: | Program AE |
Max Aperture: | 2.9 |
Resolution: | 240 x 240 dpi |
Original Date: | 2014:08:07 19:23:00.50 |
Created on: | 2014:08:07 19:23:00.50 |
Modified on: | 2014:08:30 13:28:20 |
Software: | Adobe Photoshop Lightroom 5.6 (Windows) |
Copyright: | Sven Scholz |
Already Applied | True |
Approximate Focus Distance | 2 |
Artist | Sven Scholz |
Auto Lateral CA | 0 |
Auto White Version | 134348800 |
Blacks 2012 | +61 |
Blue Hue | 0 |
Blue Saturation | 0 |
CFA Pattern | [Red,Green][Green,Blue] |
Camera Profile | Adobe Standard |
Circle Of Confusion | 0.030 mm |
City | Glastonbury |
Clarity 2012 | +30 |
Color Noise Reduction | 25 |
Color Noise Reduction Detail | 50 |
Color Noise Reduction Smoothness | 50 |
Color Temperature | 14085 |
Contrast | Normal |
Contrast 2012 | +5 |
Convert To Grayscale | False |
Country | Großbritannien und Nordirland |
Creator | Sven Scholz |
Custom Rendered | Normal |
Date Created | 2014:08:07 19:23:00.50 |
Defringe Green Amount | 0 |
Defringe Green Hue Hi | 60 |
Defringe Green Hue Lo | 40 |
Defringe Purple Amount | 0 |
Defringe Purple Hue Hi | 70 |
Defringe Purple Hue Lo | 30 |
Digital Zoom Ratio | 1 |
Exposure 2012 | -1.02 |
Exposure Compensation | 0 |
Exposure Mode | Auto |
Field Of View | 19.5 deg |
Focal Length In 35mm Format | 105 mm |
Format | image/jpeg |
Gain Control | Low gain up |
Grain Amount | 0 |
Green Hue | 0 |
Green Saturation | 0 |
Has Crop | False |
Has Settings | True |
Highlights 2012 | +46 |
Hue Adjustment Aqua | 0 |
Hue Adjustment Blue | +11 |
Hue Adjustment Green | +11 |
Hue Adjustment Magenta | 0 |
Hue Adjustment Orange | 0 |
Hue Adjustment Purple | 0 |
Hue Adjustment Red | 0 |
Hue Adjustment Yellow | 0 |
Hyperfocal Distance | 73.39 m |
ISO | 400 |
Image Number | 4194 |
Image Size | 7360x4912 |
Lens | 105.0 mm f/2.8 |
Lens ID | AF-S VR Micro-Nikkor 105mm f/2.8G IF-ED |
Lens Info | 105mm f/2.8 |
Lens Manual Distortion Amount | 0 |
Lens Model | 105.0 mm f/2.8 |
Lens Profile Chromatic Aberration Scale | 100 |
Lens Profile Distortion Scale | 100 |
Lens Profile Enable | 1 |
Lens Profile Filename | NIKON D3 (Nikon AF-S VR Micro-Nikkor 105mm f2.8G IF-ED) - RAW.lcp |
Lens Profile Name | Adobe (Nikon AF-S VR Micro-Nikkor 105mm f/2.8G IF-ED) |
Lens Profile Setup | LensDefaults |
Lens Profile Vignetting Scale | 100 |
Light Source | Unknown |
Light Value | 12.3 |
Location | Tor Court |
Luminance Adjustment Aqua | 0 |
Luminance Adjustment Blue | 0 |
Luminance Adjustment Green | 0 |
Luminance Adjustment Magenta | 0 |
Luminance Adjustment Orange | 0 |
Luminance Adjustment Purple | 0 |
Luminance Adjustment Red | 0 |
Luminance Adjustment Yellow | 0 |
Luminance Noise Reduction Contrast | 0 |
Luminance Noise Reduction Detail | 50 |
Luminance Smoothing | 28 |
Metering Mode | Center-weighted average |
Paint Correction Active | true |
Paint Correction Amount | 1.000000 |
Paint Correction Brightness | 0.000000 |
Paint Correction Clarity 2012 | 0.000000 |
Paint Correction Contrast 2012 | -0.545450 |
Paint Correction Defringe | 0.000000 |
Paint Correction Exposure 2012 | 0.000000 |
Paint Correction Highlights 2012 | 0.000000 |
Paint Correction Hue | 0.000000 |
Paint Correction Luminance Noise | 0.000000 |
Paint Correction Mask Center Weight | 0.011520 |
Paint Correction Mask Flow | 1.000000 |
Paint Correction Mask Radius | 0.006062 |
Paint Correction Mask Value | 1.000000 |
Paint Correction Mask What | Mask/Paint |
Paint Correction Moire | 0.000000 |
Paint Correction Saturation | 0.000000 |
Paint Correction Shadows 2012 | 0.000000 |
Paint Correction Sharpness | 0.000000 |
Paint Correction Temperature | 0.000000 |
Paint Correction Tint | 0.000000 |
Paint Correction What | Correction |
Parametric Darks | -3 |
Parametric Highlight Split | 75 |
Parametric Highlights | 0 |
Parametric Lights | 0 |
Parametric Midtone Split | 50 |
Parametric Shadow Split | 25 |
Parametric Shadows | -14 |
Perspective Aspect | 0 |
Perspective Horizontal | 0 |
Perspective Rotate | 0.0 |
Perspective Scale | 100 |
Perspective Upright | 0 |
Perspective Vertical | 0 |
Post Crop Vignette Amount | 0 |
Process Version | 6.7 |
Red Hue | 0 |
Red Saturation | 0 |
Rights | Sven Scholz |
Saturation | Normal |
Saturation Adjustment Aqua | 0 |
Saturation Adjustment Blue | +5 |
Saturation Adjustment Green | +25 |
Saturation Adjustment Magenta | 0 |
Saturation Adjustment Orange | 0 |
Saturation Adjustment Purple | 0 |
Saturation Adjustment Red | 0 |
Saturation Adjustment Yellow | 0 |
Scale Factor To 35 mm Equivalent | 1.0 |
Scene Capture Type | Standard |
Scene Type | Directly photographed |
Sensing Method | One-chip color area |
Sensitivity Type | Recommended Exposure Index |
Shadow Tint | +8 |
Shadows 2012 | -7 |
Sharpen Detail | 25 |
Sharpen Edge Masking | 0 |
Sharpen Radius | +1.0 |
Sharpness | Normal |
Split Toning Balance | 0 |
Split Toning Highlight Hue | 0 |
Split Toning Highlight Saturation | 0 |
Split Toning Shadow Hue | 0 |
Split Toning Shadow Saturation | 0 |
State | England |
Subject Distance Range | Unknown |
Tint | +150 |
Tone Curve | 0, 0, 255, 255 |
Tone Curve Blue | 0, 0, 255, 255 |
Tone Curve Green | 0, 0, 255, 255 |
Tone Curve Name | Linear |
Tone Curve Name 2012 | Custom |
Tone Curve PV2012 | 0, 0, 44, 37, 127, 142, 255, 255 |
Tone Curve PV2012 Blue | 0, 0, 255, 255 |
Tone Curve PV2012 Green | 0, 0, 255, 255 |
Tone Curve PV2012 Red | 0, 0, 255, 255 |
Tone Curve Red | 0, 0, 255, 255 |
Version | 8.6 |
Vibrance | 0 |
Vignette Amount | -8 |
Vignette Midpoint | 15 |
White Balance | Auto |
Whites 2012 | +100 |
GPS Information |
GPS Altitude | 160 m Above Sea Level |
GPS Altitude Ref | Above Sea Level |
GPS Date Stamp | 2014:08:07 |
GPS Date/Time | 2014:08:07 18:22:59Z |
GPS Latitude | 51 deg 8' 40.75" N |
GPS Latitude Ref | North |
GPS Longitude | 2 deg 41' 55.31" W |
GPS Longitude Ref | West |
GPS Position | 51 deg 8' 40.75" N, 2 deg 41' 55.31" W |
GPS Satellites | 07 |
GPS Time Stamp | 18:22:59 |
GPS Version ID | 2.3.0.0 |