Shooting information for this photo
Camera: | NIKON CORPORATION NIKON D800 |
Exposure: | 1.3 sec. |
Aperture: | f/13.0 |
Focal Length: | 50.0 mm (35 mm equivalent: 50.0 mm) |
Flash: | Off, Did not fire |
Exposure mode: | Aperture-priority AE |
Max Aperture: | 2.8 |
Resolution: | 300 x 300 dpi |
Original Date: | 2014:04:23 19:31:59.00 |
Created on: | 2014:04:23 19:31:59.00 |
Modified on: | 2014:04:26 11:42:11 |
Software: | Adobe Photoshop Lightroom 5.4 (Windows) |
Copyright: | Sven Scholz |
Already Applied | True |
Approximate Focus Distance | 4294967295 |
Artist | Sven Scholz |
Auto Lateral CA | 0 |
Auto White Version | 134348800 |
Blacks 2012 | +9 |
Blue Hue | 0 |
Blue Saturation | 0 |
CFA Pattern | [Red,Green][Green,Blue] |
Camera Profile | Adobe Standard |
Circle Of Confusion | 0.030 mm |
City | Berlin |
Clarity 2012 | -28 |
Color Noise Reduction | 25 |
Color Noise Reduction Detail | 50 |
Color Noise Reduction Smoothness | 50 |
Color Temperature | 5500 |
Contrast | Normal |
Contrast 2012 | +15 |
Convert To Grayscale | False |
Country | Deutschland |
Creator | Sven Scholz |
Crop Angle | 2.45958 |
Crop Bottom | 0.985366 |
Crop Constrain To Warp | 1 |
Crop Left | 0.050411 |
Crop Right | 0.949501 |
Crop Top | 0.000167 |
Custom Rendered | Custom |
Date Created | 2014:04:23 19:31:59.00 |
Defringe Green Amount | 0 |
Defringe Green Hue Hi | 60 |
Defringe Green Hue Lo | 40 |
Defringe Purple Amount | 0 |
Defringe Purple Hue Hi | 70 |
Defringe Purple Hue Lo | 30 |
Digital Zoom Ratio | 1 |
Exposure 2012 | +0.22 |
Exposure Compensation | -2 |
Exposure Mode | Auto |
Field Of View | 39.6 deg |
Focal Length In 35mm Format | 50 mm |
Format | image/jpeg |
Gain Control | None |
Grain Amount | 0 |
Green Hue | 0 |
Green Saturation | 0 |
Has Crop | True |
Has Settings | True |
Highlights 2012 | +44 |
Hue Adjustment Aqua | 0 |
Hue Adjustment Blue | 0 |
Hue Adjustment Green | 0 |
Hue Adjustment Magenta | 0 |
Hue Adjustment Orange | 0 |
Hue Adjustment Purple | 0 |
Hue Adjustment Red | 0 |
Hue Adjustment Yellow | 0 |
Hyperfocal Distance | 6.40 m |
ISO | 100 |
Image Number | 3606 |
Image Size | 6819x4551 |
Lens | 50.0 mm f/2.8 |
Lens ID | Sigma Macro 50mm F2.8 EX DG |
Lens Info | 50mm f/2.8 |
Lens Manual Distortion Amount | 0 |
Lens Model | 50.0 mm f/2.8 |
Lens Profile Chromatic Aberration Scale | 100 |
Lens Profile Distortion Scale | 100 |
Lens Profile Enable | 1 |
Lens Profile Filename | NIKON CORPORATION (Sigma_50mm_F2.8_MACRO_EX_DG ) - RAW.lcp |
Lens Profile Name | Adobe (SIGMA MACRO 50mm F2.8 EX DG, NIKON CORPORATION) |
Lens Profile Setup | Auto |
Lens Profile Vignetting Scale | 100 |
Light Source | Unknown |
Light Value | 7.0 |
Location | Bezirk Mitte |
Luminance Adjustment Aqua | 0 |
Luminance Adjustment Blue | -63 |
Luminance Adjustment Green | -100 |
Luminance Adjustment Magenta | +20 |
Luminance Adjustment Orange | +86 |
Luminance Adjustment Purple | +25 |
Luminance Adjustment Red | +82 |
Luminance Adjustment Yellow | +23 |
Luminance Smoothing | 0 |
Metering Mode | Multi-segment |
Parametric Darks | 0 |
Parametric Highlight Split | 75 |
Parametric Highlights | 0 |
Parametric Lights | 0 |
Parametric Midtone Split | 50 |
Parametric Shadow Split | 25 |
Parametric Shadows | 0 |
Perspective Aspect | 0 |
Perspective Horizontal | 0 |
Perspective Rotate | 0.0 |
Perspective Scale | 100 |
Perspective Upright | 0 |
Perspective Vertical | -13 |
Post Crop Vignette Amount | 0 |
Process Version | 6.7 |
Rating Percent | 0 |
Red Hue | 0 |
Red Saturation | 0 |
Rights | Sven Scholz |
Saturation | Normal |
Saturation Adjustment Aqua | 0 |
Saturation Adjustment Blue | -4 |
Saturation Adjustment Green | 0 |
Saturation Adjustment Magenta | 0 |
Saturation Adjustment Orange | 0 |
Saturation Adjustment Purple | 0 |
Saturation Adjustment Red | 0 |
Saturation Adjustment Yellow | 0 |
Scale Factor To 35 mm Equivalent | 1.0 |
Scene Capture Type | Standard |
Scene Type | Directly photographed |
Sensing Method | One-chip color area |
Sensitivity Type | Recommended Exposure Index |
Shadow Tint | 0 |
Shadows 2012 | +63 |
Sharpen Detail | 25 |
Sharpen Edge Masking | 0 |
Sharpen Radius | +1.0 |
Sharpness | Normal |
Split Toning Balance | 0 |
Split Toning Highlight Hue | 0 |
Split Toning Highlight Saturation | 0 |
Split Toning Shadow Hue | 0 |
Split Toning Shadow Saturation | 0 |
State | Berlin |
Subject Distance Range | Unknown |
Tint | +2 |
Tone Curve | 0, 0, 255, 255 |
Tone Curve Blue | 0, 0, 255, 255 |
Tone Curve Green | 0, 0, 255, 255 |
Tone Curve Name | Linear |
Tone Curve Name 2012 | Custom |
Tone Curve PV2012 | 0, 0, 15, 17, 51, 66, 122, 148, 255, 255 |
Tone Curve PV2012 Blue | 0, 0, 255, 255 |
Tone Curve PV2012 Green | 0, 0, 255, 255 |
Tone Curve PV2012 Red | 0, 0, 255, 255 |
Tone Curve Red | 0, 0, 255, 255 |
Version | 8.4 |
Vibrance | +16 |
Vignette Amount | -40 |
Vignette Midpoint | 25 |
White Balance | Auto |
Whites 2012 | -43 |
GPS Information |
GPS Altitude | 26 m Above Sea Level |
GPS Altitude Ref | Above Sea Level |
GPS Date Stamp | 2014:04:23 |
GPS Date/Time | 2014:04:23 18:31:58Z |
GPS Latitude | 52 deg 31' 7.68" N |
GPS Latitude Ref | North |
GPS Longitude | 13 deg 22' 20.83" E |
GPS Longitude Ref | East |
GPS Position | 52 deg 31' 7.68" N, 13 deg 22' 20.83" E |
GPS Satellites | 06 |
GPS Time Stamp | 18:31:58 |
GPS Version ID | 2.3.0.0 |