Shooting information for this photo
Camera: | NIKON CORPORATION NIKON D800 |
Exposure: | 0.005 sec. (1/200) |
Aperture: | f/7.1 |
Focal Length: | 35.0 mm (35 mm equivalent: 35.0 mm) |
Flash: | Off, Did not fire |
Exposure mode: | Program AE |
Max Aperture: | 4.0 |
Resolution: | 300 x 300 dpi |
Original Date: | 2014:03:22 15:47:56.00 |
Created on: | 2014:03:22 15:47:56.00 |
Modified on: | 2014:03:31 16:13:24 |
Software: | Adobe Photoshop Lightroom 5.0 (Windows) |
Copyright: | Sven Scholz |
Already Applied | True |
Approximate Focus Distance | 4294967295 |
Artist | Sven Scholz |
Auto Lateral CA | 0 |
Auto White Version | 134348800 |
Blacks 2012 | 0 |
Blue Hue | 0 |
Blue Saturation | 0 |
CFA Pattern | [Red,Green][Green,Blue] |
Camera Profile | Adobe Standard |
Circle Of Confusion | 0.030 mm |
Clarity 2012 | +21 |
Color Noise Reduction | 25 |
Color Noise Reduction Detail | 50 |
Color Noise Reduction Smoothness | 50 |
Color Temperature | 5200 |
Contrast | Normal |
Contrast 2012 | +9 |
Convert To Grayscale | False |
Creator | Sven Scholz |
Crop Angle | 0 |
Crop Bottom | 1 |
Crop Constrain To Warp | 0 |
Crop Left | 0.311936 |
Crop Right | 0.757347 |
Crop Top | 0 |
Custom Rendered | Normal |
Date Created | 2014:03:22 15:47:56.00 |
Defringe Green Amount | 0 |
Defringe Green Hue Hi | 60 |
Defringe Green Hue Lo | 40 |
Defringe Purple Amount | 0 |
Defringe Purple Hue Hi | 70 |
Defringe Purple Hue Lo | 30 |
Digital Zoom Ratio | 1 |
Exposure 2012 | -0.15 |
Exposure Compensation | 0 |
Exposure Mode | Auto |
Field Of View | 54.4 deg |
Focal Length In 35mm Format | 35 mm |
Format | image/jpeg |
Gain Control | None |
Grain Amount | 0 |
Green Hue | 0 |
Green Saturation | 0 |
Has Crop | True |
Has Settings | True |
Highlights 2012 | -100 |
Hue Adjustment Aqua | 0 |
Hue Adjustment Blue | 0 |
Hue Adjustment Green | 0 |
Hue Adjustment Magenta | 0 |
Hue Adjustment Orange | 0 |
Hue Adjustment Purple | 0 |
Hue Adjustment Red | 0 |
Hue Adjustment Yellow | -11 |
Hyperfocal Distance | 5.74 m |
ISO | 100 |
Image Number | 2888 |
Image Size | 3278x4912 |
Lens | 16.0-35.0 mm f/4.0 |
Lens ID | AF-S Nikkor 16-35mm f/4G ED VR |
Lens Info | 16-35mm f/4 |
Lens Manual Distortion Amount | 0 |
Lens Model | 16.0-35.0 mm f/4.0 |
Lens Profile Chromatic Aberration Scale | 100 |
Lens Profile Distortion Scale | 100 |
Lens Profile Enable | 1 |
Lens Profile Filename | NIKON D3X (Nikon AF-S NIKKOR 16-35mm f4G ED VR) - RAW.lcp |
Lens Profile Name | Adobe (Nikon AF-S NIKKOR 16-35mm f/4G ED VR) |
Lens Profile Setup | Custom |
Lens Profile Vignetting Scale | 100 |
Light Source | Unknown |
Light Value | 13.3 |
Luminance Adjustment Aqua | -45 |
Luminance Adjustment Blue | -35 |
Luminance Adjustment Green | 0 |
Luminance Adjustment Magenta | +15 |
Luminance Adjustment Orange | -7 |
Luminance Adjustment Purple | +24 |
Luminance Adjustment Red | 0 |
Luminance Adjustment Yellow | +18 |
Luminance Smoothing | 0 |
Metering Mode | Center-weighted average |
Parametric Darks | 0 |
Parametric Highlight Split | 75 |
Parametric Highlights | 0 |
Parametric Lights | 0 |
Parametric Midtone Split | 50 |
Parametric Shadow Split | 25 |
Parametric Shadows | 0 |
Perspective Aspect | 0 |
Perspective Horizontal | 0 |
Perspective Rotate | 0.0 |
Perspective Scale | 100 |
Perspective Upright | 0 |
Perspective Vertical | 0 |
Post Crop Vignette Amount | 0 |
Process Version | 6.7 |
Rating Percent | 0 |
Red Hue | 0 |
Red Saturation | 0 |
Rights | Sven Scholz |
Saturation | Normal |
Saturation Adjustment Aqua | 0 |
Saturation Adjustment Blue | -38 |
Saturation Adjustment Green | 0 |
Saturation Adjustment Magenta | 0 |
Saturation Adjustment Orange | +13 |
Saturation Adjustment Purple | 0 |
Saturation Adjustment Red | +1 |
Saturation Adjustment Yellow | +21 |
Scale Factor To 35 mm Equivalent | 1.0 |
Scene Capture Type | Standard |
Scene Type | Directly photographed |
Sensing Method | One-chip color area |
Sensitivity Type | Recommended Exposure Index |
Shadow Tint | 0 |
Shadows 2012 | +84 |
Sharpen Detail | 25 |
Sharpen Edge Masking | 0 |
Sharpen Radius | +1.0 |
Sharpness | Normal |
Split Toning Balance | 0 |
Split Toning Highlight Hue | 0 |
Split Toning Highlight Saturation | 0 |
Split Toning Shadow Hue | 0 |
Split Toning Shadow Saturation | 0 |
Subject Distance Range | Unknown |
Tint | +5 |
Tone Curve Name 2012 | Custom |
Tone Curve PV2012 | 0, 0, 14, 11, 40, 37, 88, 92, 160, 169, 255, 255 |
Tone Curve PV2012 Blue | 0, 0, 255, 255 |
Tone Curve PV2012 Green | 0, 0, 255, 255 |
Tone Curve PV2012 Red | 0, 0, 255, 255 |
Version | 8.2 |
Vibrance | +21 |
Vignette Amount | 0 |
White Balance | Auto |
Whites 2012 | 0 |