Shooting information for this photo
Camera: | Canon EOS R3 |
Exposure: | 0.001 sec. (1/1000) |
Aperture: | f/3.5 |
Focal Length: | 125.0 mm (35 mm equivalent: 939.5 mm) |
Flash: | No Flash |
Exposure mode: | Shutter speed priority AE |
Max Aperture: | 2.8 |
Resolution: | 240 x 240 dpi |
Original Date: | 2023:06:10 11:47:19.44 |
Created on: | 2023:06:10 11:47:19.44 |
Modified on: | 2023:06:14 22:13:48 |
Software: | Adobe Photoshop Lightroom Classic 12.4 (Macintosh) |
Copyright: | Sportpixel |
Already Applied | True |
Approximate Focus Distance | 8.29 |
Artist | Martin Maguolo |
Auto Lateral CA | 1 |
Blacks 2012 | -15 |
Blue Hue | 0 |
Blue Saturation | 0 |
Camera Profile | Adobe Standard |
Circle Of Confusion | 0.004 mm |
Clarity 2012 | 0 |
Color Grade Blending | 50 |
Color Grade Global Hue | 0 |
Color Grade Global Lum | 0 |
Color Grade Global Sat | 0 |
Color Grade Highlight Lum | 0 |
Color Grade Midtone Hue | 0 |
Color Grade Midtone Lum | 0 |
Color Grade Midtone Sat | 0 |
Color Grade Shadow Lum | 0 |
Color Noise Reduction | 30 |
Color Noise Reduction Detail | 50 |
Color Noise Reduction Smoothness | 50 |
Color Space | sRGB |
Color Temperature | 3950 |
Contrast 2012 | +9 |
Creator | Martin Maguolo |
Crop Angle | 1.59666 |
Crop Bottom | 0.932671 |
Crop Constrain To Warp | 0 |
Crop Left | 0.015435 |
Crop Right | 0.830613 |
Crop Top | 0.067329 |
Custom Rendered | Normal |
Date Created | 2023:06:10 11:47:19.44+01:00 |
Defringe Green Amount | 0 |
Defringe Green Hue Hi | 60 |
Defringe Green Hue Lo | 40 |
Defringe Purple Amount | 0 |
Defringe Purple Hue Hi | 70 |
Defringe Purple Hue Lo | 30 |
Dehaze | 0 |
Distortion Correction Already Applied | True |
Exposure 2012 | +0.31 |
Exposure Compensation | 0 |
Exposure Mode | Auto |
Field Of View | 2.2 deg |
Firmware | 1.4.1 |
Flash Compensation | 0 |
Format | image/jpeg |
Grain Amount | 0 |
Green Hue | 0 |
Green Saturation | 0 |
Has Crop | True |
Has Settings | True |
Highlights 2012 | -25 |
Hue Adjustment Aqua | 0 |
Hue Adjustment Blue | 0 |
Hue Adjustment Green | 0 |
Hue Adjustment Magenta | 0 |
Hue Adjustment Orange | 0 |
Hue Adjustment Purple | 0 |
Hue Adjustment Red | 0 |
Hue Adjustment Yellow | 0 |
Hyperfocal Distance | 1116.71 m |
ISO | 3200 |
Image Number | 0 |
Image Size | 533x800 |
Lateral Chromatic Aberration Correction Already Applied | True |
Lens | EF70-200mm f/2.8L IS II USM |
Lens ID | Canon EF 70-200mm f/2.8L IS II USM |
Lens Info | 70-200mm f/? |
Lens Manual Distortion Amount | 0 |
Lens Model | EF70-200mm f/2.8L IS II USM |
Lens Profile Distortion Scale | 100 |
Lens Profile Enable | 1 |
Lens Profile Filename | Canon EOS 5D Mark II (Canon EF 70-200mm f2.8L IS II USM) - RAW.lcp |
Lens Profile Is Embedded | False |
Lens Profile Name | Adobe (Canon EF 70-200mm f/2.8 L IS II USM) |
Lens Profile Setup | LensDefaults |
Lens Profile Vignetting Scale | 100 |
Light Value | 8.6 |
Look Amount | 1 |
Look Group | Profiles |
Look Name | Adobe Color |
Look Parameters Camera Profile | Adobe Standard |
Look Parameters Convert To Grayscale | False |
Look Parameters Look Table | E1095149FDB39D7A057BAB208837E2 E1 |
Look Parameters Process Version | 15.4 |
Look Parameters Tone Curve PV2012 | 0, 0, 22, 16, 40, 35, 127, 127, 224, 230, 240, 246, 255, 255 |
Look Parameters Tone Curve PV2012 Blue | 0, 0, 255, 255 |
Look Parameters Tone Curve PV2012 Green | 0, 0, 255, 255 |
Look Parameters Tone Curve PV2012 Red | 0, 0, 255, 255 |
Look Parameters Version | 15.4 |
Look Supports Amount | false |
Look Supports Monochrome | false |
Look Supports Output Referred | false |
Luminance Adjustment Aqua | 0 |
Luminance Adjustment Blue | 0 |
Luminance Adjustment Green | 0 |
Luminance Adjustment Magenta | 0 |
Luminance Adjustment Orange | 0 |
Luminance Adjustment Purple | 0 |
Luminance Adjustment Red | 0 |
Luminance Adjustment Yellow | 0 |
Luminance Noise Reduction Contrast | 0 |
Luminance Noise Reduction Detail | 50 |
Luminance Smoothing | 50 |
Marked | True |
Metering Mode | Multi-segment |
Override Look Vignette | False |
Parametric Darks | 0 |
Parametric Highlight Split | 75 |
Parametric Highlights | 0 |
Parametric Lights | 0 |
Parametric Midtone Split | 50 |
Parametric Shadow Split | 25 |
Parametric Shadows | 0 |
Perspective Aspect | 0 |
Perspective Horizontal | 0 |
Perspective Rotate | 0.0 |
Perspective Scale | 100 |
Perspective Upright | 0 |
Perspective Vertical | 0 |
Perspective X | 0.00 |
Perspective Y | 0.00 |
Post Crop Vignette Amount | 0 |
Preserved File Name | 206A2738.CR3 |
Process Version | 11.0 |
Raw File Name | 206A2738.CR3 |
Recommended Exposure Index | 3200 |
Red Hue | 0 |
Red Saturation | 0 |
Rights | Sportpixel |
Saturation | 0 |
Saturation Adjustment Aqua | 0 |
Saturation Adjustment Blue | 0 |
Saturation Adjustment Green | 0 |
Saturation Adjustment Magenta | 0 |
Saturation Adjustment Orange | 0 |
Saturation Adjustment Purple | 0 |
Saturation Adjustment Red | 0 |
Saturation Adjustment Yellow | 0 |
Scale Factor To 35 mm Equivalent | 7.5 |
Scene Capture Type | Standard |
Sensitivity Type | Recommended Exposure Index |
Shadow Tint | 0 |
Shadows 2012 | +48 |
Sharpen Detail | 25 |
Sharpen Edge Masking | 11 |
Sharpen Radius | +1.1 |
Sharpness | 51 |
Split Toning Balance | 0 |
Split Toning Highlight Hue | 0 |
Split Toning Highlight Saturation | 0 |
Split Toning Shadow Hue | 0 |
Split Toning Shadow Saturation | 0 |
Subject | AK11-19+, Badische, Kunstturnen, Kür, Ludwigsburg, Meisterschaften, Württembergische, männlich |
Texture | 0 |
Tint | +28 |
Tone Curve Name 2012 | Linear |
Tone Curve PV2012 | 0, 0, 255, 255 |
Tone Curve PV2012 Blue | 0, 0, 255, 255 |
Tone Curve PV2012 Green | 0, 0, 255, 255 |
Tone Curve PV2012 Red | 0, 0, 255, 255 |
Usage Terms | www.sportpixel.com |
Version | 15.4 |
Vibrance | +13 |
Vignette Amount | 0 |
Vignette Correction Already Applied | True |
Web Statement | www.sportpixel.com |
Weighted Flat Subject | AK11-19+, Badische, Kunstturnen, männlich, Meisterschaften, Kür, Ludwigsburg, Württembergische |
White Balance | Auto |
Whites 2012 | +12 |