Shooting information for this photo
Camera: | Canon EOS-1D X |
Exposure: | 0.0025 sec. (1/400) |
Aperture: | f/4.5 |
Focal Length: | 115.0 mm (35 mm equivalent: 745.3 mm) |
Flash: | Off, Did not fire |
Exposure mode: | Aperture-priority AE |
Max Aperture: | 2.8 |
Resolution: | 240 x 240 dpi |
Original Date: | 2022:07:09 15:18:13.46 |
Created on: | 2022:07:09 15:18:13.46 |
Modified on: | 2022:07:19 18:49:28 |
Software: | Adobe Photoshop Lightroom Classic 11.4.1 (Macintosh) |
Copyright: | Martin Maguolo |
Already Applied | True |
Approximate Focus Distance | 11.9 |
Auto Lateral CA | 0 |
Blacks 2012 | -8 |
Blue Hue | 0 |
Blue Saturation | 0 |
Camera Profile | Adobe Standard |
Circle Of Confusion | 0.005 mm |
Clarity 2012 | 0 |
Color Grade Blending | 50 |
Color Grade Global Hue | 0 |
Color Grade Global Lum | 0 |
Color Grade Global Sat | 0 |
Color Grade Highlight Lum | 0 |
Color Grade Midtone Hue | 0 |
Color Grade Midtone Lum | 0 |
Color Grade Midtone Sat | 0 |
Color Grade Shadow Lum | 0 |
Color Noise Reduction | 25 |
Color Noise Reduction Detail | 50 |
Color Noise Reduction Smoothness | 50 |
Color Space | sRGB |
Color Temperature | 4768 |
Contrast 2012 | +5 |
Crop Angle | 0.399209 |
Crop Bottom | 0.956159 |
Crop Constrain To Warp | 0 |
Crop Left | 0.067007 |
Crop Right | 0.933561 |
Crop Top | 0.076461 |
Custom Rendered | Normal |
Date Created | 2022:07:09 15:18:13.46 |
Defringe Green Amount | 0 |
Defringe Green Hue Hi | 60 |
Defringe Green Hue Lo | 40 |
Defringe Purple Amount | 0 |
Defringe Purple Hue Hi | 70 |
Defringe Purple Hue Lo | 30 |
Dehaze | 0 |
Exposure 2012 | +0.74 |
Exposure Compensation | 0 |
Exposure Mode | Auto |
Field Of View | 2.8 deg |
Firmware | 2.1.0 |
Flash Compensation | 0 |
Format | image/jpeg |
Grain Amount | 0 |
Green Hue | 0 |
Green Saturation | 0 |
Has Crop | True |
Has Settings | True |
Highlights 2012 | -35 |
Hue Adjustment Aqua | 0 |
Hue Adjustment Blue | 0 |
Hue Adjustment Green | 0 |
Hue Adjustment Magenta | 0 |
Hue Adjustment Orange | 0 |
Hue Adjustment Purple | 0 |
Hue Adjustment Red | 0 |
Hue Adjustment Yellow | 0 |
Hyperfocal Distance | 633.94 m |
ISO | 2500 |
Image Number | 0 |
Image Size | 800x533 |
Lens | EF70-200mm f/2.8L IS II USM |
Lens ID | Canon EF 70-200mm f/2.8L IS II USM |
Lens Info | 70-200mm f/? |
Lens Manual Distortion Amount | 0 |
Lens Model | EF70-200mm f/2.8L IS II USM |
Lens Profile Enable | 0 |
Light Value | 8.3 |
Look Amount | 1 |
Look Group | Profiles |
Look Name | Adobe Color |
Look Parameters Camera Profile | Adobe Standard |
Look Parameters Convert To Grayscale | False |
Look Parameters Look Table | E1095149FDB39D7A057BAB208837E2 E1 |
Look Parameters Process Version | 11.0 |
Look Parameters Tone Curve PV2012 | 0, 0, 22, 16, 40, 35, 127, 127, 224, 230, 240, 246, 255, 255 |
Look Parameters Tone Curve PV2012 Blue | 0, 0, 255, 255 |
Look Parameters Tone Curve PV2012 Green | 0, 0, 255, 255 |
Look Parameters Tone Curve PV2012 Red | 0, 0, 255, 255 |
Look Parameters Version | 14.4.1 |
Look Supports Amount | false |
Look Supports Monochrome | false |
Look Supports Output Referred | false |
Luminance Adjustment Aqua | 0 |
Luminance Adjustment Blue | 0 |
Luminance Adjustment Green | 0 |
Luminance Adjustment Magenta | 0 |
Luminance Adjustment Orange | 0 |
Luminance Adjustment Purple | 0 |
Luminance Adjustment Red | 0 |
Luminance Adjustment Yellow | 0 |
Luminance Noise Reduction Contrast | 0 |
Luminance Noise Reduction Detail | 50 |
Luminance Smoothing | 28 |
Marked | True |
Metering Mode | Multi-segment |
Override Look Vignette | False |
Parametric Darks | 0 |
Parametric Highlight Split | 75 |
Parametric Highlights | 0 |
Parametric Lights | 0 |
Parametric Midtone Split | 50 |
Parametric Shadow Split | 25 |
Parametric Shadows | 0 |
Perspective Aspect | 0 |
Perspective Horizontal | 0 |
Perspective Rotate | 0.0 |
Perspective Scale | 100 |
Perspective Upright | 0 |
Perspective Vertical | 0 |
Perspective X | 0.00 |
Perspective Y | 0.00 |
Post Crop Vignette Amount | 0 |
Preserved File Name | EP2P1923.CR2 |
Process Version | 11.0 |
Raw File Name | EP2P1923.CR2 |
Recommended Exposure Index | 2500 |
Red Hue | 0 |
Red Saturation | 0 |
Rights | Martin Maguolo |
Saturation | -4 |
Saturation Adjustment Aqua | 0 |
Saturation Adjustment Blue | 0 |
Saturation Adjustment Green | 0 |
Saturation Adjustment Magenta | 0 |
Saturation Adjustment Orange | 0 |
Saturation Adjustment Purple | 0 |
Saturation Adjustment Red | 0 |
Saturation Adjustment Yellow | 0 |
Scale Factor To 35 mm Equivalent | 6.5 |
Scene Capture Type | Standard |
Sensitivity Type | Recommended Exposure Index |
Shadow Tint | 0 |
Shadows 2012 | +44 |
Sharpen Detail | 30 |
Sharpen Edge Masking | 14 |
Sharpen Radius | +1.1 |
Sharpness | 61 |
Split Toning Balance | 0 |
Split Toning Highlight Hue | 0 |
Split Toning Highlight Saturation | 0 |
Split Toning Shadow Hue | 0 |
Split Toning Shadow Saturation | 0 |
Subject | 20.ITG, Internationales Judoturnier, Judo, Kampfsport, Samstag, Sindelfingen |
Texture | 0 |
Tint | +14 |
Tone Curve Name 2012 | Linear |
Tone Curve PV2012 | 0, 0, 255, 255 |
Tone Curve PV2012 Blue | 0, 0, 255, 255 |
Tone Curve PV2012 Green | 0, 0, 255, 255 |
Tone Curve PV2012 Red | 0, 0, 255, 255 |
Usage Terms | www.sportpixel.com |
Version | 14.4.1 |
Vibrance | +15 |
Vignette Amount | 0 |
Web Statement | www.sportpixel.com |
Weighted Flat Subject | 20.ITG, Internationales Judoturnier, Judo, Kampfsport, Samstag, Sindelfingen |
White Balance | Auto |
Whites 2012 | +47 |