Shooting information for this photo
Camera: | Canon EOS-1D Mark IV |
Exposure: | 0.00625 sec. (1/160) |
Aperture: | f/6.3 |
Focal Length: | 28.0 mm (35 mm equivalent: 31.0 mm) |
Flash: | Off, Did not fire |
Exposure mode: | Program AE |
Max Aperture: | 2.8 |
Resolution: | 240 x 240 dpi |
Original Date: | 2020:01:26 05:12:57.44 |
Created on: | 2020:01:26 05:12:57.44 |
Modified on: | 2020:02:16 12:43:51 |
Software: | Adobe Photoshop Lightroom Classic 9.2 (Macintosh) |
Copyright: | Martin Maguolo |
Already Applied | True |
Artist | Martin Maguolo |
Auto Lateral CA | 1 |
Blacks 2012 | -7 |
Blue Hue | 0 |
Blue Saturation | 0 |
Camera Profile | Adobe Standard |
Circle Of Confusion | 0.027 mm |
Clarity 2012 | 0 |
Color Noise Reduction | 25 |
Color Noise Reduction Detail | 50 |
Color Noise Reduction Smoothness | 50 |
Color Space | sRGB |
Color Temperature | 5000 |
Contrast 2012 | +11 |
Convert To Grayscale | False |
Creator | Martin Maguolo |
Crop Angle | 0 |
Crop Bottom | 0.888191 |
Crop Constrain To Warp | 0 |
Crop Left | 0 |
Crop Right | 0.888191 |
Crop Top | 0 |
Custom Rendered | Normal |
Date Created | 2020:01:26 05:12:57.44 |
Defringe Green Amount | 0 |
Defringe Green Hue Hi | 60 |
Defringe Green Hue Lo | 40 |
Defringe Purple Amount | 0 |
Defringe Purple Hue Hi | 70 |
Defringe Purple Hue Lo | 30 |
Dehaze | 0 |
Exposure 2012 | +0.09 |
Exposure Compensation | 0 |
Exposure Mode | Auto |
Field Of View | 60.2 deg |
Firmware | 1.0.8 |
Flash Compensation | 0 |
Format | image/jpeg |
Grain Amount | 0 |
Green Hue | 0 |
Green Saturation | 0 |
Has Crop | True |
Has Settings | True |
Highlights 2012 | -59 |
Hue Adjustment Aqua | 0 |
Hue Adjustment Blue | 0 |
Hue Adjustment Green | 0 |
Hue Adjustment Magenta | 0 |
Hue Adjustment Orange | 0 |
Hue Adjustment Purple | 0 |
Hue Adjustment Red | 0 |
Hue Adjustment Yellow | 0 |
Hyperfocal Distance | 4.59 m |
ISO | 200 |
Image Number | 0 |
Image Size | 2899x4349 |
Lateral Chromatic Aberration Correction Already Applied | True |
Lens | TAMRON SP 28-75mm F/2.8 Di A09E |
Lens ID | Canon EF 28-70mm f/2.8L or Sigma 28-70mm f/2.8 EX |
Lens Info | 28-75mm f/? |
Lens Manual Distortion Amount | 0 |
Lens Model | TAMRON SP 28-75mm F/2.8 Di A09E |
Lens Profile Enable | 0 |
Lens Profile Setup | LensDefaults |
Light Value | 11.6 |
Look Amount | 1.000000 |
Look Group | Profiles |
Look Name | Adobe Color |
Look Parameters Camera Profile | Adobe Standard |
Look Parameters Convert To Grayscale | False |
Look Parameters Look Table | E1095149FDB39D7A057BAB208837E2 E1 |
Look Parameters Process Version | 11.0 |
Look Parameters Tone Curve PV2012 | 0, 0, 22, 16, 40, 35, 127, 127, 224, 230, 240, 246, 255, 255 |
Look Parameters Tone Curve PV2012 Blue | 0, 0, 255, 255 |
Look Parameters Tone Curve PV2012 Green | 0, 0, 255, 255 |
Look Parameters Tone Curve PV2012 Red | 0, 0, 255, 255 |
Look Parameters Version | 12.2 |
Look Supports Amount | false |
Look Supports Monochrome | false |
Look Supports Output Referred | false |
Luminance Adjustment Aqua | 0 |
Luminance Adjustment Blue | 0 |
Luminance Adjustment Green | 0 |
Luminance Adjustment Magenta | 0 |
Luminance Adjustment Orange | 0 |
Luminance Adjustment Purple | 0 |
Luminance Adjustment Red | 0 |
Luminance Adjustment Yellow | 0 |
Luminance Noise Reduction Contrast | 0 |
Luminance Noise Reduction Detail | 50 |
Luminance Smoothing | 12 |
Marked | True |
Metering Mode | Multi-segment |
Override Look Vignette | False |
Parametric Darks | 0 |
Parametric Highlight Split | 75 |
Parametric Highlights | 0 |
Parametric Lights | 0 |
Parametric Midtone Split | 50 |
Parametric Shadow Split | 25 |
Parametric Shadows | 0 |
Perspective Aspect | 0 |
Perspective Horizontal | 0 |
Perspective Rotate | 0.0 |
Perspective Scale | 100 |
Perspective Upright | 0 |
Perspective Vertical | 0 |
Perspective X | 0.00 |
Perspective Y | 0.00 |
Post Crop Vignette Amount | 0 |
Preserved File Name | BN7F5474.CR2 |
Process Version | 11.0 |
Raw File Name | BN7F5474.CR2 |
Red Hue | 0 |
Red Saturation | 0 |
Rights | Martin Maguolo |
Saturation | +1 |
Saturation Adjustment Aqua | 0 |
Saturation Adjustment Blue | 0 |
Saturation Adjustment Green | 0 |
Saturation Adjustment Magenta | 0 |
Saturation Adjustment Orange | 0 |
Saturation Adjustment Purple | 0 |
Saturation Adjustment Red | 0 |
Saturation Adjustment Yellow | 0 |
Scale Factor To 35 mm Equivalent | 1.1 |
Scene Capture Type | Standard |
Shadow Tint | 0 |
Shadows 2012 | +56 |
Sharpen Detail | 25 |
Sharpen Edge Masking | 13 |
Sharpen Radius | +1.1 |
Sharpness | 46 |
Split Toning Balance | 0 |
Split Toning Highlight Hue | 0 |
Split Toning Highlight Saturation | 0 |
Split Toning Shadow Hue | 0 |
Split Toning Shadow Saturation | 0 |
Subject | 2020, Cagayan do Oro, Camiguin, Dinagyang, Guimaras, Iloilo, Philippienen |
Texture | 0 |
Tint | +16 |
Tone Curve | 0, 0, 255, 255 |
Tone Curve Blue | 0, 0, 255, 255 |
Tone Curve Green | 0, 0, 255, 255 |
Tone Curve Name | Linear |
Tone Curve Name 2012 | Linear |
Tone Curve PV2012 | 0, 0, 255, 255 |
Tone Curve PV2012 Blue | 0, 0, 255, 255 |
Tone Curve PV2012 Green | 0, 0, 255, 255 |
Tone Curve PV2012 Red | 0, 0, 255, 255 |
Tone Curve Red | 0, 0, 255, 255 |
Tone Map Strength | 0 |
Usage Terms | www.sportpixel.com |
Version | 12.2 |
Vibrance | +15 |
Vignette Amount | 0 |
Web Statement | www.sportpixel.com |
White Balance | Auto |
Whites 2012 | +8 |