Shooting information for this photo
Camera: | Canon EOS-1D X |
Exposure: | 0.00125 sec. (1/800) |
Aperture: | f/4.0 |
Focal Length: | 70.0 mm (35 mm equivalent: 453.7 mm) |
Flash: | Off, Did not fire |
Exposure mode: | Aperture-priority AE |
Max Aperture: | 2.8 |
Resolution: | 300 x 300 dpi |
Original Date: | 2018:03:18 09:57:21.90 |
Created on: | 2018:03:18 09:57:21.90 |
Modified on: | 2018:03:25 17:39:58 |
Software: | Adobe Photoshop Lightroom Classic 7.2 (Macintosh) |
Copyright: | all rights reserved |
Already Applied | True |
Approximate Focus Distance | 5.98 |
Artist | Martin Maguolo |
Auto Lateral CA | 0 |
Blacks 2012 | -9 |
Blue Hue | 0 |
Blue Saturation | 0 |
Camera Profile | Adobe Standard |
Circle Of Confusion | 0.005 mm |
Clarity 2012 | 0 |
Color Noise Reduction | 25 |
Color Noise Reduction Detail | 50 |
Color Noise Reduction Smoothness | 50 |
Color Space | sRGB |
Color Temperature | 4900 |
Contrast 2012 | +13 |
Convert To Grayscale | False |
Creator | Martin Maguolo |
Crop Angle | 0 |
Crop Bottom | 0.935271 |
Crop Constrain To Warp | 1 |
Crop Left | 0.040617 |
Crop Right | 0.90584 |
Crop Top | 0.070048 |
Custom Rendered | Normal |
Date Created | 2018:03:18 09:57:21.90 |
Defringe Green Amount | 0 |
Defringe Green Hue Hi | 60 |
Defringe Green Hue Lo | 40 |
Defringe Purple Amount | 0 |
Defringe Purple Hue Hi | 70 |
Defringe Purple Hue Lo | 30 |
Dehaze | 0 |
Exposure 2012 | +0.25 |
Exposure Compensation | 0 |
Exposure Mode | Auto |
Field Of View | 4.5 deg |
Firmware | 2.0.8 |
Flash Compensation | 0 |
Format | image/jpeg |
Grain Amount | 0 |
Green Hue | 0 |
Green Saturation | 0 |
Has Crop | True |
Has Settings | True |
Highlights 2012 | -12 |
Hue Adjustment Aqua | 0 |
Hue Adjustment Blue | 0 |
Hue Adjustment Green | 0 |
Hue Adjustment Magenta | 0 |
Hue Adjustment Orange | 0 |
Hue Adjustment Purple | 0 |
Hue Adjustment Red | 0 |
Hue Adjustment Yellow | 0 |
Hyperfocal Distance | 264.24 m |
ISO | 2000 |
Image Number | 0 |
Image Size | 800x533 |
Lens | EF70-200mm f/2.8L IS II USM |
Lens ID | Canon EF 70-200mm f/2.8L IS II USM |
Lens Info | 70-200mm f/? |
Lens Manual Distortion Amount | 0 |
Lens Model | EF70-200mm f/2.8L IS II USM |
Lens Profile Enable | 0 |
Lens Profile Setup | LensDefaults |
Light Value | 9.3 |
Luminance Adjustment Aqua | 0 |
Luminance Adjustment Blue | 0 |
Luminance Adjustment Green | 0 |
Luminance Adjustment Magenta | 0 |
Luminance Adjustment Orange | 0 |
Luminance Adjustment Purple | 0 |
Luminance Adjustment Red | 0 |
Luminance Adjustment Yellow | 0 |
Luminance Noise Reduction Contrast | 0 |
Luminance Noise Reduction Detail | 50 |
Luminance Smoothing | 29 |
Marked | True |
Metering Mode | Multi-segment |
Parametric Darks | 0 |
Parametric Highlight Split | 75 |
Parametric Highlights | 0 |
Parametric Lights | 0 |
Parametric Midtone Split | 50 |
Parametric Shadow Split | 25 |
Parametric Shadows | 0 |
Perspective Aspect | 0 |
Perspective Horizontal | 0 |
Perspective Rotate | 0.0 |
Perspective Scale | 100 |
Perspective Upright | 1 |
Perspective Vertical | 0 |
Perspective X | 0.00 |
Perspective Y | 0.00 |
Post Crop Vignette Amount | 0 |
Process Version | 10.0 |
Recommended Exposure Index | 2000 |
Red Hue | 0 |
Red Saturation | 0 |
Rights | all rights reserved |
Saturation | +4 |
Saturation Adjustment Aqua | 0 |
Saturation Adjustment Blue | 0 |
Saturation Adjustment Green | 0 |
Saturation Adjustment Magenta | 0 |
Saturation Adjustment Orange | 0 |
Saturation Adjustment Purple | 0 |
Saturation Adjustment Red | 0 |
Saturation Adjustment Yellow | 0 |
Scale Factor To 35 mm Equivalent | 6.5 |
Scene Capture Type | Standard |
Sensitivity Type | Recommended Exposure Index |
Shadow Tint | 0 |
Shadows 2012 | +12 |
Sharpen Detail | 25 |
Sharpen Edge Masking | 18 |
Sharpen Radius | +1.1 |
Sharpness | 46 |
Split Toning Balance | 0 |
Split Toning Highlight Hue | 0 |
Split Toning Highlight Saturation | 0 |
Split Toning Shadow Hue | 0 |
Split Toning Shadow Saturation | 0 |
Subject | 2018, German Open, K1, Kickboxen, Kickboxing, Munich, Musikformen, München, Point fighting |
Tint | +24 |
Tone Curve | 0, 0, 255, 255 |
Tone Curve Blue | 0, 0, 255, 255 |
Tone Curve Green | 0, 0, 255, 255 |
Tone Curve Name | Linear |
Tone Curve Name 2012 | Linear |
Tone Curve PV2012 | 0, 0, 255, 255 |
Tone Curve PV2012 Blue | 0, 0, 255, 255 |
Tone Curve PV2012 Green | 0, 0, 255, 255 |
Tone Curve PV2012 Red | 0, 0, 255, 255 |
Tone Curve Red | 0, 0, 255, 255 |
Usage Terms | www.sportpixel.com |
Version | 10.2 |
Vibrance | +19 |
Vignette Amount | 0 |
Web Statement | www.sportpixel.com |
White Balance | Auto |
Whites 2012 | +9 |