Shooting information for this photo
Camera: | Canon PowerShot G7 X |
Exposure: | 0.0005 sec. (1/2000) |
Aperture: | f/6.3 |
Focal Length: | 8.8 mm (35 mm equivalent: 128.2 mm) |
Flash: | Off, Did not fire |
Max Aperture: | 1.8 |
Resolution: | 300 x 300 dpi |
Original Date: | 2017:12:25 13:44:17 |
Created on: | 2017:12:25 13:44:17 |
Modified on: | 2017:12:25 21:01:08 |
Software: | Adobe Photoshop Lightroom 6.12 (Windows) |
Already Applied | True |
Approximate Focus Distance | 8.67 |
Auto Lateral CA | 0 |
Auto White Version | 134348800 |
Blacks 2012 | +5 |
Blue Hue | -15 |
Blue Saturation | -15 |
Camera Profile | 400H⁺¹ - C |
Circle Of Confusion | 0.002 mm |
Clarity 2012 | -5 |
Color Noise Reduction | 25 |
Color Noise Reduction Detail | 50 |
Color Noise Reduction Smoothness | 50 |
Color Space | sRGB |
Color Temperature | 5250 |
Contrast 2012 | 0 |
Convert To Grayscale | False |
Crop Angle | 0 |
Crop Bottom | 0.9601 |
Crop Constrain To Warp | 0 |
Crop Left | 0.28605 |
Crop Right | 0.88206 |
Crop Top | 0.36409 |
Custom Rendered | Normal |
Date Created | 2017:12:25 13:44:17 |
Defringe Green Amount | 0 |
Defringe Green Hue Hi | 60 |
Defringe Green Hue Lo | 40 |
Defringe Purple Amount | 0 |
Defringe Purple Hue Hi | 70 |
Defringe Purple Hue Lo | 30 |
Dehaze | 0 |
Digital Zoom Ratio | 1 |
Distortion Correction Already Applied | True |
Exposure 2012 | +1.91 |
Exposure Compensation | 0 |
Exposure Mode | Manual |
Field Of View | 16.0 deg |
Firmware | 1.00 |
Flash Compensation | 0 |
Format | image/jpeg |
Grain Amount | 20 |
Grain Frequency | 80 |
Grain Size | 30 |
Green Hue | +40 |
Green Saturation | -25 |
Has Crop | True |
Has Settings | True |
Highlights 2012 | -35 |
Hue Adjustment Aqua | 0 |
Hue Adjustment Blue | 0 |
Hue Adjustment Green | +15 |
Hue Adjustment Magenta | +25 |
Hue Adjustment Orange | +12 |
Hue Adjustment Purple | +4 |
Hue Adjustment Red | +5 |
Hue Adjustment Yellow | +12 |
Hyperfocal Distance | 5.96 m |
ISO | 800 |
Image Size | 1024x683 |
Lateral Chromatic Aberration Correction Already Applied | True |
Lens | 8.8-36.8 mm |
Lens Info | 8.8-36.8mm f/? |
Lens Manual Distortion Amount | 0 |
Lens Model | 8.8-36.8 mm |
Lens Profile Enable | 0 |
Lens Profile Setup | LensDefaults |
Light Value | 13.3 |
Luminance Adjustment Aqua | 0 |
Luminance Adjustment Blue | -10 |
Luminance Adjustment Green | +10 |
Luminance Adjustment Magenta | 0 |
Luminance Adjustment Orange | +5 |
Luminance Adjustment Purple | -15 |
Luminance Adjustment Red | -20 |
Luminance Adjustment Yellow | 0 |
Luminance Smoothing | 0 |
Metering Mode | Multi-segment |
Parametric Darks | 0 |
Parametric Highlight Split | 75 |
Parametric Highlights | 0 |
Parametric Lights | 0 |
Parametric Midtone Split | 60 |
Parametric Shadow Split | 14 |
Parametric Shadows | 0 |
Perspective Aspect | 0 |
Perspective Horizontal | 0 |
Perspective Rotate | 0.0 |
Perspective Scale | 100 |
Perspective Upright | 0 |
Perspective Vertical | 0 |
Perspective X | 0.00 |
Perspective Y | 0.00 |
Post Crop Vignette Amount | 0 |
Process Version | 6.7 |
Recommended Exposure Index | 800 |
Red Hue | +22 |
Red Saturation | 0 |
Saturation | -5 |
Saturation Adjustment Aqua | -30 |
Saturation Adjustment Blue | -10 |
Saturation Adjustment Green | -25 |
Saturation Adjustment Magenta | -20 |
Saturation Adjustment Orange | 0 |
Saturation Adjustment Purple | -10 |
Saturation Adjustment Red | -10 |
Saturation Adjustment Yellow | 0 |
Scale Factor To 35 mm Equivalent | 14.6 |
Scene Capture Type | Standard |
Sensing Method | One-chip color area |
Sensitivity Type | Recommended Exposure Index |
Shadow Tint | 0 |
Shadows 2012 | +15 |
Sharpen Detail | 25 |
Sharpen Edge Masking | 0 |
Sharpen Radius | +1.0 |
Sharpness | 0 |
Split Toning Balance | 0 |
Split Toning Highlight Hue | 0 |
Split Toning Highlight Saturation | 0 |
Split Toning Shadow Hue | 0 |
Split Toning Shadow Saturation | 0 |
Tint | +5 |
Tone Curve | 0, 0, 255, 255 |
Tone Curve Blue | 0, 0, 255, 255 |
Tone Curve Green | 0, 0, 255, 255 |
Tone Curve Name | Linear |
Tone Curve Name 2012 | 400H+1 + |
Tone Curve PV2012 | 0, 37, 35, 52, 83, 87, 146, 147, 255, 249 |
Tone Curve PV2012 Blue | 0, 0, 43, 22, 114, 122, 179, 201, 255, 255 |
Tone Curve PV2012 Green | 0, 0, 43, 22, 112, 121, 181, 201, 255, 255 |
Tone Curve PV2012 Red | 0, 0, 43, 22, 113, 123, 178, 203, 255, 255 |
Tone Curve Red | 0, 0, 255, 255 |
Tone Map Strength | 0 |
Version | 9.12 |
Vibrance | 0 |
Vignette Amount | 0 |
White Balance | Auto |
Whites 2012 | -15 |