Shooting information for this photo
Camera: | Apple iPhone 3GS |
Exposure: | 0.00833 sec. (1/120) |
Aperture: | f/2.8 |
Focal Length: | 3.9 mm |
Flash: | No flash function |
Exposure mode: | Program AE |
Resolution: | 240 x 240 dpi |
Dimension: | 1265 x 1862 pixels |
Original Date: | 2010:12:02 14:24:07 |
Created on: | 2010:12:02 14:24:07 |
Modified on: | 2010:12:02 15:13:28 |
Software: | 4.2.1 |
Already Applied | True |
Blue Hue | 0 |
Blue Saturation | 0 |
Brightness | +24 |
Camera Profile | Embedded |
Chromatic Aberration B | 0 |
Chromatic Aberration R | 0 |
Clarity | +18 |
Color Mode | RGB |
Color Noise Reduction | 0 |
Color Space | Uncalibrated |
Contrast | -8 |
Convert To Grayscale | False |
Crop Angle | 1.29055 |
Crop Bottom | 0.920648 |
Crop Constrain To Warp | 1 |
Crop Left | 0.069062 |
Crop Right | 0.964322 |
Crop Top | 0.069576 |
Defringe | 0 |
Exposure | +0.20 |
Exposure Mode | Auto |
Fill Light | 7 |
Flash Fired | False |
Flash Function | True |
Flash Mode | Unknown |
Flash Red Eye Mode | False |
Flash Return | No return detection |
Grain Amount | 0 |
Green Hue | 0 |
Green Saturation | 0 |
Has Crop | True |
Has Settings | True |
Highlight Recovery | 0 |
Hue Adjustment Aqua | 0 |
Hue Adjustment Blue | 0 |
Hue Adjustment Green | 0 |
Hue Adjustment Magenta | 0 |
Hue Adjustment Orange | 0 |
Hue Adjustment Purple | 0 |
Hue Adjustment Red | 0 |
Hue Adjustment Yellow | 0 |
ICC Profile Name | Adobe RGB (1998) |
ISO | 125 |
Image Size | 1265x1862 |
Incremental Temperature | 0 |
Incremental Tint | 0 |
Label | gelb |
Lens Manual Distortion Amount | 0 |
Lens Profile Enable | 0 |
Lens Profile Setup | LensDefaults |
Light Value | 9.6 |
Luminance Adjustment Aqua | 0 |
Luminance Adjustment Blue | 0 |
Luminance Adjustment Green | 0 |
Luminance Adjustment Magenta | 0 |
Luminance Adjustment Orange | 0 |
Luminance Adjustment Purple | 0 |
Luminance Adjustment Red | 0 |
Luminance Adjustment Yellow | 0 |
Luminance Smoothing | 0 |
Metering Mode | Average |
Parametric Darks | 0 |
Parametric Highlight Split | 75 |
Parametric Highlights | 0 |
Parametric Lights | 0 |
Parametric Midtone Split | 50 |
Parametric Shadow Split | 25 |
Parametric Shadows | 0 |
Perspective Horizontal | +35 |
Perspective Rotate | 0.0 |
Perspective Scale | 100 |
Perspective Vertical | 0 |
Photometric Interpretation | RGB |
Post Crop Vignette Amount | 0 |
Process Version | 5.7 |
Rating | 0 |
Raw File Name | IMG_0181.JPG |
Red Hue | 0 |
Red Saturation | 0 |
Samples Per Pixel | 3 |
Saturation | 0 |
Saturation Adjustment Aqua | 0 |
Saturation Adjustment Blue | 0 |
Saturation Adjustment Green | 0 |
Saturation Adjustment Magenta | 0 |
Saturation Adjustment Orange | 0 |
Saturation Adjustment Purple | 0 |
Saturation Adjustment Red | 0 |
Saturation Adjustment Yellow | 0 |
Scene Capture Type | Standard |
Sensing Method | One-chip color area |
Sensitivity Type | Unknown |
Shadow Tint | 0 |
Shadows | 0 |
Sharpen Detail | 25 |
Sharpen Edge Masking | 0 |
Sharpen Radius | +1.0 |
Sharpness | 22 |
Split Toning Balance | 0 |
Split Toning Highlight Hue | 0 |
Split Toning Highlight Saturation | 0 |
Split Toning Shadow Hue | 0 |
Split Toning Shadow Saturation | 0 |
Subject | Schnee, snow, Winter, Wetter, weather, cold, kalt |
Subject Area | 1023 767 614 614 |
Tone Curve | 0, 0, 255, 255 |
Tone Curve Name | Linear |
Version | 6.2 |
Vibrance | -18 |
Vignette Amount | 0 |
White Balance | As Shot |