Shooting information for this photo
Camera: | Apple iPhone 3GS |
Exposure: | 0.06667 sec. (1/15) |
Aperture: | f/2.8 |
Focal Length: | 3.9 mm |
Flash: | No flash function |
Exposure mode: | Program AE |
Resolution: | 72 x 72 dpi |
Dimension: | 2048 x 1536 pixels |
Original Date: | 2010:06:23 16:36:44 |
Digitized Date: | 2010:06:23 16:36:44+02:00 |
Created on: | 2010:06:23 16:36:44 |
Modified on: | 2010:07:13 23:40:09 |
Software: | Adobe Photoshop CS4 Macintosh |
Already Applied | False |
Blue Hue | 0 |
Blue Saturation | 0 |
Brightness | +22 |
Camera Profile | Embedded |
Chromatic Aberration B | 0 |
Chromatic Aberration R | 0 |
Clarity | +27 |
Color Mode | RGB |
Color Noise Reduction | 0 |
Color Space | sRGB |
Contrast | +13 |
Convert To Grayscale | False |
Defringe | 0 |
Exposure | -0.40 |
Exposure Mode | Auto |
Fill Light | 0 |
Flash Fired | False |
Flash Function | True |
Flash Mode | Unknown |
Flash Red Eye Mode | False |
Flash Return | No return detection |
Format | image/jpeg |
Grain Amount | 0 |
Green Hue | 0 |
Green Saturation | 0 |
Has Crop | False |
Has Settings | True |
Highlight Recovery | 49 |
Hue Adjustment Aqua | 0 |
Hue Adjustment Blue | 0 |
Hue Adjustment Green | 0 |
Hue Adjustment Magenta | 0 |
Hue Adjustment Orange | 0 |
Hue Adjustment Purple | 0 |
Hue Adjustment Red | 0 |
Hue Adjustment Yellow | 0 |
ICC Profile Name | sRGB IEC61966-2.1 |
ISO | 80 |
Image Size | 2048x1536 |
Incremental Temperature | 0 |
Incremental Tint | 0 |
Light Value | 7.2 |
Luminance Adjustment Aqua | 0 |
Luminance Adjustment Blue | 0 |
Luminance Adjustment Green | 0 |
Luminance Adjustment Magenta | 0 |
Luminance Adjustment Orange | 0 |
Luminance Adjustment Purple | 0 |
Luminance Adjustment Red | 0 |
Luminance Adjustment Yellow | 0 |
Luminance Smoothing | 76 |
Metering Mode | Average |
Parametric Darks | 0 |
Parametric Highlight Split | 75 |
Parametric Highlights | 0 |
Parametric Lights | 0 |
Parametric Midtone Split | 50 |
Parametric Shadow Split | 25 |
Parametric Shadows | 0 |
Post Crop Vignette Amount | 0 |
Process Version | 5.0 |
Rating | 0 |
Raw File Name | IMG_0002_1.jpg |
Red Hue | 0 |
Red Saturation | 0 |
Saturation | 0 |
Saturation Adjustment Aqua | 0 |
Saturation Adjustment Blue | 0 |
Saturation Adjustment Green | 0 |
Saturation Adjustment Magenta | 0 |
Saturation Adjustment Orange | 0 |
Saturation Adjustment Purple | 0 |
Saturation Adjustment Red | 0 |
Saturation Adjustment Yellow | 0 |
Scene Capture Type | Standard |
Sensing Method | One-chip color area |
Shadow Tint | 0 |
Shadows | 0 |
Sharpen Detail | 32 |
Sharpen Edge Masking | 53 |
Sharpen Radius | +0.8 |
Sharpness | 70 |
Split Toning Balance | 0 |
Split Toning Highlight Hue | 0 |
Split Toning Highlight Saturation | 0 |
Split Toning Shadow Hue | 0 |
Split Toning Shadow Saturation | 0 |
Subject Area | 1023 767 614 614 |
Tone Curve | 0, 0, 255, 255 |
Tone Curve Name | Linear |
Version | 5.7 |
Vibrance | +7 |
Vignette Amount | 0 |
White Balance | As Shot |