Shooting information for this photo
Camera: | NIKON CORPORATION NIKON D700 |
Exposure: | 0.005 sec. (1/200) |
Aperture: | f/4.8 |
Focal Length: | 340.0 mm (35 mm equivalent: 340.0 mm) |
Flash: | On, Return detected |
Exposure mode: | Manual |
Max Aperture: | 4.8 |
Resolution: | 240 x 240 dpi |
Dimension: | 3515 x 2339 pixels |
Original Date: | 2010:02:16 14:42:33.16 |
Digitized Date: | 2010:02:16 14:42:33.16+01:00 |
Created on: | 2010:02:16 14:42:33.16 |
Modified on: | 2010:03:25 18:47:03 |
Software: | Ver.1.01 |
Copyright: | Thore Siebrands |
Already Applied | True |
Artist | Thore Siebrands |
Blue Hue | 0 |
Blue Saturation | 0 |
Brightness | +50 |
CFA Pattern | [Red,Green][Green,Blue] |
Camera Profile | Adobe Standard |
Chromatic Aberration B | 0 |
Chromatic Aberration R | 0 |
Circle Of Confusion | 0.030 mm |
Clarity | 0 |
Color Mode | RGB |
Color Noise Reduction | 25 |
Color Space | sRGB |
Color Temperature | 5700 |
Contrast | +35 |
Convert To Grayscale | False |
Crop Angle | -2.217509 |
Crop Bottom | 0.945008 |
Crop Left | 0.153621 |
Crop Right | 1 |
Crop Top | 0.167905 |
Custom Rendered | Normal |
Defringe | 0 |
Description | Actress Catherine Keener leaving the press conference for Please Give |
Digital Zoom Ratio | 1 |
Exposure | 0.00 |
Exposure Compensation | 0 |
Exposure Mode | Manual |
Field Of View | 6.1 deg |
Fill Light | 10 |
Flash Fired | True |
Flash Function | False |
Flash Mode | On |
Flash Red Eye Mode | False |
Flash Return | Return detected |
Focal Length In 35mm Format | 340 mm |
Gain Control | Low gain up |
Green Hue | 0 |
Green Saturation | 0 |
Has Crop | True |
Has Settings | True |
Hierarchical Subject | Andere Stichwörter|Berlinale 2010, Andere Stichwörter|60th Berlin International Film Festival, Andere Stichwörter|60. Internationale Filmfestspiele Berlin, Andere Stichwörter|60. Berlinale, Berlinale|Berlinale 2010, Berlinale|actress, Berlinale|actress|Schauspieler in, Berlinale, Berlinale|60. Berlinale, Berlinale|60. Internationale Filmfestspiele Berlin, Berlinale|60th Berlin International Film Festival, Berlinale|Pressekonferenz, Berlinale|press conference |
Highlight Recovery | 0 |
Hue Adjustment Aqua | 0 |
Hue Adjustment Blue | 0 |
Hue Adjustment Green | 0 |
Hue Adjustment Magenta | 0 |
Hue Adjustment Orange | 0 |
Hue Adjustment Purple | 0 |
Hue Adjustment Red | 0 |
Hue Adjustment Yellow | 0 |
Hyperfocal Distance | 801.54 m |
ICC Profile Name | sRGB IEC61966-2.1 |
ISO | 800 |
Image Description | leaving the press conference for Please Give |
Image Number | 19970 |
Image Size | 3515x2339 |
Label | gelb |
Lens | 70.0-200.0 mm f/2.8 |
Lens Info | 70-200mm f/2.8 |
Light Source | Unknown |
Light Value | 9.2 |
Luminance Adjustment Aqua | 0 |
Luminance Adjustment Blue | 0 |
Luminance Adjustment Green | 0 |
Luminance Adjustment Magenta | 0 |
Luminance Adjustment Orange | 0 |
Luminance Adjustment Purple | 0 |
Luminance Adjustment Red | 0 |
Luminance Adjustment Yellow | 0 |
Luminance Smoothing | 71 |
Metering Mode | Center-weighted average |
Parametric Darks | 0 |
Parametric Highlight Split | 75 |
Parametric Highlights | 0 |
Parametric Lights | 0 |
Parametric Midtone Split | 50 |
Parametric Shadow Split | 25 |
Parametric Shadows | 0 |
Photometric Interpretation | RGB |
Post Crop Vignette Amount | 0 |
Raw File Name | D7H_8975.NEF |
Red Hue | 0 |
Red Saturation | 0 |
Samples Per Pixel | 3 |
Saturation | 0 |
Saturation Adjustment Aqua | 0 |
Saturation Adjustment Blue | 0 |
Saturation Adjustment Green | 0 |
Saturation Adjustment Magenta | 0 |
Saturation Adjustment Orange | 0 |
Saturation Adjustment Purple | 0 |
Saturation Adjustment Red | 0 |
Saturation Adjustment Yellow | 0 |
Scale Factor To 35 mm Equivalent | 1.0 |
Scene Capture Type | Standard |
Scene Type | Directly photographed |
Sensing Method | One-chip color area |
Shadow Tint | 0 |
Shadows | 7 |
Sharpen Detail | 32 |
Sharpen Edge Masking | 0 |
Sharpen Radius | +1.3 |
Sharpness | 79 |
Split Toning Balance | 0 |
Split Toning Highlight Hue | 0 |
Split Toning Highlight Saturation | 0 |
Split Toning Shadow Hue | 0 |
Split Toning Shadow Saturation | 0 |
Subject | 60. Berlinale, 60. Internationale Filmfestspiele Berlin, 60th Berlin International Film Festival, actress, Berlinale, Berlinale 2010, Catherine Keener, press conference, Pressekonferenz, Schauspielerin |
Subject Distance Range | Unknown |
Tint | -6 |
Title | Catherine Keener |
Tone Curve | 0, 0, 32, 22, 64, 56, 128, 128, 192, 196, 255, 255 |
Tone Curve Name | Medium Contrast |
Version | 5.2 |
Vibrance | +11 |
Vignette Amount | 0 |
White Balance | Custom |