Shooting information for this photo
Camera: | NIKON CORPORATION NIKON D700 |
Exposure: | 0.00625 sec. (1/160) |
Aperture: | f/1.8 |
Focal Length: | 50.0 mm (35 mm equivalent: 50.0 mm) |
Flash: | No Flash |
Exposure mode: | Aperture-priority AE |
Max Aperture: | 1.7 |
Resolution: | 240 x 240 dpi |
Dimension: | 4047 x 2693 pixels |
Original Date: | 2009:02:19 11:25:05.49 |
Digitized Date: | 2009:02:19 11:25:05.49+01:00 |
Created on: | 2009:02:19 11:25:05.49 |
Modified on: | 2009:02:21 00:00:00.49 |
Software: | Adobe Photoshop CS4 Macintosh |
Copyright: | Thore Siebrands |
Already Applied | True |
Artist | Thore Siebrands |
Blue Hue | 0 |
Blue Saturation | 0 |
Brightness | +50 |
CFA Pattern | [Red,Green][Green,Blue] |
Camera Profile | Adobe Standard |
Chromatic Aberration B | 0 |
Chromatic Aberration R | 0 |
Circle Of Confusion | 0.030 mm |
Clarity | +16 |
Color Mode | RGB |
Color Noise Reduction | 25 |
Color Space | Uncalibrated |
Color Temperature | 3600 |
Contrast | +44 |
Convert To Grayscale | False |
Country | Germany |
Country Code | DE |
Creator | Thore Siebrands |
Crop Angle | -0.72957 |
Crop Bottom | 0.981222 |
Crop Left | 0.005232 |
Crop Right | 0.994768 |
Crop Top | 0.018778 |
Custom Rendered | Normal |
Defringe | 0 |
Digital Zoom Ratio | 1 |
Exposure | 0.00 |
Exposure Compensation | 0 |
Exposure Mode | Auto |
Field Of View | 39.6 deg |
Fill Light | 0 |
Flash Fired | False |
Flash Function | False |
Flash Mode | Unknown |
Flash Red Eye Mode | False |
Flash Return | No return detection |
Focal Length In 35mm Format | 50 mm |
Format | image/jpeg |
Gain Control | High gain up |
Green Hue | 0 |
Green Saturation | 0 |
Has Crop | True |
Has Settings | True |
Highlight Recovery | 25 |
Hue Adjustment Aqua | 0 |
Hue Adjustment Blue | 0 |
Hue Adjustment Green | 0 |
Hue Adjustment Magenta | 0 |
Hue Adjustment Orange | 0 |
Hue Adjustment Purple | 0 |
Hue Adjustment Red | 0 |
Hue Adjustment Yellow | 0 |
Hyperfocal Distance | 46.23 m |
ISO | 1600 |
Image Number | 8409 |
Image Size | 4047x2693 |
Label | gelb |
Lens | 50.0 mm f/1.8 |
Lens Info | 50mm f/1.8 |
Light Source | Unknown |
Light Value | 5.0 |
Luminance Adjustment Aqua | 0 |
Luminance Adjustment Blue | 0 |
Luminance Adjustment Green | 0 |
Luminance Adjustment Magenta | 0 |
Luminance Adjustment Orange | 0 |
Luminance Adjustment Purple | 0 |
Luminance Adjustment Red | 0 |
Luminance Adjustment Yellow | 0 |
Luminance Smoothing | 31 |
Metering Mode | Center-weighted average |
Parametric Darks | 0 |
Parametric Highlight Split | 75 |
Parametric Highlights | 0 |
Parametric Lights | 0 |
Parametric Midtone Split | 50 |
Parametric Shadow Split | 25 |
Parametric Shadows | 0 |
Photometric Interpretation | RGB |
Post Crop Vignette Amount | 0 |
Rating | 0 |
Raw File Name | _D7H7807.NEF |
Red Hue | 0 |
Red Saturation | 0 |
Rights | Thore Siebrands |
Samples Per Pixel | 3 |
Saturation | 0 |
Saturation Adjustment Aqua | 0 |
Saturation Adjustment Blue | 0 |
Saturation Adjustment Green | 0 |
Saturation Adjustment Magenta | 0 |
Saturation Adjustment Orange | 0 |
Saturation Adjustment Purple | 0 |
Saturation Adjustment Red | 0 |
Saturation Adjustment Yellow | 0 |
Scale Factor To 35 mm Equivalent | 1.0 |
Scene Capture Type | Standard |
Scene Type | Directly photographed |
Sensing Method | One-chip color area |
Shadow Tint | 0 |
Shadows | 1 |
Sharpen Detail | 25 |
Sharpen Edge Masking | 0 |
Sharpen Radius | +0.8 |
Sharpness | 100 |
Split Toning Balance | 0 |
Split Toning Highlight Hue | 0 |
Split Toning Highlight Saturation | 0 |
Split Toning Shadow Hue | 0 |
Split Toning Shadow Saturation | 0 |
State | Schleswig-Holstein |
Subject Distance Range | Unknown |
Tint | +26 |
Tone Curve | 0, 0, 32, 22, 64, 56, 128, 128, 192, 196, 255, 255 |
Tone Curve Name | Medium Contrast |
Version | 5.2 |
Vibrance | 0 |
Vignette Amount | 0 |
White Balance | Custom |