Shooting information for this photo
Camera: | NIKON CORPORATION NIKON Z 8 |
Exposure: | 0.0002 sec. (1/5000) |
Aperture: | f/1.2 |
Focal Length: | 85.0 mm (35 mm equivalent: 85.0 mm) |
Flash: | No Flash |
Exposure mode: | Aperture-priority AE |
Resolution: | 240 x 240 dpi |
Original Date: | 2024:07:06 09:37:35.88 |
Created on: | 2024:07:06 09:37:35.88 |
Modified on: | 2025:04:09 21:25:54 |
Software: | Adobe Photoshop Lightroom Classic 14.2 (Macintosh) |
Already Applied | True |
Artist | THORE SIEBRANDS |
Auto Lateral CA | 1 |
Blacks 2012 | -21 |
Blue Hue | 0 |
Blue Saturation | 0 |
CFA Pattern | [Red,Green][Green,Blue] |
Camera Profile | Adobe Standard |
Camera Profiles Aperture Value | 0.526069 |
Camera Profiles Author | Adobe |
Camera Profiles Auto Scale | False |
Camera Profiles Camera Pretty Name | Nikon Z 8 |
Camera Profiles Camera Raw Profile | True |
Camera Profiles Focal Length | 85 |
Camera Profiles Focus Distance | 10000 |
Camera Profiles Lens | NIKKOR Z 85mm f/1.2 S |
Camera Profiles Lens Pretty Name | NIKKOR Z 85mm f/1.2 S |
Camera Profiles Make | NIKON CORPORATION |
Camera Profiles Model | NIKON Z 8 |
Camera Profiles Perspective Model Image X Center | 0.50846 |
Camera Profiles Perspective Model Image Y Center | 0.499498 |
Camera Profiles Perspective Model Radial Distort Param 1 | 0.138312 |
Camera Profiles Perspective Model Radial Distort Param 2 | 0.583862 |
Camera Profiles Perspective Model Radial Distort Param 3 | 11.696045 |
Camera Profiles Perspective Model Scale Factor | 0.983683 |
Camera Profiles Perspective Model Version | 2 |
Camera Profiles Perspective Model Vignette Model Image X Center | 0.50846 |
Camera Profiles Perspective Model Vignette Model Image Y Center | 0.499498 |
Camera Profiles Perspective Model Vignette Model Vignette Model Param 1 | 1 |
Camera Profiles Profile Name | Camera Settings |
Camera Profiles Sensor Format Factor | 1.003485 |
Camera Profiles Unique Camera Model | Nikon Z 8 |
Circle Of Confusion | 0.030 mm |
Clarity 2012 | +8 |
Color Grade Blending | 50 |
Color Grade Global Hue | 0 |
Color Grade Global Lum | 0 |
Color Grade Global Sat | 0 |
Color Grade Highlight Lum | 0 |
Color Grade Midtone Hue | 0 |
Color Grade Midtone Lum | 0 |
Color Grade Midtone Sat | 0 |
Color Grade Shadow Lum | 0 |
Color Noise Reduction | 25 |
Color Noise Reduction Detail | 50 |
Color Noise Reduction Smoothness | 50 |
Color Space | sRGB |
Color Temperature | 5250 |
Compatible Version | 251854848 |
Contrast | Normal |
Contrast 2012 | +6 |
Convert To Grayscale | False |
Creator | THORE SIEBRANDS |
Crop Angle | 0 |
Crop Bottom | 0.857525 |
Crop Constrain To Warp | 0 |
Crop Left | 0.361751 |
Crop Right | 0.716318 |
Crop Top | 0.148391 |
Custom Rendered | Custom |
Date Created | 2024:07:06 09:37:35.88+02:00 |
Defringe Green Amount | 0 |
Defringe Green Hue Hi | 60 |
Defringe Green Hue Lo | 40 |
Defringe Purple Amount | 0 |
Defringe Purple Hue Hi | 70 |
Defringe Purple Hue Lo | 30 |
Dehaze | +8 |
Distortion Correction Already Applied | True |
Exposure 2012 | +0.15 |
Exposure Compensation | 0 |
Exposure Mode | Auto |
Field Of View | 23.9 deg |
Focal Length In 35mm Format | 85 mm |
Format | image/jpeg |
Gain Control | None |
Grain Amount | 0 |
Green Hue | 0 |
Green Saturation | 0 |
HDR Edit Mode | 0 |
Has Crop | True |
Has Settings | True |
Highlights 2012 | -70 |
Hue Adjustment Aqua | 0 |
Hue Adjustment Blue | 0 |
Hue Adjustment Green | 0 |
Hue Adjustment Magenta | 0 |
Hue Adjustment Orange | 0 |
Hue Adjustment Purple | 0 |
Hue Adjustment Red | 0 |
Hue Adjustment Yellow | 0 |
Hyperfocal Distance | 200.39 m |
ISO | 64 |
Image Number | 12951 |
Image Size | 2250x3000 |
Label | gelb |
Lateral Chromatic Aberration Correction Already Applied | True |
Lens | NIKKOR Z 85mm f/1.2 S |
Lens Info | 85mm f/1.2 |
Lens Make | NIKON |
Lens Manual Distortion Amount | 0 |
Lens Model | NIKKOR Z 85mm f/1.2 S |
Lens Profile Distortion Scale | 100 |
Lens Profile Enable | 1 |
Lens Profile Is Embedded | True |
Lens Profile Name | Camera Settings |
Lens Profile Setup | LensDefaults |
Lens Profile Vignetting Scale | 100 |
Light Source | Unknown |
Light Value | 13.5 |
Luminance Adjustment Aqua | 0 |
Luminance Adjustment Blue | 0 |
Luminance Adjustment Green | 0 |
Luminance Adjustment Magenta | 0 |
Luminance Adjustment Orange | 0 |
Luminance Adjustment Purple | 0 |
Luminance Adjustment Red | 0 |
Luminance Adjustment Yellow | 0 |
Luminance Noise Reduction Contrast | 0 |
Luminance Noise Reduction Detail | 75 |
Luminance Smoothing | 49 |
Metering Mode | Multi-segment |
Override Look Vignette | False |
Parametric Darks | 0 |
Parametric Highlight Split | 75 |
Parametric Highlights | 0 |
Parametric Lights | 0 |
Parametric Midtone Split | 50 |
Parametric Shadow Split | 25 |
Parametric Shadows | 0 |
Perspective Aspect | 0 |
Perspective Horizontal | 0 |
Perspective Rotate | 0.0 |
Perspective Scale | 100 |
Perspective Upright | 1 |
Perspective Vertical | 0 |
Perspective X | 0.00 |
Perspective Y | 0.00 |
Pick | 0 |
Point Colors | -1.000000, -1.000000, -1.000000, -1.000000, -1.000000, -1.000000, -1.000000, -1.000000, -1.000000, -1.000000, -1.000000, -1.000000, -1.000000, -1.000000, -1.000000, -1.000000, -1.000000, -1.000000, -1.000000 |
Post Crop Vignette Amount | 0 |
Preserved File Name | NZ8_2933.NEF |
Process Version | 15.4 |
Rating | 3 |
Raw File Name | NZ8_2933.dng |
Recommended Exposure Index | 64 |
Red Hue | 0 |
Red Saturation | 0 |
Saturation | Normal |
Saturation Adjustment Aqua | 0 |
Saturation Adjustment Blue | 0 |
Saturation Adjustment Green | 0 |
Saturation Adjustment Magenta | 0 |
Saturation Adjustment Orange | 0 |
Saturation Adjustment Purple | 0 |
Saturation Adjustment Red | 0 |
Saturation Adjustment Yellow | 0 |
Scale Factor To 35 mm Equivalent | 1.0 |
Scene Capture Type | Standard |
Scene Type | Directly photographed |
Sensing Method | One-chip color area |
Sensitivity Type | Recommended Exposure Index |
Shadow Tint | 0 |
Shadows 2012 | +53 |
Sharpen Detail | 25 |
Sharpen Edge Masking | 0 |
Sharpen Radius | +2.0 |
Sharpness | Normal |
Split Toning Balance | 0 |
Split Toning Highlight Hue | 0 |
Split Toning Highlight Saturation | 0 |
Split Toning Shadow Hue | 0 |
Split Toning Shadow Saturation | 0 |
Subject | Dreadlocks, Dreads, Natur, Person, Regen, Straße, Ungesättigt |
Subject Distance Range | Unknown |
Texture | +4 |
Tint | +17 |
Title | Dreads |
Tone Curve Name 2012 | Linear |
Tone Curve PV2012 | 0, 0, 255, 255 |
Tone Curve PV2012 Blue | 0, 0, 255, 255 |
Tone Curve PV2012 Green | 0, 0, 255, 255 |
Tone Curve PV2012 Red | 0, 0, 255, 255 |
Version | 17.2 |
Vibrance | +20 |
Vignette Amount | 0 |
Vignette Correction Already Applied | True |
Weighted Flat Subject | Person, Straße, Ungesättigt, Natur, Regen, Dreads, Dreadlocks |
White Balance | Auto |
Whites 2012 | +10 |