Shooting information for this photo
Camera: | LEICA CAMERA AG LEICA SL2-S |
Exposure: | 0.00156 sec. (1/640) |
Aperture: | f/2.0 |
Focal Length: | 50.0 mm (35 mm equivalent: 50.0 mm) |
Flash: | Off, Did not fire |
Exposure mode: | Manual |
Max Aperture: | 2.0 |
Resolution: | 240 x 240 dpi |
Original Date: | 2023:01:29 15:37:48 |
Created on: | 2023:01:29 15:37:48 |
Modified on: | 2025:02:07 21:31:22 |
Software: | Adobe Photoshop Lightroom Classic 14.1.1 (Macintosh) |
Already Applied | True |
Apply Automatically | False |
Auto Lateral CA | 1 |
Blacks 2012 | -19 |
Blue Hue | 0 |
Blue Saturation | 0 |
Camera Profile | Adobe Standard |
Circle Of Confusion | 0.030 mm |
City | Kiel |
Clarity 2012 | +28 |
Color Grade Blending | 50 |
Color Grade Global Hue | 0 |
Color Grade Global Lum | 0 |
Color Grade Global Sat | 0 |
Color Grade Highlight Lum | 0 |
Color Grade Midtone Hue | 0 |
Color Grade Midtone Lum | 0 |
Color Grade Midtone Sat | 0 |
Color Grade Shadow Lum | 0 |
Color Noise Reduction | 25 |
Color Noise Reduction Detail | 50 |
Color Noise Reduction Smoothness | 50 |
Color Space | sRGB |
Color Temperature | 7800 |
Contrast | Normal |
Contrast 2012 | +5 |
Correction Already Applied | False |
Country | Deutschland |
Country Code | DE |
Crop Angle | 0 |
Crop Bottom | 1 |
Crop Constrain To Warp | 0 |
Crop Left | 0 |
Crop Right | 0.744357 |
Crop Top | 0.255643 |
Custom Rendered | Normal |
Date Created | 2023:01:29 15:37:48+01:00 |
Defringe Green Amount | 0 |
Defringe Green Hue Hi | 60 |
Defringe Green Hue Lo | 40 |
Defringe Purple Amount | 0 |
Defringe Purple Hue Hi | 70 |
Defringe Purple Hue Lo | 30 |
Dehaze | +14 |
Exposure 2012 | +0.95 |
Exposure Compensation | -1 |
Field Of View | 39.6 deg |
Focal Length 35mm | 52.0000000000 |
Focal Length In 35mm Format | 50 mm |
Format | image/jpeg |
Grain Amount | 0 |
Green Hue | 0 |
Green Saturation | 0 |
HDR Edit Mode | 0 |
Has Crop | True |
Has Settings | True |
Highlights 2012 | -75 |
Hue Adjustment Aqua | 0 |
Hue Adjustment Blue | 0 |
Hue Adjustment Green | 0 |
Hue Adjustment Magenta | 0 |
Hue Adjustment Orange | 0 |
Hue Adjustment Purple | 0 |
Hue Adjustment Red | 0 |
Hue Adjustment Yellow | 0 |
Hyperfocal Distance | 41.60 m |
ISO | 160 |
Image Size | 2000x3000 |
Label | grün |
Lateral Chromatic Aberration Correction Already Applied | True |
Lens | APO-SUMMICRON-SL 1:2/50 ASPH. |
Lens Info | 50mm f/2 |
Lens Make | LEICA CAMERA AG |
Lens Manual Distortion Amount | 0 |
Lens Model | APO-SUMMICRON-SL 1:2/50 ASPH. |
Lens Profile Enable | 0 |
Light Source | Unknown |
Light Value | 10.6 |
Location | Altstadt |
Look Amount | 1 |
Look Group | Profiles |
Look Name | Adobe Color |
Look Parameters Camera Profile | Adobe Standard |
Look Parameters Convert To Grayscale | False |
Look Parameters Look Table | E1095149FDB39D7A057BAB208837E2 E1 |
Look Parameters Process Version | 15.4 |
Look Parameters Tone Curve PV2012 | 0, 0, 22, 16, 40, 35, 127, 127, 224, 230, 240, 246, 255, 255 |
Look Parameters Tone Curve PV2012 Blue | 0, 0, 255, 255 |
Look Parameters Tone Curve PV2012 Green | 0, 0, 255, 255 |
Look Parameters Tone Curve PV2012 Red | 0, 0, 255, 255 |
Look Parameters Version | 17.1 |
Look Supports Amount | false |
Look Supports Monochrome | false |
Look Supports Output Referred | false |
Luminance Adjustment Aqua | 0 |
Luminance Adjustment Blue | 0 |
Luminance Adjustment Green | 0 |
Luminance Adjustment Magenta | 0 |
Luminance Adjustment Orange | 0 |
Luminance Adjustment Purple | 0 |
Luminance Adjustment Red | 0 |
Luminance Adjustment Yellow | 0 |
Luminance Smoothing | 0 |
Metering Mode | Multi-segment |
Normalized Crop Corners | 0.0740150586, 0.0154669052, 0.9922377467, 0.0470225736, 0.9994689226, 0.9348026514, 0.0820343196, 1.0000000000 |
Override Look Vignette | False |
Parametric Darks | 0 |
Parametric Highlight Split | 75 |
Parametric Highlights | 0 |
Parametric Lights | 0 |
Parametric Midtone Split | 50 |
Parametric Shadow Split | 25 |
Parametric Shadows | 0 |
Perspective Aspect | 0 |
Perspective Horizontal | 0 |
Perspective Rotate | 0.0 |
Perspective Scale | 100 |
Perspective Upright | 1 |
Perspective Vertical | 0 |
Perspective X | 0.00 |
Perspective Y | 0.00 |
Pick | 0 |
Pitch Angle | 9.1999998093 |
Point Colors | -1.000000, -1.000000, -1.000000, -1.000000, -1.000000, -1.000000, -1.000000, -1.000000, -1.000000, -1.000000, -1.000000, -1.000000, -1.000000, -1.000000, -1.000000, -1.000000, -1.000000, -1.000000, -1.000000 |
Post Crop Vignette Amount | 0 |
Preserved File Name | S1030688.DNG |
Process Version | 15.4 |
Rating | 3 |
Raw File Name | S1030688.DNG |
Red Hue | 0 |
Red Saturation | 0 |
Roll Angle | 0.6999969482 |
Saturation | Normal |
Saturation Adjustment Aqua | 0 |
Saturation Adjustment Blue | 0 |
Saturation Adjustment Green | 0 |
Saturation Adjustment Magenta | 0 |
Saturation Adjustment Orange | 0 |
Saturation Adjustment Purple | 0 |
Saturation Adjustment Red | 0 |
Saturation Adjustment Yellow | 0 |
Scale Factor To 35 mm Equivalent | 1.0 |
Scaling Factor Height | 0.9401206374 |
Scene Capture Type | Standard |
Sensing Method | One-chip color area |
Sensitivity Type | Standard Output Sensitivity |
Shadow Tint | 0 |
Shadows 2012 | +80 |
Sharpen Detail | 25 |
Sharpen Edge Masking | 0 |
Sharpen Radius | +1.0 |
Sharpness | Normal |
Split Toning Balance | 0 |
Split Toning Highlight Hue | 0 |
Split Toning Highlight Saturation | 0 |
Split Toning Shadow Hue | 0 |
Split Toning Shadow Saturation | 0 |
Standard Output Sensitivity | 160 |
State | Schleswig-Holstein |
Subject | Architektur, Farblos, Gebäude, Natur, Person, Regen, Stadt, Wolkenkratzer |
Target Aspect Ratio | 1.5000000000 |
Texture | 0 |
Tint | +10 |
Tone Curve Name 2012 | Linear |
Tone Curve PV2012 | 0, 0, 255, 255 |
Tone Curve PV2012 Blue | 0, 0, 255, 255 |
Tone Curve PV2012 Green | 0, 0, 255, 255 |
Tone Curve PV2012 Red | 0, 0, 255, 255 |
Valid Crop Corners | True |
Version | 17.1 |
Vibrance | +15 |
Vignette Amount | 0 |
Weighted Flat Subject | Person, Wolkenkratzer, Gebäude, Architektur, Stadt, Natur, Regen, Farblos |
White Balance | Auto |
Whites 2012 | +50 |
GPS Information |
GPS Latitude | 54 deg 19' 19.24" N |
GPS Latitude Ref | North |
GPS Longitude | 10 deg 8' 13.19" E |
GPS Longitude Ref | East |
GPS Position | 54 deg 19' 19.24" N, 10 deg 8' 13.19" E |
GPS Version ID | 2.2.0.0 |