Shooting information for this photo
Camera: | LEICA CAMERA AG LEICA SL2-S |
Exposure: | 0.002 sec. (1/500) |
Aperture: | f/5.6 |
Focal Length: | 50.0 mm (35 mm equivalent: 50.0 mm) |
Flash: | Off, Did not fire |
Exposure mode: | Aperture-priority AE |
Max Aperture: | 2.0 |
Resolution: | 240 x 240 dpi |
Original Date: | 2025:01:11 13:50:25 |
Created on: | 2025:01:11 13:50:25 |
Modified on: | 2025:01:11 21:38:00 |
Software: | Adobe Photoshop Lightroom Classic 14.1.1 (Macintosh) |
Already Applied | True |
Apply Automatically | False |
Auto Lateral CA | 1 |
Blacks 2012 | 0 |
Blue Hue | 0 |
Blue Saturation | 0 |
Camera Profile | Adobe Standard |
Circle Of Confusion | 0.030 mm |
City | Kiel |
Clarity 2012 | +26 |
Color Grade Blending | 50 |
Color Grade Global Hue | 0 |
Color Grade Global Lum | 0 |
Color Grade Global Sat | 0 |
Color Grade Highlight Lum | 0 |
Color Grade Midtone Hue | 0 |
Color Grade Midtone Lum | 0 |
Color Grade Midtone Sat | 0 |
Color Grade Shadow Lum | 0 |
Color Noise Reduction | 25 |
Color Noise Reduction Detail | 50 |
Color Noise Reduction Smoothness | 50 |
Color Space | sRGB |
Color Temperature | 5868 |
Compatible Version | 234881024 |
Contrast | Normal |
Contrast 2012 | +38 |
Correction Already Applied | False |
Country | Deutschland |
Country Code | DE |
Crop Angle | 0 |
Crop Bottom | 0.729161 |
Crop Constrain To Warp | 0 |
Crop Left | 0.030747 |
Crop Right | 0.701511 |
Crop Top | 0.058397 |
Custom Rendered | Normal |
Date Created | 2025:01:11 13:50:25+01:00 |
Defringe Green Amount | 0 |
Defringe Green Hue Hi | 60 |
Defringe Green Hue Lo | 40 |
Defringe Purple Amount | 0 |
Defringe Purple Hue Hi | 70 |
Defringe Purple Hue Lo | 30 |
Dehaze | +25 |
Exposure 2012 | +1.00 |
Exposure Compensation | -2 |
Field Of View | 39.6 deg |
Focal Length 35mm | 52.0000000000 |
Focal Length In 35mm Format | 50 mm |
Format | image/jpeg |
Grain Amount | 0 |
Green Hue | 0 |
Green Saturation | 0 |
HDR Edit Mode | 0 |
Has Crop | True |
Has Settings | True |
Highlights 2012 | 0 |
Hue Adjustment Aqua | 0 |
Hue Adjustment Blue | 0 |
Hue Adjustment Green | 0 |
Hue Adjustment Magenta | 0 |
Hue Adjustment Orange | 0 |
Hue Adjustment Purple | 0 |
Hue Adjustment Red | 0 |
Hue Adjustment Yellow | 0 |
Hyperfocal Distance | 14.86 m |
ISO | 160 |
Image Size | 3000x2000 |
Label | gelb |
Lateral Chromatic Aberration Correction Already Applied | True |
Lens | APO-SUMMICRON-SL 1:2/50 ASPH. |
Lens Info | 50mm f/2 |
Lens Make | LEICA CAMERA AG |
Lens Manual Distortion Amount | 0 |
Lens Model | APO-SUMMICRON-SL 1:2/50 ASPH. |
Lens Profile Enable | 0 |
Light Source | Unknown |
Light Value | 13.3 |
Location | Vorstadt |
Look Amount | 1 |
Look Copyright | © 2018 Adobe Systems, Inc. |
Look Group | Profiles |
Look Name | Adobe Color |
Look Parameters Camera Profile | Adobe Standard |
Look Parameters Convert To Grayscale | False |
Look Parameters Look Table | E1095149FDB39D7A057BAB208837E2 E1 |
Look Parameters Process Version | 15.4 |
Look Parameters Tone Curve PV2012 | 0, 0, 22, 16, 40, 35, 127, 127, 224, 230, 240, 246, 255, 255 |
Look Parameters Tone Curve PV2012 Blue | 0, 0, 255, 255 |
Look Parameters Tone Curve PV2012 Green | 0, 0, 255, 255 |
Look Parameters Tone Curve PV2012 Red | 0, 0, 255, 255 |
Look Parameters Version | 17.1 |
Look Supports Amount | false |
Look Supports Monochrome | false |
Look Supports Output Referred | false |
Luminance Adjustment Aqua | 0 |
Luminance Adjustment Blue | 0 |
Luminance Adjustment Green | 0 |
Luminance Adjustment Magenta | 0 |
Luminance Adjustment Orange | 0 |
Luminance Adjustment Purple | 0 |
Luminance Adjustment Red | 0 |
Luminance Adjustment Yellow | 0 |
Luminance Smoothing | 0 |
Metering Mode | Other |
Normalized Crop Corners | 0.0022260023, 0.0191127807, 1.0000000000, 0.0243371334, 0.9795891643, 0.9998931289, 0.0180959534, 0.9948587418 |
Override Look Vignette | False |
Parametric Darks | 0 |
Parametric Highlight Split | 75 |
Parametric Highlights | 0 |
Parametric Lights | 0 |
Parametric Midtone Split | 50 |
Parametric Shadow Split | 25 |
Parametric Shadows | 0 |
Perspective Aspect | 0 |
Perspective Horizontal | 0 |
Perspective Rotate | 0.0 |
Perspective Scale | 100 |
Perspective Upright | 1 |
Perspective Vertical | 0 |
Perspective X | 0.00 |
Perspective Y | 0.00 |
Pick | 0 |
Pitch Angle | -4.6999998093 |
Point Colors | -1.000000, -1.000000, -1.000000, -1.000000, -1.000000, -1.000000, -1.000000, -1.000000, -1.000000, -1.000000, -1.000000, -1.000000, -1.000000, -1.000000, -1.000000, -1.000000, -1.000000, -1.000000, -1.000000 |
Post Crop Vignette Amount | 0 |
Preserved File Name | S1040434.DNG |
Process Version | 15.4 |
Rating | 3 |
Raw File Name | S1040434.DNG |
Red Hue | 0 |
Red Saturation | 0 |
Roll Angle | -0.2000000030 |
Saturation | Normal |
Saturation Adjustment Aqua | 0 |
Saturation Adjustment Blue | 0 |
Saturation Adjustment Green | 0 |
Saturation Adjustment Magenta | 0 |
Saturation Adjustment Orange | 0 |
Saturation Adjustment Purple | 0 |
Saturation Adjustment Red | 0 |
Saturation Adjustment Yellow | 0 |
Scale Factor To 35 mm Equivalent | 1.0 |
Scaling Factor Height | 0.9799947143 |
Scene Capture Type | Standard |
Sensing Method | One-chip color area |
Sensitivity Type | Standard Output Sensitivity |
Shadow Tint | 0 |
Shadows 2012 | -59 |
Sharpen Detail | 25 |
Sharpen Edge Masking | 70 |
Sharpen Radius | +1.1 |
Sharpness | Normal |
Split Toning Balance | 0 |
Split Toning Highlight Hue | 0 |
Split Toning Highlight Saturation | 0 |
Split Toning Shadow Hue | 0 |
Split Toning Shadow Saturation | 0 |
Standard Output Sensitivity | 160 |
State | Schleswig-Holstein |
Subject | Person |
Target Aspect Ratio | 1.5000000000 |
Texture | 0 |
Tint | +24 |
Tone Curve Name 2012 | Linear |
Tone Curve PV2012 | 0, 0, 255, 255 |
Tone Curve PV2012 Blue | 0, 0, 255, 255 |
Tone Curve PV2012 Green | 0, 0, 255, 255 |
Tone Curve PV2012 Red | 0, 0, 255, 255 |
Valid Crop Corners | True |
Version | 17.1 |
Vibrance | -31 |
Vignette Amount | 0 |
Weighted Flat Subject | Person |
White Balance | Auto |
Whites 2012 | 0 |
GPS Information |
GPS Latitude | 54 deg 19' 20.26" N |
GPS Latitude Ref | North |
GPS Longitude | 10 deg 8' 10.12" E |
GPS Longitude Ref | East |
GPS Position | 54 deg 19' 20.26" N, 10 deg 8' 10.12" E |
GPS Version ID | 2.2.0.0 |