Shooting information for this photo
Camera: | LEICA CAMERA AG LEICA SL2-S |
Exposure: | 0.002 sec. (1/500) |
Aperture: | f/2.0 |
Focal Length: | 50.0 mm (35 mm equivalent: 50.0 mm) |
Flash: | Off, Did not fire |
Exposure mode: | Aperture-priority AE |
Max Aperture: | 2.0 |
Resolution: | 240 x 240 dpi |
Original Date: | 2024:02:10 17:09:30 |
Created on: | 2024:02:10 17:09:30 |
Modified on: | 2024:02:10 21:47:24 |
Software: | Adobe Photoshop Lightroom Classic 13.1 (Macintosh) |
Already Applied | True |
Apply Automatically | False |
Auto Lateral CA | 1 |
Blacks 2012 | -22 |
Blue Hue | 0 |
Blue Saturation | 0 |
Camera Profile | Adobe Standard |
Circle Of Confusion | 0.030 mm |
City | Kiel |
Clarity 2012 | +15 |
Color Grade Blending | 50 |
Color Grade Global Hue | 0 |
Color Grade Global Lum | 0 |
Color Grade Global Sat | 0 |
Color Grade Highlight Lum | 0 |
Color Grade Midtone Hue | 0 |
Color Grade Midtone Lum | 0 |
Color Grade Midtone Sat | 0 |
Color Grade Shadow Lum | 0 |
Color Noise Reduction | 25 |
Color Noise Reduction Detail | 50 |
Color Noise Reduction Smoothness | 50 |
Color Space | sRGB |
Color Temperature | 3205 |
Compatible Version | 234881024 |
Contrast | Normal |
Contrast 2012 | +31 |
Convert To Grayscale | False |
Correction Already Applied | False |
Country | Deutschland |
Country Code | DE |
Crop Angle | -0.53 |
Crop Bottom | 0.95344 |
Crop Constrain To Warp | 0 |
Crop Left | 0.180738 |
Crop Right | 0.91768 |
Crop Top | 0.231178 |
Custom Rendered | Normal |
Date Created | 2024:02:10 17:09:30+01:00 |
Defringe Green Amount | 0 |
Defringe Green Hue Hi | 60 |
Defringe Green Hue Lo | 40 |
Defringe Purple Amount | 0 |
Defringe Purple Hue Hi | 70 |
Defringe Purple Hue Lo | 30 |
Dehaze | +26 |
Exposure 2012 | +0.45 |
Exposure Compensation | -1 |
Field Of View | 39.6 deg |
Focal Length 35mm | 52.0000000000 |
Focal Length In 35mm Format | 50 mm |
Format | image/jpeg |
Grain Amount | 0 |
Green Hue | 0 |
Green Saturation | 0 |
HDR Edit Mode | 0 |
Has Crop | True |
Has Settings | True |
Highlights 2012 | -56 |
Hue Adjustment Aqua | 0 |
Hue Adjustment Blue | 0 |
Hue Adjustment Green | 0 |
Hue Adjustment Magenta | 0 |
Hue Adjustment Orange | 0 |
Hue Adjustment Purple | 0 |
Hue Adjustment Red | 0 |
Hue Adjustment Yellow | 0 |
Hyperfocal Distance | 41.60 m |
ISO | 4000 |
Image Size | 3000x2000 |
Label | gelb |
Lateral Chromatic Aberration Correction Already Applied | True |
Lens | APO-SUMMICRON-SL 1:2/50 ASPH. |
Lens Info | 50mm f/2 |
Lens Make | LEICA CAMERA AG |
Lens Manual Distortion Amount | 0 |
Lens Model | APO-SUMMICRON-SL 1:2/50 ASPH. |
Lens Profile Enable | 0 |
Light Source | Unknown |
Light Value | 5.6 |
Location | Brunswik |
Luminance Adjustment Aqua | 0 |
Luminance Adjustment Blue | 0 |
Luminance Adjustment Green | 0 |
Luminance Adjustment Magenta | 0 |
Luminance Adjustment Orange | 0 |
Luminance Adjustment Purple | 0 |
Luminance Adjustment Red | 0 |
Luminance Adjustment Yellow | 0 |
Luminance Noise Reduction Contrast | 0 |
Luminance Noise Reduction Detail | 50 |
Luminance Smoothing | 15 |
Metering Mode | Multi-segment |
Normalized Crop Corners | 0.0193125289, 0.0590827167, 0.9555650353, 0.0026770376, 0.9853901863, 0.9430354238, 0.0398606211, 1.0000000000 |
Override Look Vignette | False |
Parametric Darks | 0 |
Parametric Highlight Split | 75 |
Parametric Highlights | 0 |
Parametric Lights | 0 |
Parametric Midtone Split | 50 |
Parametric Shadow Split | 25 |
Parametric Shadows | 0 |
Perspective Aspect | 0 |
Perspective Horizontal | 0 |
Perspective Rotate | 0.0 |
Perspective Scale | 100 |
Perspective Upright | 1 |
Perspective Vertical | 0 |
Perspective X | 0.00 |
Perspective Y | 0.00 |
Pitch Angle | 1.2999999523 |
Point Colors | -1.000000, -1.000000, -1.000000, -1.000000, -1.000000, -1.000000, -1.000000, -1.000000, -1.000000, -1.000000, -1.000000, -1.000000, -1.000000, -1.000000, -1.000000, -1.000000, -1.000000, -1.000000, -1.000000 |
Post Crop Vignette Amount | 0 |
Preserved File Name | S1010477.DNG |
Process Version | 15.4 |
Rating | 3 |
Raw File Name | S1010477.DNG |
Red Hue | 0 |
Red Saturation | 0 |
Roll Angle | 2.2999999523 |
Saturation | Normal |
Saturation Adjustment Aqua | 0 |
Saturation Adjustment Blue | 0 |
Saturation Adjustment Green | 0 |
Saturation Adjustment Magenta | 0 |
Saturation Adjustment Orange | 0 |
Saturation Adjustment Purple | 0 |
Saturation Adjustment Red | 0 |
Saturation Adjustment Yellow | 0 |
Scale Factor To 35 mm Equivalent | 1.0 |
Scaling Factor Height | 0.9416378140 |
Scene Capture Type | Standard |
Sensing Method | One-chip color area |
Sensitivity Type | Standard Output Sensitivity |
Shadow Tint | 0 |
Shadows 2012 | +35 |
Sharpen Detail | 25 |
Sharpen Edge Masking | 58 |
Sharpen Radius | +1.9 |
Sharpness | Normal |
Split Toning Balance | 0 |
Split Toning Highlight Hue | 0 |
Split Toning Highlight Saturation | 0 |
Split Toning Shadow Hue | 0 |
Split Toning Shadow Saturation | 0 |
Standard Output Sensitivity | 4000 |
State | Schleswig-Holstein |
Target Aspect Ratio | 1.5000000000 |
Texture | +74 |
Tint | +2 |
Tone Curve Name 2012 | Linear |
Tone Curve PV2012 | 0, 0, 255, 255 |
Tone Curve PV2012 Blue | 0, 0, 255, 255 |
Tone Curve PV2012 Green | 0, 0, 255, 255 |
Tone Curve PV2012 Red | 0, 0, 255, 255 |
Valid Crop Corners | True |
Version | 16.1 |
Vibrance | +38 |
Vignette Amount | 0 |
White Balance | Auto |
Whites 2012 | +50 |
GPS Information |
GPS Latitude | 54 deg 19' 55.97" N |
GPS Latitude Ref | North |
GPS Longitude | 10 deg 7' 55.54" E |
GPS Longitude Ref | East |
GPS Position | 54 deg 19' 55.97" N, 10 deg 7' 55.54" E |
GPS Version ID | 2.2.0.0 |