Shooting information for this photo
Camera: | LEICA CAMERA AG LEICA SL2-S |
Exposure: | 0.008 sec. (1/125) |
Aperture: | f/2.0 |
Focal Length: | 50.0 mm (35 mm equivalent: 50.0 mm) |
Flash: | Off, Did not fire |
Exposure mode: | Manual |
Max Aperture: | 2.0 |
Resolution: | 240 x 240 dpi |
Original Date: | 2023:01:06 17:26:34 |
Created on: | 2023:01:06 17:26:34 |
Modified on: | 2023:01:06 21:36:52 |
Software: | Adobe Photoshop Lightroom Classic 12.1 (Macintosh) |
Copyright: | Thore Siebrands |
Already Applied | True |
Apply Automatically | False |
Artist | Thore Siebrands |
Auto Lateral CA | 1 |
Blacks 2012 | -30 |
Blue Hue | 0 |
Blue Saturation | 0 |
Camera Profile | Adobe Standard |
Circle Of Confusion | 0.030 mm |
City | Kiel |
Clarity 2012 | +15 |
Color Grade Blending | 50 |
Color Grade Global Hue | 0 |
Color Grade Global Lum | 0 |
Color Grade Global Sat | 0 |
Color Grade Highlight Lum | 0 |
Color Grade Midtone Hue | 0 |
Color Grade Midtone Lum | 0 |
Color Grade Midtone Sat | 0 |
Color Grade Shadow Lum | 0 |
Color Noise Reduction | 25 |
Color Noise Reduction Detail | 50 |
Color Noise Reduction Smoothness | 50 |
Color Space | sRGB |
Color Temperature | 4119 |
Contrast | Normal |
Contrast 2012 | +18 |
Convert To Grayscale | False |
Correction Already Applied | False |
Country | Deutschland |
Country Code | DE |
Creator | Thore Siebrands |
Crop Angle | 0 |
Crop Bottom | 0.987279 |
Crop Constrain To Warp | 0 |
Crop Left | 0.044417 |
Crop Right | 0.804618 |
Crop Top | 0.227077 |
Custom Rendered | Normal |
Date Created | 2023:01:06 17:26:34+01:00 |
Defringe Green Amount | 0 |
Defringe Green Hue Hi | 60 |
Defringe Green Hue Lo | 40 |
Defringe Purple Amount | 0 |
Defringe Purple Hue Hi | 70 |
Defringe Purple Hue Lo | 30 |
Dehaze | +21 |
Exposure 2012 | +0.95 |
Exposure Compensation | -1 |
Field Of View | 39.6 deg |
Focal Length 35mm | 52.0000000000 |
Focal Length In 35mm Format | 50 mm |
Format | image/jpeg |
Grain Amount | 0 |
Green Hue | 0 |
Green Saturation | 0 |
Has Crop | True |
Has Settings | True |
Highlights 2012 | +100 |
Hue Adjustment Aqua | 0 |
Hue Adjustment Blue | 0 |
Hue Adjustment Green | 0 |
Hue Adjustment Magenta | 0 |
Hue Adjustment Orange | 0 |
Hue Adjustment Purple | 0 |
Hue Adjustment Red | 0 |
Hue Adjustment Yellow | 0 |
Hyperfocal Distance | 41.60 m |
ISO | 6400 |
Image Size | 3000x2000 |
Label | gelb |
Lateral Chromatic Aberration Correction Already Applied | True |
Lens | APO-SUMMICRON-SL 1:2/50 ASPH. |
Lens Info | 50mm f/2 |
Lens Make | LEICA CAMERA AG |
Lens Manual Distortion Amount | 0 |
Lens Model | APO-SUMMICRON-SL 1:2/50 ASPH. |
Lens Profile Enable | 0 |
Light Source | Unknown |
Light Value | 3.0 |
Location | Altstadt |
Luminance Adjustment Aqua | 0 |
Luminance Adjustment Blue | 0 |
Luminance Adjustment Green | 0 |
Luminance Adjustment Magenta | 0 |
Luminance Adjustment Orange | 0 |
Luminance Adjustment Purple | 0 |
Luminance Adjustment Red | 0 |
Luminance Adjustment Yellow | 0 |
Luminance Noise Reduction Contrast | 0 |
Luminance Noise Reduction Detail | 50 |
Luminance Smoothing | 44 |
Metering Mode | Multi-segment |
Normalized Crop Corners | 0.0276356582, 0.0010131014, 0.9880506396, 0.0362211578, 0.9757177830, 1.0000000000, 0.0085669113, 0.9645450115 |
Override Look Vignette | False |
Parametric Darks | 0 |
Parametric Highlight Split | 75 |
Parametric Highlights | 0 |
Parametric Lights | 0 |
Parametric Midtone Split | 50 |
Parametric Shadow Split | 25 |
Parametric Shadows | 0 |
Perspective Aspect | 0 |
Perspective Horizontal | 0 |
Perspective Rotate | 0.0 |
Perspective Scale | 100 |
Perspective Upright | 1 |
Perspective Vertical | 0 |
Perspective X | 0.00 |
Perspective Y | 0.00 |
Pitch Angle | 0.8999999762 |
Post Crop Vignette Amount | 0 |
Preserved File Name | S1010932.DNG |
Process Version | 11.0 |
Rating | 3 |
Raw File Name | S1010932.DNG |
Red Hue | 0 |
Red Saturation | 0 |
Rights | Thore Siebrands |
Roll Angle | -1.3999999762 |
Saturation | Normal |
Saturation Adjustment Aqua | 0 |
Saturation Adjustment Blue | 0 |
Saturation Adjustment Green | 0 |
Saturation Adjustment Magenta | 0 |
Saturation Adjustment Orange | 0 |
Saturation Adjustment Purple | 0 |
Saturation Adjustment Red | 0 |
Saturation Adjustment Yellow | 0 |
Scale Factor To 35 mm Equivalent | 1.0 |
Scaling Factor Height | 0.9640676379 |
Scene Capture Type | Standard |
Sensing Method | One-chip color area |
Sensitivity Type | Standard Output Sensitivity |
Shadow Tint | 0 |
Shadows 2012 | -34 |
Sharpen Detail | 25 |
Sharpen Edge Masking | 82 |
Sharpen Radius | +1.7 |
Sharpness | Normal |
Split Toning Balance | 0 |
Split Toning Highlight Hue | 0 |
Split Toning Highlight Saturation | 0 |
Split Toning Shadow Hue | 0 |
Split Toning Shadow Saturation | 0 |
Standard Output Sensitivity | 6400 |
State | Schleswig-Holstein |
Target Aspect Ratio | 1.5000000000 |
Texture | +10 |
Tint | +30 |
Tone Curve Name 2012 | Medium Contrast |
Tone Curve PV2012 | 0, 0, 32, 22, 64, 56, 128, 128, 192, 196, 255, 255 |
Tone Curve PV2012 Blue | 0, 0, 255, 255 |
Tone Curve PV2012 Green | 0, 0, 255, 255 |
Tone Curve PV2012 Red | 0, 0, 255, 255 |
Valid Crop Corners | True |
Version | 15.1 |
Vibrance | -14 |
Vignette Amount | 0 |
White Balance | Auto |
Whites 2012 | 0 |
GPS Information |
GPS Latitude | 54 deg 19' 24.03" N |
GPS Latitude Ref | North |
GPS Longitude | 10 deg 8' 12.03" E |
GPS Longitude Ref | East |
GPS Position | 54 deg 19' 24.03" N, 10 deg 8' 12.03" E |
GPS Version ID | 2.2.0.0 |