Shooting information for this photo
Camera: | Apple iPhone 12 Pro Max |
Exposure: | 0.00185 sec. (1/540) |
Aperture: | f/2.2 |
Focal Length: | 7.5 mm (35 mm equivalent: 64.0 mm) |
Flash: | Off, Did not fire |
Exposure mode: | Program AE |
Resolution: | 240 x 240 dpi |
Original Date: | 2022:06:17 18:46:26.576 |
Created on: | 2022:06:17 18:46:26.576 |
Modified on: | 2022:06:17 23:22:00 |
Software: | Adobe Photoshop Lightroom Classic 11.4 (Macintosh) |
Already Applied | True |
Auto Lateral CA | 0 |
Blacks 2012 | +39 |
Blue Hue | 0 |
Blue Saturation | 0 |
Brightness Value | 9.008946945 |
Camera Profile | Apple Embedded Color Profile |
Circle Of Confusion | 0.004 mm |
City | Kiel |
Clarity 2012 | 0 |
Color Grade Blending | 50 |
Color Grade Global Hue | 0 |
Color Grade Global Lum | 0 |
Color Grade Global Sat | 0 |
Color Grade Highlight Lum | 0 |
Color Grade Midtone Hue | 0 |
Color Grade Midtone Lum | 0 |
Color Grade Midtone Sat | 0 |
Color Grade Shadow Lum | 0 |
Color Noise Reduction | 25 |
Color Noise Reduction Detail | 50 |
Color Noise Reduction Smoothness | 50 |
Color Space | sRGB |
Color Temperature | 5300 |
Contrast 2012 | +5 |
Country | Deutschland |
Country Code | DE |
Crop Angle | 0 |
Crop Bottom | 0.903473 |
Crop Constrain To Warp | 0 |
Crop Left | 0.136648 |
Crop Right | 0.999696 |
Crop Top | 0.040425 |
Date Created | 2022:06:17 18:46:26.576+02:00 |
Defringe Green Amount | 0 |
Defringe Green Hue Hi | 60 |
Defringe Green Hue Lo | 40 |
Defringe Purple Amount | 0 |
Defringe Purple Hue Hi | 70 |
Defringe Purple Hue Lo | 30 |
Dehaze | +5 |
Exposure 2012 | +0.11 |
Exposure Compensation | 0 |
Exposure Mode | Auto |
Field Of View | 31.4 deg |
Focal Length In 35mm Format | 64 mm |
Format | image/jpeg |
Grain Amount | 0 |
Green Hue | 0 |
Green Saturation | 0 |
Has Crop | True |
Has Settings | True |
Highlights 2012 | -7 |
Hue Adjustment Aqua | 0 |
Hue Adjustment Blue | 0 |
Hue Adjustment Green | 0 |
Hue Adjustment Magenta | 0 |
Hue Adjustment Orange | 0 |
Hue Adjustment Purple | 0 |
Hue Adjustment Red | 0 |
Hue Adjustment Yellow | 0 |
Hyperfocal Distance | 7.26 m |
ISO | 20 |
Image Size | 2250x3000 |
Lens | iPhone 12 Pro Max back triple camera 7.5mm f/2.2 |
Lens Info | 1.53999996185121-7.5mm f/1.6-2.4 |
Lens Make | Apple |
Lens Manual Distortion Amount | 0 |
Lens Model | iPhone 12 Pro Max back triple camera 7.5mm f/2.2 |
Lens Profile Enable | 0 |
Light Value | 13.7 |
Location | Düsternbrook |
Look Amount | 1 |
Look Group | Profiles |
Look Name | Apple ProRaw |
Look Parameters Camera Profile | Apple Embedded Color Profile |
Look Parameters Convert To Grayscale | False |
Look Parameters Process Version | 11.0 |
Look Parameters Profile Gain Table Map | 100 |
Look Parameters Version | 14.4 |
Look Supports Monochrome | false |
Look Supports Output Referred | false |
Luminance Adjustment Aqua | 0 |
Luminance Adjustment Blue | 0 |
Luminance Adjustment Green | 0 |
Luminance Adjustment Magenta | 0 |
Luminance Adjustment Orange | 0 |
Luminance Adjustment Purple | 0 |
Luminance Adjustment Red | 0 |
Luminance Adjustment Yellow | 0 |
Luminance Smoothing | 0 |
Metering Mode | Multi-segment |
Override Look Vignette | False |
Parametric Darks | 0 |
Parametric Highlight Split | 75 |
Parametric Highlights | 0 |
Parametric Lights | 0 |
Parametric Midtone Split | 50 |
Parametric Shadow Split | 25 |
Parametric Shadows | 0 |
Perspective Aspect | 0 |
Perspective Horizontal | 0 |
Perspective Rotate | 0.0 |
Perspective Scale | 100 |
Perspective Upright | 1 |
Perspective Vertical | 0 |
Perspective X | 0.00 |
Perspective Y | 0.00 |
Post Crop Vignette Amount | 0 |
Preserved File Name | IMG_9849.DNG |
Process Version | 11.0 |
Raw File Name | IMG_9849.DNG |
Red Hue | 0 |
Red Saturation | 0 |
Region Applied To Dimensions H | 3480 |
Region Applied To Dimensions Unit | pixel |
Region Applied To Dimensions W | 2610 |
Region Area H | 0.02474, 0.02734, 0.02604, 0.02474, 0.02865, 0.02344, 0.02083, 0.02344, 0.02474 |
Region Area W | 0.01855, 0.02051, 0.01953, 0.01855, 0.02148, 0.01758, 0.01562, 0.01758, 0.01855 |
Region Area X | 0.84814, 0.85205, 0.88965, 0.82861, 0.90527, 0.81543, 0.79395, 0.85449, 0.81201 |
Region Area Y | 0.81055, 0.96289, 0.87891, 0.85221, 0.97526, 0.91406, 0.77474, 0.89844, 0.79102 |
Region Rotation | -1.57080 |
Region Type | Face, Face, Face, Face, Face, Face, Face, Face, Face |
Saturation | 0 |
Saturation Adjustment Aqua | 0 |
Saturation Adjustment Blue | 0 |
Saturation Adjustment Green | 0 |
Saturation Adjustment Magenta | 0 |
Saturation Adjustment Orange | 0 |
Saturation Adjustment Purple | 0 |
Saturation Adjustment Red | 0 |
Saturation Adjustment Yellow | 0 |
Scale Factor To 35 mm Equivalent | 8.5 |
Scene Type | Directly photographed |
Sensing Method | One-chip color area |
Shadow Tint | 0 |
Shadows 2012 | -1 |
Sharpen Detail | 25 |
Sharpen Edge Masking | 67 |
Sharpen Radius | +1.4 |
Sharpness | 84 |
Split Toning Balance | 0 |
Split Toning Highlight Hue | 0 |
Split Toning Highlight Saturation | 0 |
Split Toning Shadow Hue | 0 |
Split Toning Shadow Saturation | 0 |
State | Schleswig-Holstein |
Subject Area | 2013 1509 2310 1333 |
Texture | 0 |
Tint | +9 |
Tone Curve Name 2012 | Linear |
Tone Curve PV2012 | 0, 0, 255, 255 |
Tone Curve PV2012 Blue | 0, 0, 255, 255 |
Tone Curve PV2012 Green | 0, 0, 255, 255 |
Tone Curve PV2012 Red | 0, 0, 255, 255 |
Version | 14.4 |
Vibrance | +37 |
Vignette Amount | 0 |
White Balance | Auto |
Whites 2012 | +25 |
GPS Information |
GPS Altitude | 5.4 m Above Sea Level |
GPS Altitude Ref | Above Sea Level |
GPS Dest Bearing | 307.4348452 |
GPS Dest Bearing Ref | Magnetic North |
GPS Horizontal Positioning Error | 4.741089219 m |
GPS Img Direction | 307.4348452 |
GPS Img Direction Ref | Magnetic North |
GPS Latitude | 54 deg 19' 50.08" N |
GPS Latitude Ref | North |
GPS Longitude | 10 deg 9' 0.29" E |
GPS Longitude Ref | East |
GPS Position | 54 deg 19' 50.08" N, 10 deg 9' 0.29" E |
GPS Speed | 0 |
GPS Speed Ref | km/h |