Shooting information for this photo
Camera: | FUJIFILM X-E4 |
Exposure: | 0.00714 sec. (1/140) |
Aperture: | f/2.0 |
Focal Length: | 35.0 mm (35 mm equivalent: 53.0 mm) |
Flash: | No Flash |
Exposure mode: | Aperture-priority AE |
Max Aperture: | 2.0 |
Resolution: | 240 x 240 dpi |
Original Date: | 2022:03:24 18:18:33 |
Created on: | 2022:03:24 18:18:33 |
Modified on: | 2022:03:24 21:54:20 |
Software: | Adobe Photoshop Lightroom Classic 11.2 (Macintosh) |
Copyright: | Thore Siebrands |
Already Applied | True |
Artist | Thore Siebrands |
Auto Lateral CA | 1 |
Blacks 2012 | -36 |
Blue Hue | 0 |
Blue Saturation | 0 |
Brightness Value | 3.61 |
Camera Profile | Camera PROVIA/Standard |
Camera Profiles Aperture Value | 2 |
Camera Profiles Author | Adobe |
Camera Profiles Auto Scale | False |
Camera Profiles Camera Pretty Name | Fujifilm X-E4 |
Camera Profiles Camera Raw Profile | True |
Camera Profiles Focal Length | 35 |
Camera Profiles Focus Distance | 10000 |
Camera Profiles Lens | XF35mmF2 R WR |
Camera Profiles Lens Pretty Name | XF35mmF2 R WR |
Camera Profiles Make | FUJIFILM |
Camera Profiles Model | X-E4 |
Camera Profiles Perspective Model Radial Distort Param 1 | -0.253244 |
Camera Profiles Perspective Model Radial Distort Param 2 | -1.382453 |
Camera Profiles Perspective Model Radial Distort Param 3 | 2.86028 |
Camera Profiles Perspective Model Scale Factor | 1.016007 |
Camera Profiles Perspective Model Version | 2 |
Camera Profiles Perspective Model Vignette Model Vignette Model Param 1 | 1 |
Camera Profiles Perspective Model Vignette Model Vignette Model Piecewise Param | 0.000000, 1.000000, 0.142607, 0.898242, 0.201696, 0.831504, 0.247148, 0.780483, 0.285215, 0.733521, 0.319020, 0.690259, 0.349417, 0.650981, 0.377256, 0.600059, 0.403391, 0.521650, 0.427822, 0.461362 |
Camera Profiles Profile Name | Camera Settings |
Camera Profiles Sensor Format Factor | 1.531929 |
Camera Profiles Unique Camera Model | Fujifilm X-E4 |
Circle Of Confusion | 0.020 mm |
City | Kiel |
Clarity 2012 | +34 |
Color Grade Blending | 50 |
Color Grade Global Hue | 0 |
Color Grade Global Lum | 0 |
Color Grade Global Sat | 0 |
Color Grade Highlight Lum | 0 |
Color Grade Midtone Hue | 0 |
Color Grade Midtone Lum | 0 |
Color Grade Midtone Sat | 0 |
Color Grade Shadow Lum | 0 |
Color Noise Reduction | 25 |
Color Noise Reduction Detail | 50 |
Color Noise Reduction Smoothness | 50 |
Color Space | sRGB |
Color Temperature | 4920 |
Compatible Version | 234881024 |
Contrast 2012 | +7 |
Convert To Grayscale | False |
Country | Deutschland |
Country Code | DE |
Creator | Thore Siebrands |
Crop Angle | 0 |
Crop Bottom | 0.769002 |
Crop Constrain To Warp | 1 |
Crop Left | 0.193507 |
Crop Right | 0.962057 |
Crop Top | 0.000453 |
Custom Rendered | Normal |
Date Created | 2022:03:24 18:18:33 |
Defringe Green Amount | 0 |
Defringe Green Hue Hi | 60 |
Defringe Green Hue Lo | 40 |
Defringe Purple Amount | 0 |
Defringe Purple Hue Hi | 70 |
Defringe Purple Hue Lo | 30 |
Dehaze | +27 |
Distortion Correction Already Applied | True |
Exposure 2012 | +0.55 |
Exposure Compensation | 0 |
Exposure Mode | Auto |
Field Of View | 37.5 deg |
Focal Length In 35mm Format | 53 mm |
Format | image/jpeg |
Fuji Rating Already Applied | True |
Grain Amount | 0 |
Green Hue | 0 |
Green Saturation | 0 |
Has Crop | True |
Has Settings | True |
Highlights 2012 | -63 |
Hue Adjustment Aqua | 0 |
Hue Adjustment Blue | 0 |
Hue Adjustment Green | 0 |
Hue Adjustment Magenta | 0 |
Hue Adjustment Orange | +46 |
Hue Adjustment Purple | 0 |
Hue Adjustment Red | 0 |
Hue Adjustment Yellow | 0 |
Hyperfocal Distance | 30.87 m |
ISO | 160 |
Image Size | 2000x3000 |
Label | grün |
Lateral Chromatic Aberration Correction Already Applied | True |
Lens | XF35mmF2 R WR |
Lens Info | 35mm f/2 |
Lens Make | FUJIFILM |
Lens Manual Distortion Amount | 0 |
Lens Model | XF35mmF2 R WR |
Lens Profile Distortion Scale | 100 |
Lens Profile Enable | 1 |
Lens Profile Is Embedded | True |
Lens Profile Name | Camera Settings |
Lens Profile Setup | LensDefaults |
Lens Profile Vignetting Scale | 100 |
Light Source | Unknown |
Light Value | 8.5 |
Location | Brunswik |
Luminance Adjustment Aqua | +34 |
Luminance Adjustment Blue | -10 |
Luminance Adjustment Green | 0 |
Luminance Adjustment Magenta | 0 |
Luminance Adjustment Orange | +10 |
Luminance Adjustment Purple | 0 |
Luminance Adjustment Red | 0 |
Luminance Adjustment Yellow | +66 |
Luminance Smoothing | 0 |
Metering Mode | Center-weighted average |
Override Look Vignette | False |
Parametric Darks | 0 |
Parametric Highlight Split | 75 |
Parametric Highlights | 0 |
Parametric Lights | 0 |
Parametric Midtone Split | 50 |
Parametric Shadow Split | 25 |
Parametric Shadows | 0 |
Perspective Aspect | 0 |
Perspective Horizontal | 0 |
Perspective Rotate | 0.0 |
Perspective Scale | 100 |
Perspective Upright | 4 |
Perspective Vertical | 0 |
Perspective X | 0.00 |
Perspective Y | 0.00 |
Post Crop Vignette Amount | 0 |
Preserved File Name | DSCF3230.RAF |
Process Version | 11.0 |
Rating | 3 |
Raw File Name | DSCF3230.RAF |
Red Hue | 0 |
Red Saturation | 0 |
Rights | Thore Siebrands |
Saturation | +3 |
Saturation Adjustment Aqua | 0 |
Saturation Adjustment Blue | +17 |
Saturation Adjustment Green | 0 |
Saturation Adjustment Magenta | 0 |
Saturation Adjustment Orange | +68 |
Saturation Adjustment Purple | 0 |
Saturation Adjustment Red | 0 |
Saturation Adjustment Yellow | +81 |
Scale Factor To 35 mm Equivalent | 1.5 |
Scene Capture Type | Standard |
Scene Type | Directly photographed |
Sensing Method | One-chip color area |
Sensitivity Type | Standard Output Sensitivity |
Shadow Tint | 0 |
Shadows 2012 | +67 |
Sharpen Detail | 25 |
Sharpen Edge Masking | 0 |
Sharpen Radius | +1.0 |
Sharpness | Normal |
Split Toning Balance | 0 |
Split Toning Highlight Hue | 0 |
Split Toning Highlight Saturation | 0 |
Split Toning Shadow Hue | 0 |
Split Toning Shadow Saturation | 0 |
State | Schleswig-Holstein |
Subject Distance Range | Unknown |
Texture | 0 |
Tint | +25 |
Tone Curve Name 2012 | Linear |
Tone Curve PV2012 | 0, 0, 255, 255 |
Tone Curve PV2012 Blue | 0, 0, 255, 255 |
Tone Curve PV2012 Green | 0, 0, 255, 255 |
Tone Curve PV2012 Red | 0, 0, 255, 255 |
Version | 14.2 |
Vibrance | +53 |
Vignette Amount | 0 |
Vignette Correction Already Applied | True |
White Balance | Auto |
Whites 2012 | +5 |
GPS Information |
GPS Latitude | 54 deg 19' 57.64" N |
GPS Latitude Ref | North |
GPS Longitude | 10 deg 7' 58.12" E |
GPS Longitude Ref | East |
GPS Position | 54 deg 19' 57.64" N, 10 deg 7' 58.12" E |
GPS Version ID | 2.2.0.0 |