Shooting information for this photo
Camera: | NIKON CORPORATION NIKON Z 7 |
Exposure: | 0.00156 sec. (1/640) |
Aperture: | f/2.8 |
Focal Length: | 24.0 mm (35 mm equivalent: 24.0 mm) |
Flash: | No Flash |
Exposure mode: | Aperture-priority AE |
Resolution: | 240 x 240 dpi |
Original Date: | 2021:08:07 15:11:21.86 |
Created on: | 2021:08:07 15:11:21.86 |
Modified on: | 2021:08:07 21:54:42 |
Software: | Adobe Photoshop Lightroom Classic 10.3 (Macintosh) |
Copyright: | Thore Siebrands |
Already Applied | True |
Artist | Thore Siebrands |
Auto Lateral CA | 1 |
Blacks 2012 | +6 |
Blue Hue | 0 |
Blue Saturation | 0 |
CFA Pattern | [Red,Green][Green,Blue] |
Camera Profile | Camera Standard v2 |
Circle Of Confusion | 0.030 mm |
City | Kiel |
Clarity 2012 | 0 |
Color Grade Blending | 50 |
Color Grade Global Hue | 0 |
Color Grade Global Lum | 0 |
Color Grade Global Sat | 0 |
Color Grade Highlight Lum | 0 |
Color Grade Midtone Hue | 0 |
Color Grade Midtone Lum | 0 |
Color Grade Midtone Sat | 0 |
Color Grade Shadow Lum | 0 |
Color Noise Reduction | 10 |
Color Noise Reduction Detail | 50 |
Color Noise Reduction Smoothness | 50 |
Color Space | sRGB |
Color Temperature | 5934 |
Contrast | Normal |
Contrast 2012 | +100 |
Convert To Grayscale | False |
Country | Deutschland |
Country Code | DE |
Creator | Thore Siebrands |
Crop Angle | 1.86902 |
Crop Bottom | 1 |
Crop Constrain To Warp | 0 |
Crop Left | 0.033702 |
Crop Right | 0.966298 |
Crop Top | 0 |
Custom Rendered | Custom |
Date Created | 2021:08:07 15:11:21.86+02:00 |
Defringe Green Amount | 0 |
Defringe Green Hue Hi | 60 |
Defringe Green Hue Lo | 40 |
Defringe Purple Amount | 0 |
Defringe Purple Hue Hi | 70 |
Defringe Purple Hue Lo | 30 |
Dehaze | +39 |
Distortion Correction Already Applied | True |
Exposure 2012 | +0.95 |
Exposure Compensation | 0 |
Exposure Mode | Auto |
Field Of View | 73.7 deg |
Focal Length In 35mm Format | 24 mm |
Format | image/jpeg |
Gain Control | None |
Gradient Based Corr Active | true |
Gradient Based Corr Amount | 1.000000 |
Gradient Based Corr Brightness | 0.000000 |
Gradient Based Corr Clarity 2012 | 0.000000 |
Gradient Based Corr Contrast 2012 | -0.195152 |
Gradient Based Corr Correction Range Mask Color Amount | 0.500000 |
Gradient Based Corr Correction Range Mask Depth Feather | 0.500000 |
Gradient Based Corr Correction Range Mask Depth Max | 1.000000 |
Gradient Based Corr Correction Range Mask Depth Min | 0.000000 |
Gradient Based Corr Correction Range Mask Lum Feather | 0.500000 |
Gradient Based Corr Correction Range Mask Lum Max | 1.000000 |
Gradient Based Corr Correction Range Mask Lum Min | 0.000000 |
Gradient Based Corr Correction Range Mask Type | 0 |
Gradient Based Corr Correction Range Mask Version | +2 |
Gradient Based Corr Defringe | 0.000000 |
Gradient Based Corr Exposure 2012 | 0.017976 |
Gradient Based Corr Highlights 2012 | -0.408491 |
Gradient Based Corr Hue | 0.000000 |
Gradient Based Corr Local Blacks 2012 | 0.000000 |
Gradient Based Corr Local Dehaze | 0.000000 |
Gradient Based Corr Local Hue | 0.000000 |
Gradient Based Corr Local Texture | 0.000000 |
Gradient Based Corr Local Whites 2012 | 0.000000 |
Gradient Based Corr Luminance Noise | 0.000000 |
Gradient Based Corr Mask Full X | 0.508957 |
Gradient Based Corr Mask Full Y | 0.219614 |
Gradient Based Corr Mask Value | 1.000000 |
Gradient Based Corr Mask What | Mask/Gradient |
Gradient Based Corr Mask Zero X | 0.504650 |
Gradient Based Corr Mask Zero Y | 0.417632 |
Gradient Based Corr Moire | 0.000000 |
Gradient Based Corr Saturation | 0.000000 |
Gradient Based Corr Shadows 2012 | 0.061776 |
Gradient Based Corr Sharpness | 0.000000 |
Gradient Based Corr Temperature | 0.000000 |
Gradient Based Corr Tint | 0.000000 |
Gradient Based Corr What | Correction |
Grain Amount | 0 |
Green Hue | 0 |
Green Saturation | 0 |
Has Crop | True |
Has Settings | True |
Highlights 2012 | -81 |
Hue Adjustment Aqua | 0 |
Hue Adjustment Blue | 0 |
Hue Adjustment Green | 0 |
Hue Adjustment Magenta | 0 |
Hue Adjustment Orange | 0 |
Hue Adjustment Purple | 0 |
Hue Adjustment Red | 0 |
Hue Adjustment Yellow | 0 |
Hyperfocal Distance | 6.85 m |
ISO | 64 |
Image Number | 11274 |
Image Size | 3000x2000 |
Label | gelb |
Lateral Chromatic Aberration Correction Already Applied | True |
Lens | NIKKOR Z 24-70mm f/2.8 S |
Lens Info | 24-70mm f/2.8 |
Lens Make | NIKON |
Lens Manual Distortion Amount | 0 |
Lens Model | NIKKOR Z 24-70mm f/2.8 S |
Lens Profile Enable | 0 |
Light Source | Unknown |
Light Value | 12.9 |
Location | Meimersdorf |
Luminance Adjustment Aqua | 0 |
Luminance Adjustment Blue | 0 |
Luminance Adjustment Green | -29 |
Luminance Adjustment Magenta | 0 |
Luminance Adjustment Orange | 0 |
Luminance Adjustment Purple | 0 |
Luminance Adjustment Red | -15 |
Luminance Adjustment Yellow | 0 |
Luminance Noise Reduction Contrast | 0 |
Luminance Noise Reduction Detail | 75 |
Luminance Smoothing | 25 |
Metering Mode | Multi-segment |
Override Look Vignette | False |
Paint Correction Active | true |
Paint Correction Amount | 1.000000 |
Paint Correction Brightness | 0.000000 |
Paint Correction Clarity 2012 | 0.000000 |
Paint Correction Contrast 2012 | 0.000000 |
Paint Correction Correction Range Mask Color Amount | 0.500000 |
Paint Correction Correction Range Mask Depth Feather | 0.500000 |
Paint Correction Correction Range Mask Depth Max | 1.000000 |
Paint Correction Correction Range Mask Depth Min | 0.000000 |
Paint Correction Correction Range Mask Lum Feather | 0.500000 |
Paint Correction Correction Range Mask Lum Max | 1.000000 |
Paint Correction Correction Range Mask Lum Min | 0.000000 |
Paint Correction Correction Range Mask Type | 0 |
Paint Correction Correction Range Mask Version | +2 |
Paint Correction Defringe | 0.000000 |
Paint Correction Exposure 2012 | -0.283277 |
Paint Correction Highlights 2012 | 0.000000 |
Paint Correction Hue | 0.000000 |
Paint Correction Local Blacks 2012 | 0.000000 |
Paint Correction Local Dehaze | 0.000000 |
Paint Correction Local Hue | 0.000000 |
Paint Correction Local Texture | 0.000000 |
Paint Correction Local Whites 2012 | 0.000000 |
Paint Correction Luminance Noise | 0.000000 |
Paint Correction Mask Center Weight | 0.040111 |
Paint Correction Mask Flow | 0.800000 |
Paint Correction Mask Radius | 0.119572 |
Paint Correction Mask Value | 0.622144 |
Paint Correction Mask What | Mask/Paint |
Paint Correction Moire | 0.000000 |
Paint Correction Saturation | 0.000000 |
Paint Correction Shadows 2012 | 0.000000 |
Paint Correction Sharpness | 0.000000 |
Paint Correction Temperature | 0.000000 |
Paint Correction Tint | 0.000000 |
Paint Correction What | Correction |
Parametric Darks | -34 |
Parametric Highlight Split | 75 |
Parametric Highlights | 0 |
Parametric Lights | +35 |
Parametric Midtone Split | 50 |
Parametric Shadow Split | 25 |
Parametric Shadows | 0 |
Perspective Aspect | 0 |
Perspective Horizontal | 0 |
Perspective Rotate | 0.0 |
Perspective Scale | 100 |
Perspective Upright | 0 |
Perspective Vertical | 0 |
Perspective X | 0.00 |
Perspective Y | 0.00 |
Post Crop Vignette Amount | 0 |
Preserved File Name | NZ7_1268.NEF |
Process Version | 11.0 |
Rating | 4 |
Raw File Name | NZ7_1268.NEF |
Recommended Exposure Index | 64 |
Red Hue | 0 |
Red Saturation | 0 |
Rights | Thore Siebrands |
Saturation | Normal |
Saturation Adjustment Aqua | 0 |
Saturation Adjustment Blue | 0 |
Saturation Adjustment Green | -25 |
Saturation Adjustment Magenta | 0 |
Saturation Adjustment Orange | 0 |
Saturation Adjustment Purple | 0 |
Saturation Adjustment Red | 0 |
Saturation Adjustment Yellow | -2 |
Scale Factor To 35 mm Equivalent | 1.0 |
Scene Capture Type | Standard |
Scene Type | Directly photographed |
Sensing Method | One-chip color area |
Sensitivity Type | Recommended Exposure Index |
Shadow Tint | 0 |
Shadows 2012 | +44 |
Sharpen Detail | 25 |
Sharpen Edge Masking | 0 |
Sharpen Radius | +2.0 |
Sharpness | Normal |
Split Toning Balance | 0 |
Split Toning Highlight Hue | 0 |
Split Toning Highlight Saturation | 0 |
Split Toning Shadow Hue | 0 |
Split Toning Shadow Saturation | 0 |
State | Schleswig-Holstein |
Subject Distance Range | Unknown |
Texture | 0 |
Tint | +26 |
Tone Curve Name 2012 | Linear |
Tone Curve PV2012 | 0, 0, 255, 255 |
Tone Curve PV2012 Blue | 0, 0, 255, 255 |
Tone Curve PV2012 Green | 0, 0, 255, 255 |
Tone Curve PV2012 Red | 0, 0, 255, 255 |
Version | 13.3 |
Vibrance | -32 |
Vignette Amount | +49 |
Vignette Correction Already Applied | True |
Vignette Midpoint | 50 |
White Balance | Auto |
Whites 2012 | +10 |
GPS Information |
GPS Latitude | 54 deg 16' 53.58" N |
GPS Latitude Ref | North |
GPS Longitude | 10 deg 7' 14.48" E |
GPS Longitude Ref | East |
GPS Position | 54 deg 16' 53.58" N, 10 deg 7' 14.48" E |
GPS Version ID | 2.2.0.0 |