Shooting information for this photo
Camera: | Apple iPhone10,5 |
Exposure: | 0.00083 sec. (1/1200) |
Aperture: | f/1.8 |
Focal Length: | 4.0 mm (35 mm equivalent: 29.0 mm) |
Flash: | Off, Did not fire |
Exposure mode: | Program AE |
Resolution: | 240 x 240 dpi |
Original Date: | 2017:10:06 17:48:36.120 |
Created on: | 2017:10:06 17:48:36 |
Modified on: | 2020:11:16 00:16:43 |
Software: | Adobe Photoshop Lightroom Classic 10.0 (Macintosh) |
Already Applied | True |
Auto Lateral CA | 0 |
Blacks 2012 | -14 |
Blue Hue | 0 |
Blue Saturation | 0 |
Brightness Value | 9.225635593 |
Camera Profile | Embedded |
Circle Of Confusion | 0.004 mm |
City | Kiel |
Clarity 2012 | 0 |
Color Grade Blending | 50 |
Color Grade Global Hue | 0 |
Color Grade Global Lum | 0 |
Color Grade Global Sat | 0 |
Color Grade Highlight Lum | 0 |
Color Grade Midtone Hue | 0 |
Color Grade Midtone Lum | 0 |
Color Grade Midtone Sat | 0 |
Color Grade Shadow Lum | 0 |
Color Noise Reduction | 0 |
Color Space | sRGB |
Contrast 2012 | +7 |
Convert To Grayscale | False |
Country | Germany |
Country Code | DE |
Crop Angle | 0.550683 |
Crop Bottom | 0.888758 |
Crop Constrain To Warp | 0 |
Crop Left | 0.039305 |
Crop Right | 0.909817 |
Crop Top | 0 |
Custom Rendered | Unknown (3) |
Date Created | 2017:10:06 17:48:36 |
Defringe Green Amount | 0 |
Defringe Green Hue Hi | 60 |
Defringe Green Hue Lo | 40 |
Defringe Purple Amount | 0 |
Defringe Purple Hue Hi | 70 |
Defringe Purple Hue Lo | 30 |
Dehaze | 0 |
Exposure 2012 | +0.19 |
Exposure Compensation | -1.24 |
Exposure Mode | Auto |
Field Of View | 63.7 deg |
Focal Length In 35mm Format | 29 mm |
Format | image/jpeg |
Grain Amount | 0 |
Gray Mixer Aqua | -20 |
Gray Mixer Blue | +3 |
Gray Mixer Green | -21 |
Gray Mixer Magenta | +6 |
Gray Mixer Orange | -10 |
Gray Mixer Purple | +12 |
Gray Mixer Red | -2 |
Gray Mixer Yellow | -14 |
Green Hue | 0 |
Green Saturation | 0 |
Has Crop | True |
Has Settings | True |
Highlights 2012 | 0 |
Hue Adjustment Aqua | 0 |
Hue Adjustment Blue | 0 |
Hue Adjustment Green | 0 |
Hue Adjustment Magenta | 0 |
Hue Adjustment Orange | 0 |
Hue Adjustment Purple | 0 |
Hue Adjustment Red | 0 |
Hue Adjustment Yellow | 0 |
Hyperfocal Distance | 2.14 m |
ISO | 20 |
Image Size | 3000x1999 |
Incremental Temperature | -12 |
Incremental Tint | 0 |
Label | gelb |
Lens | iPhone 8 Plus back camera 3.99mm f/1.8 |
Lens Info | 3.99mm f/1.8 |
Lens Make | Apple |
Lens Manual Distortion Amount | 0 |
Lens Model | iPhone 8 Plus back camera 3.99mm f/1.8 |
Lens Profile Enable | 0 |
Light Value | 14.2 |
Location | Hotel Atlantic, Raiffeisenstraße 2 |
Luminance Adjustment Aqua | 0 |
Luminance Adjustment Blue | 0 |
Luminance Adjustment Green | 0 |
Luminance Adjustment Magenta | 0 |
Luminance Adjustment Orange | 0 |
Luminance Adjustment Purple | 0 |
Luminance Adjustment Red | 0 |
Luminance Adjustment Yellow | 0 |
Luminance Smoothing | 0 |
Metering Mode | Multi-segment |
Override Look Vignette | False |
Parametric Darks | 0 |
Parametric Highlight Split | 75 |
Parametric Highlights | 0 |
Parametric Lights | 0 |
Parametric Midtone Split | 50 |
Parametric Shadow Split | 25 |
Parametric Shadows | 0 |
Perspective Aspect | 0 |
Perspective Horizontal | 0 |
Perspective Rotate | 0.0 |
Perspective Scale | 100 |
Perspective Upright | 0 |
Perspective Vertical | 0 |
Perspective X | 0.00 |
Perspective Y | 0.00 |
Post Crop Vignette Amount | 0 |
Process Version | 11.0 |
Rating | 4 |
Red Hue | 0 |
Red Saturation | 0 |
Saturation | +1 |
Saturation Adjustment Aqua | 0 |
Saturation Adjustment Blue | 0 |
Saturation Adjustment Green | 0 |
Saturation Adjustment Magenta | 0 |
Saturation Adjustment Orange | 0 |
Saturation Adjustment Purple | 0 |
Saturation Adjustment Red | 0 |
Saturation Adjustment Yellow | 0 |
Scale Factor To 35 mm Equivalent | 7.3 |
Scene Capture Type | Standard |
Scene Type | Directly photographed |
Sensing Method | One-chip color area |
Shadow Tint | 0 |
Shadows 2012 | +24 |
Sharpness | 0 |
Split Toning Balance | 0 |
Split Toning Highlight Hue | 0 |
Split Toning Highlight Saturation | 0 |
Split Toning Shadow Hue | 0 |
Split Toning Shadow Saturation | 0 |
State | Schleswig-Holstein |
Texture | 0 |
Tone Curve Name 2012 | Linear |
Tone Curve PV2012 | 0, 0, 255, 255 |
Tone Curve PV2012 Blue | 0, 0, 255, 255 |
Tone Curve PV2012 Green | 0, 0, 255, 255 |
Tone Curve PV2012 Red | 0, 0, 255, 255 |
Version | 13.0 |
Vibrance | +11 |
Vignette Amount | 0 |
White Balance | Auto |
Whites 2012 | +6 |