Shooting information for this photo
Camera: | NIKON CORPORATION NIKON D700 |
Exposure: | 20 sec. |
Aperture: | f/5.6 |
Focal Length: | 50.0 mm (35 mm equivalent: 50.0 mm) |
Flash: | No Flash |
Exposure mode: | Manual |
Max Aperture: | 1.7 |
Resolution: | 240 x 240 dpi |
Dimension: | 2000 x 1331 pixels |
Original Date: | 2009:01:21 19:36:48.06 |
Digitized Date: | 2009:01:21 19:36:48.06+01:00 |
Created on: | 2009:01:21 19:36:48.06 |
Modified on: | 2009:01:29 17:37:26.06 |
Software: | Adobe Photoshop CS4 Macintosh |
Copyright: | Thore Siebrands |
Already Applied | True |
Artist | Thore Siebrands |
Blue Hue | 0 |
Blue Saturation | 0 |
Brightness | +51 |
CFA Pattern | [Red,Green][Green,Blue] |
Camera Profile | Adobe Standard |
Chromatic Aberration B | 0 |
Chromatic Aberration R | 0 |
Circle Of Confusion | 0.030 mm |
Clarity | +24 |
Color Mode | RGB |
Color Noise Reduction | 25 |
Color Space | Uncalibrated |
Color Temperature | 3300 |
Contrast | +64 |
Convert To Grayscale | False |
Country | Germany |
Country Code | DE |
Creator | Thore Siebrands |
Crop Angle | 0 |
Crop Bottom | 1 |
Crop Left | 0 |
Crop Right | 1 |
Crop Top | 0 |
Custom Rendered | Normal |
Defringe | 0 |
Digital Zoom Ratio | 1 |
Exposure | 0.00 |
Exposure Compensation | 0 |
Exposure Mode | Manual |
Field Of View | 39.6 deg |
Fill Light | 31 |
Flash Fired | False |
Flash Function | False |
Flash Mode | Unknown |
Flash Red Eye Mode | False |
Flash Return | No return detection |
Focal Length In 35mm Format | 50 mm |
Format | image/jpeg |
Gain Control | Low gain up |
Green Hue | 0 |
Green Saturation | 0 |
Has Crop | True |
Has Settings | True |
Hierarchical Subject | Kamera|D700, Kamera|AF 50 mm/1.8D, Andere Stichwörter|night, Andere Stichwörter|Nacht, Andere Stichwörter|lamp, Andere Stichwörter|Lampe, Andere Stichwörter|Licht, Andere Stichwörter|light, Andere Stichwörter|star, Andere Stichwörter|Stern, Andere Stichwörter|sky, Andere Stichwörter|Himmel, Andere Stichwörter|stars, Andere Stichwörter|Sterne |
Highlight Recovery | 50 |
Hue Adjustment Aqua | -11 |
Hue Adjustment Blue | -13 |
Hue Adjustment Green | 0 |
Hue Adjustment Magenta | 0 |
Hue Adjustment Orange | 0 |
Hue Adjustment Purple | 0 |
Hue Adjustment Red | 0 |
Hue Adjustment Yellow | 0 |
Hyperfocal Distance | 14.86 m |
ICC Profile Name | Adobe RGB (1998) |
ISO | 400 |
Image Number | 5158 |
Image Size | 2000x1331 |
Label | grün |
Lens | 50.0 mm f/1.8 |
Lens Info | 50mm f/1.8 |
Light Source | Unknown |
Light Value | -1.4 |
Location | Olshausenstraße |
Luminance Adjustment Aqua | 0 |
Luminance Adjustment Blue | +100 |
Luminance Adjustment Green | 0 |
Luminance Adjustment Magenta | 0 |
Luminance Adjustment Orange | +22 |
Luminance Adjustment Purple | 0 |
Luminance Adjustment Red | 0 |
Luminance Adjustment Yellow | +58 |
Luminance Smoothing | 53 |
Metering Mode | Multi-segment |
Parametric Darks | -45 |
Parametric Highlight Split | 75 |
Parametric Highlights | +19 |
Parametric Lights | -17 |
Parametric Midtone Split | 50 |
Parametric Shadow Split | 25 |
Parametric Shadows | +33 |
Photometric Interpretation | RGB |
Post Crop Vignette Amount | 0 |
Rating | 0 |
Raw File Name | _D7H4692.NEF |
Red Hue | 0 |
Red Saturation | 0 |
Rights | Thore Siebrands |
Samples Per Pixel | 3 |
Saturation | 0 |
Saturation Adjustment Aqua | +2 |
Saturation Adjustment Blue | +57 |
Saturation Adjustment Green | +12 |
Saturation Adjustment Magenta | +5 |
Saturation Adjustment Orange | +58 |
Saturation Adjustment Purple | -2 |
Saturation Adjustment Red | 0 |
Saturation Adjustment Yellow | +13 |
Scale Factor To 35 mm Equivalent | 1.0 |
Scene Capture Type | Standard |
Scene Type | Directly photographed |
Sensing Method | One-chip color area |
Shadow Tint | 0 |
Shadows | 1 |
Sharpen Detail | 25 |
Sharpen Edge Masking | 0 |
Sharpen Radius | +0.9 |
Sharpness | 100 |
Split Toning Balance | 0 |
Split Toning Highlight Hue | 0 |
Split Toning Highlight Saturation | 0 |
Split Toning Shadow Hue | 0 |
Split Toning Shadow Saturation | 0 |
State | Schleswig-Holstein |
Subject | AF 50 mm/1.8D, D700, Himmel, lamp, Lampe, Licht, light, Nacht, night, sky, star, stars, Stern, Sterne |
Subject Distance Range | Unknown |
Tint | +2 |
Tone Curve | 0, 0, 32, 22, 64, 56, 128, 128, 192, 196, 255, 255 |
Tone Curve Name | Medium Contrast |
Version | 5.2 |
Vibrance | +30 |
Vignette Amount | 0 |
White Balance | Custom |