Shooting information for this photo
Camera: | NIKON CORPORATION NIKON D700 |
Exposure: | 0.00125 sec. (1/800) |
Aperture: | f/2.8 |
Focal Length: | 105.0 mm (35 mm equivalent: 105.0 mm) |
Flash: | No Flash |
Exposure mode: | Aperture-priority AE |
Max Aperture: | 2.8 |
Resolution: | 240 x 240 dpi |
Dimension: | 4155 x 2764 pixels |
Original Date: | 2008:12:19 16:02:04.56 |
Digitized Date: | 2008:12:19 16:02:04.56+01:00 |
Created on: | 2008:12:19 16:02:04.56 |
Modified on: | 2008:12:20 21:10:36.56 |
Software: | Adobe Photoshop CS4 Macintosh |
Copyright: | Thore Siebrands |
Already Applied | True |
Artist | Thore Siebrands |
Blue Hue | 0 |
Blue Saturation | 0 |
Brightness | +50 |
CFA Pattern | [Red,Green][Green,Blue] |
Camera Profile | Adobe Standard |
Chromatic Aberration B | 0 |
Chromatic Aberration R | 0 |
Circle Of Confusion | 0.030 mm |
Clarity | +19 |
Color Mode | Grayscale |
Color Noise Reduction | 25 |
Color Space | Uncalibrated |
Color Temperature | 4300 |
Contrast | +39 |
Convert To Grayscale | True |
Creator | Thore Siebrands |
Crop Angle | 0.937794 |
Crop Bottom | 1 |
Crop Left | 0.01732 |
Crop Right | 0.98268 |
Crop Top | 0 |
Custom Rendered | Normal |
Defringe | 0 |
Digital Zoom Ratio | 1 |
Exposure | 0.00 |
Exposure Compensation | 0 |
Exposure Mode | Auto |
Field Of View | 19.5 deg |
Fill Light | 25 |
Flash Fired | False |
Flash Function | False |
Flash Mode | Unknown |
Flash Red Eye Mode | False |
Flash Return | No return detection |
Focal Length In 35mm Format | 105 mm |
Format | image/jpeg |
Gain Control | None |
Gray Mixer Aqua | -6 |
Gray Mixer Blue | +59 |
Gray Mixer Green | -23 |
Gray Mixer Magenta | +6 |
Gray Mixer Orange | -34 |
Gray Mixer Purple | +7 |
Gray Mixer Red | -3 |
Gray Mixer Yellow | +60 |
Green Hue | 0 |
Green Saturation | 0 |
Has Crop | True |
Has Settings | True |
Hierarchical Subject | Kamera|D700, Kamera|AF Micro 105 mm/2.8D |
Highlight Recovery | 3 |
Hyperfocal Distance | 131.05 m |
ICC Profile Name | Gray Gamma 2.2 |
ISO | 200 |
Image Number | 3472 |
Image Size | 4155x2764 |
Label | gelb |
Lens | 105.0 mm f/2.8 |
Lens Info | 105mm f/2.8 |
Light Source | Unknown |
Light Value | 11.6 |
Luminance Smoothing | 0 |
Metering Mode | Multi-segment |
Parametric Darks | -47 |
Parametric Highlight Split | 75 |
Parametric Highlights | +10 |
Parametric Lights | +31 |
Parametric Midtone Split | 44 |
Parametric Shadow Split | 17 |
Parametric Shadows | -34 |
Photometric Interpretation | BlackIsZero |
Post Crop Vignette Amount | 0 |
Rating | 0 |
Raw File Name | _D7H3082.NEF |
Red Hue | 0 |
Red Saturation | 0 |
Rights | Thore Siebrands |
Samples Per Pixel | 4 |
Saturation | Normal |
Scale Factor To 35 mm Equivalent | 1.0 |
Scene Capture Type | Standard |
Scene Type | Directly photographed |
Sensing Method | One-chip color area |
Shadow Tint | 0 |
Shadows | 5 |
Sharpen Detail | 25 |
Sharpen Edge Masking | 0 |
Sharpen Radius | +0.6 |
Sharpness | 98 |
Split Toning Balance | 0 |
Split Toning Highlight Hue | 0 |
Split Toning Highlight Saturation | 0 |
Split Toning Shadow Hue | 0 |
Split Toning Shadow Saturation | 0 |
Subject | AF Micro 105 mm/2.8D, D700 |
Subject Distance Range | Unknown |
Tint | -1 |
Tone Curve | 0, 0, 32, 22, 64, 56, 128, 128, 192, 196, 255, 255 |
Tone Curve Name | Medium Contrast |
Version | 5.2 |
Vignette Amount | +40 |
Vignette Midpoint | 27 |
White Balance | As Shot |