Shooting information for this photo
Camera: | NIKON CORPORATION NIKON D200 |
Exposure: | 0.00156 sec. (1/640) |
Aperture: | f/3.0 |
Focal Length: | 105.0 mm (35 mm equivalent: 157.0 mm) |
Flash: | No Flash |
Exposure mode: | Aperture-priority AE |
Max Aperture: | 2.9 |
Resolution: | 240 x 240 dpi |
Dimension: | 3536 x 2367 pixels |
Original Date: | 2007:04:12 17:12:16.73 |
Digitized Date: | 2007:04:12 17:12:16.73+02:00 |
Created on: | 2007:04:12 17:12:16.73 |
Modified on: | 2008:05:02 21:59:05.73 |
Software: | Adobe Photoshop CS3 Windows |
Already Applied | True |
Artist | Thore Siebrands |
Blue Hue | 0 |
Blue Saturation | 0 |
Brightness | +48 |
CFA Pattern | [Green,Red][Blue,Green] |
Camera Profile | ACR 4.4 |
Caption Writer | Thore Siebrands |
Chromatic Aberration B | -16 |
Chromatic Aberration R | -43 |
Circle Of Confusion | 0.020 mm |
Clarity | 18 |
Color Mode | RGB |
Color Noise Reduction | 25 |
Color Space | Uncalibrated |
Color Temperature | 5900 |
Contrast | +50 |
Convert To Grayscale | False |
Country | Germnay |
Country Code | DE |
Creator | Thore Siebrands |
Custom Rendered | Normal |
Defringe | 0 |
Description | Photowalk mit Ralph |
Digital Zoom Ratio | 1 |
Exposure | +0.90 |
Exposure Compensation | 0 |
Exposure Mode | Auto |
Field Of View | 13.1 deg |
Fill Light | 0 |
Flash Fired | False |
Flash Function | False |
Flash Mode | Unknown |
Flash Red Eye Mode | False |
Flash Return | No return detection |
Focal Length In 35mm Format | 157 mm |
Format | image/jpeg |
Gain Control | None |
Green Hue | 0 |
Green Saturation | 0 |
Has Crop | False |
Has Settings | True |
Highlight Recovery | 26 |
Hue Adjustment Aqua | 0 |
Hue Adjustment Blue | 0 |
Hue Adjustment Green | 0 |
Hue Adjustment Magenta | 0 |
Hue Adjustment Orange | 0 |
Hue Adjustment Purple | 0 |
Hue Adjustment Red | 0 |
Hue Adjustment Yellow | 0 |
Hyperfocal Distance | 182.88 m |
ICC Profile Name | Adobe RGB (1998) |
ISO | 100 |
Image Description | Photowalk mit Ralph |
Image Number | 7781 |
Image Size | 3536x2367 |
Label | gelb |
Lens | 105.0 mm f/2.8 |
Lens Info | 105mm f/2.8 |
Light Source | Unknown |
Light Value | 12.5 |
Location | Uferstraße |
Luminance Adjustment Aqua | 0 |
Luminance Adjustment Blue | 0 |
Luminance Adjustment Green | 0 |
Luminance Adjustment Magenta | 0 |
Luminance Adjustment Orange | 0 |
Luminance Adjustment Purple | 0 |
Luminance Adjustment Red | 0 |
Luminance Adjustment Yellow | 0 |
Luminance Smoothing | 0 |
Marked | True |
Metering Mode | Multi-segment |
Parametric Darks | 0 |
Parametric Highlight Split | 75 |
Parametric Highlights | 0 |
Parametric Lights | 0 |
Parametric Midtone Split | 50 |
Parametric Shadow Split | 25 |
Parametric Shadows | 0 |
Photometric Interpretation | RGB |
Rating | 5 |
Raw File Name | _07Z7325.NEF |
Red Hue | 0 |
Red Saturation | 0 |
Samples Per Pixel | 3 |
Saturation | 0 |
Saturation Adjustment Aqua | 0 |
Saturation Adjustment Blue | 0 |
Saturation Adjustment Green | 0 |
Saturation Adjustment Magenta | 0 |
Saturation Adjustment Orange | 0 |
Saturation Adjustment Purple | 0 |
Saturation Adjustment Red | 0 |
Saturation Adjustment Yellow | 0 |
Scale Factor To 35 mm Equivalent | 1.5 |
Scene Capture Type | Standard |
Scene Type | Directly photographed |
Sensing Method | One-chip color area |
Shadow Tint | 0 |
Shadows | 17 |
Sharpen Detail | 25 |
Sharpen Edge Masking | 0 |
Sharpen Radius | +1.9 |
Sharpness | 113 |
Split Toning Balance | 0 |
Split Toning Highlight Hue | 0 |
Split Toning Highlight Saturation | 0 |
Split Toning Shadow Hue | 0 |
Split Toning Shadow Saturation | 0 |
State | Schleswig-Holstein |
Subject | Photowalk |
Subject Distance Range | Unknown |
Tint | +3 |
Tone Curve | 0, 0, 32, 22, 64, 56, 128, 128, 192, 196, 255, 255 |
Tone Curve Name | Medium Contrast |
User Comment | (C) Thore Siebrands |
Version | 4.4.1 |
Vibrance | +27 |
Vignette Amount | 0 |
White Balance | Auto |