Shooting information for this photo
Camera: | Apple iPhone 3GS |
Exposure: | 0.00833 sec. (1/120) |
Aperture: | f/2.8 |
Focal Length: | 3.9 mm |
Flash: | No flash function |
Exposure mode: | Program AE |
Resolution: | 240 x 240 dpi |
Original Date: | 2012:03:27 16:56:26 |
Created on: | 2012:03:27 16:56:26 |
Modified on: | 2012:03:27 20:46:33 |
Software: | Adobe Photoshop Camera Raw 6.6 (Macintosh) |
Already Applied | True |
Blue Hue | 0 |
Blue Saturation | 0 |
Brightness | +35 |
Brightness Value | 5.246815287 |
Camera Profile | Embedded |
Chromatic Aberration B | 0 |
Chromatic Aberration R | 0 |
Clarity | +29 |
Color Noise Reduction | 0 |
Color Space | sRGB |
Contrast | +21 |
Convert To Grayscale | False |
Crop Angle | -3.401483 |
Crop Bottom | 0.92657 |
Crop Constrain To Warp | 1 |
Crop Left | 0 |
Crop Right | 0.967874 |
Crop Top | 0.07343 |
Defringe | 0 |
Exposure | 0.00 |
Exposure Mode | Auto |
Fill Light | 0 |
Format | image/jpeg |
Grain Amount | 0 |
Green Hue | 0 |
Green Saturation | 0 |
Has Crop | True |
Has Settings | True |
Highlight Recovery | 100 |
Hue Adjustment Aqua | 0 |
Hue Adjustment Blue | 0 |
Hue Adjustment Green | 0 |
Hue Adjustment Magenta | 0 |
Hue Adjustment Orange | 0 |
Hue Adjustment Purple | 0 |
Hue Adjustment Red | 0 |
Hue Adjustment Yellow | 0 |
ISO | 80 |
Image Size | 1901x1426 |
Incremental Temperature | +6 |
Incremental Tint | +15 |
Label | gelb |
Lens Manual Distortion Amount | 0 |
Lens Profile Enable | 0 |
Lens Profile Setup | LensDefaults |
Light Value | 10.2 |
Luminance Adjustment Aqua | 0 |
Luminance Adjustment Blue | 0 |
Luminance Adjustment Green | 0 |
Luminance Adjustment Magenta | 0 |
Luminance Adjustment Orange | 0 |
Luminance Adjustment Purple | 0 |
Luminance Adjustment Red | 0 |
Luminance Adjustment Yellow | 0 |
Luminance Smoothing | 0 |
Metering Mode | Spot |
Paint Correction Active | true |
Paint Correction Amount | 1.000000 |
Paint Correction Brightness | 0.000000 |
Paint Correction Clarity | 0.000000 |
Paint Correction Contrast | 0.000000 |
Paint Correction Exposure | -0.137500 |
Paint Correction Hue | 56.000000 |
Paint Correction Mask Center Weight | 0.072131 |
Paint Correction Mask Flow | 0.727273 |
Paint Correction Mask Radius | 0.111800 |
Paint Correction Mask Value | 0.730000 |
Paint Correction Mask What | Mask/Paint |
Paint Correction Saturation | 0.000000 |
Paint Correction Sharpness | 0.000000 |
Paint Correction What | Correction |
Parametric Darks | 0 |
Parametric Highlight Split | 75 |
Parametric Highlights | 0 |
Parametric Lights | 0 |
Parametric Midtone Split | 50 |
Parametric Shadow Split | 25 |
Parametric Shadows | 0 |
Perspective Horizontal | 0 |
Perspective Rotate | 0.0 |
Perspective Scale | 100 |
Perspective Vertical | 0 |
Post Crop Vignette Amount | 0 |
Process Version | 5.7 |
Raw File Name | IMG_0925.JPG |
Red Hue | 0 |
Red Saturation | 0 |
Saturation | 0 |
Saturation Adjustment Aqua | 0 |
Saturation Adjustment Blue | 0 |
Saturation Adjustment Green | 0 |
Saturation Adjustment Magenta | 0 |
Saturation Adjustment Orange | 0 |
Saturation Adjustment Purple | 0 |
Saturation Adjustment Red | 0 |
Saturation Adjustment Yellow | 0 |
Scene Capture Type | Standard |
Sensing Method | One-chip color area |
Shadow Tint | 0 |
Shadows | 1 |
Sharpen Detail | 25 |
Sharpen Edge Masking | 0 |
Sharpen Radius | +1.0 |
Sharpness | 44 |
Split Toning Balance | 0 |
Split Toning Highlight Hue | 0 |
Split Toning Highlight Saturation | 0 |
Split Toning Shadow Hue | 0 |
Split Toning Shadow Saturation | 0 |
Subject | memento mori, Tod, tot, animal, Tier, Maus, mouse |
Subject Area | 647 642 382 384 |
Tone Curve | 0, 0, 255, 255 |
Tone Curve Name | Linear |
Version | 6.6 |
Vibrance | +18 |
Vignette Amount | 0 |
White Balance | Custom |