Shooting information for this photo
Camera: | NIKON CORPORATION NIKON D700 |
Exposure: | 0.00313 sec. (1/320) |
Aperture: | f/2.0 |
Focal Length: | 135.0 mm (35 mm equivalent: 135.0 mm) |
Flash: | No Flash |
Exposure mode: | Aperture-priority AE |
Max Aperture: | 2.0 |
Resolution: | 240 x 240 dpi |
Original Date: | 2012:03:22 18:17:31.67 |
Created on: | 2012:03:22 18:17:31.67 |
Modified on: | 2012:03:22 18:56:01 |
Software: | Adobe Photoshop Camera Raw 6.6 (Macintosh) |
Copyright: | Thore Siebrands |
Already Applied | True |
Approximate Focus Distance | 1.12 |
Artist | Thore Siebrands |
Blue Hue | 0 |
Blue Saturation | 0 |
Brightness | +49 |
CFA Pattern | [Red,Green][Green,Blue] |
Camera Profile | Adobe Standard |
Chromatic Aberration B | 0 |
Chromatic Aberration R | -5 |
Circle Of Confusion | 0.030 mm |
Clarity | +34 |
Color Noise Reduction | 25 |
Color Noise Reduction Detail | 50 |
Color Space | sRGB |
Color Temperature | 7050 |
Contrast | +43 |
Convert To Grayscale | False |
Creator | Thore Siebrands |
Crop Angle | -1.581409 |
Crop Bottom | 0.876175 |
Crop Constrain To Warp | 1 |
Crop Height | 3 |
Crop Left | 0.137136 |
Crop Right | 0.783656 |
Crop Top | 0.266482 |
Crop Unit | Unknown (3) |
Crop Width | 2 |
Custom Rendered | Normal |
Defringe | 0 |
Depth Of Field | 0.01 m (1.12 - 1.12) |
Digital Zoom Ratio | 1 |
Exposure | +1.00 |
Exposure Compensation | 0 |
Exposure Mode | Auto |
Field Of View | 15.2 deg |
Fill Light | 30 |
Focal Length In 35mm Format | 135 mm |
Format | image/jpeg |
Gain Control | None |
Grain Amount | 0 |
Green Hue | 0 |
Green Saturation | 0 |
Has Crop | True |
Has Extended XMP | F8A311A2221ED0DE9D444BBEE93F7B 8B |
Has Settings | True |
Hierarchical Subject | bottletrash|Abfall, bottletrash|garbage, bottletrash|litter, bottletrash|Müll, bottletrash|trash, bottletrash|waste |
Highlight Recovery | 0 |
Hue Adjustment Aqua | 0 |
Hue Adjustment Blue | 0 |
Hue Adjustment Green | 0 |
Hue Adjustment Magenta | 0 |
Hue Adjustment Orange | 0 |
Hue Adjustment Purple | 0 |
Hue Adjustment Red | 0 |
Hue Adjustment Yellow | 0 |
Hyperfocal Distance | 303.28 m |
ISO | 200 |
Image Number | 33290 |
Image Size | 2703x1802 |
Label | gelb |
Lens | 135.0 mm f/2.0 |
Lens ID | AF DC-Nikkor 135mm f/2D |
Lens Info | 135mm f/2 |
Lens Manual Distortion Amount | 0 |
Lens Model | 135.0 mm f/2.0 |
Lens Profile Chromatic Aberration Scale | 100 |
Lens Profile Distortion Scale | 100 |
Lens Profile Enable | 1 |
Lens Profile Filename | NIKON D3X (Nikon AF DC-NIKKOR 135mm f2D) - RAW.lcp |
Lens Profile Name | Adobe (Nikon AF DC-NIKKOR 135mm f/2D) |
Lens Profile Setup | Custom |
Lens Profile Vignetting Scale | 100 |
Light Source | Unknown |
Light Value | 9.3 |
Luminance Adjustment Aqua | 0 |
Luminance Adjustment Blue | 0 |
Luminance Adjustment Green | 0 |
Luminance Adjustment Magenta | 0 |
Luminance Adjustment Orange | 0 |
Luminance Adjustment Purple | 0 |
Luminance Adjustment Red | 0 |
Luminance Adjustment Yellow | 0 |
Luminance Smoothing | 0 |
Metering Mode | Center-weighted average |
Paint Correction Active | true |
Paint Correction Amount | 1.000000 |
Paint Correction Brightness | 0.000000 |
Paint Correction Clarity | 0.000000 |
Paint Correction Contrast | 0.000000 |
Paint Correction Exposure | 0.000000 |
Paint Correction Hue | 56.000000 |
Paint Correction Mask Center Weight | 0.597666 |
Paint Correction Mask Flow | 0.727273 |
Paint Correction Mask Radius | 0.003290 |
Paint Correction Mask Value | 0.730000 |
Paint Correction Mask What | Mask/Paint |
Paint Correction Saturation | 0.000000 |
Paint Correction Sharpness | 0.000000 |
Paint Correction What | Correction |
Parametric Darks | 0 |
Parametric Highlight Split | 75 |
Parametric Highlights | 0 |
Parametric Lights | 0 |
Parametric Midtone Split | 50 |
Parametric Shadow Split | 25 |
Parametric Shadows | 0 |
Perspective Horizontal | 0 |
Perspective Rotate | 0.0 |
Perspective Scale | 100 |
Perspective Vertical | 0 |
Post Crop Vignette Amount | 0 |
Process Version | 5.7 |
Raw File Name | D7H_1838.NEF |
Red Hue | 0 |
Red Saturation | 0 |
Rights | Thore Siebrands |
Saturation | 0 |
Saturation Adjustment Aqua | 0 |
Saturation Adjustment Blue | 0 |
Saturation Adjustment Green | 0 |
Saturation Adjustment Magenta | 0 |
Saturation Adjustment Orange | 0 |
Saturation Adjustment Purple | 0 |
Saturation Adjustment Red | 0 |
Saturation Adjustment Yellow | 0 |
Scale Factor To 35 mm Equivalent | 1.0 |
Scene Capture Type | Standard |
Scene Type | Directly photographed |
Sensing Method | One-chip color area |
Shadow Tint | 0 |
Shadows | 5 |
Sharpen Detail | 25 |
Sharpen Edge Masking | 0 |
Sharpen Radius | +2.4 |
Sharpness | 92 |
Split Toning Balance | 0 |
Split Toning Highlight Hue | 0 |
Split Toning Highlight Saturation | 0 |
Split Toning Shadow Hue | 0 |
Split Toning Shadow Saturation | 0 |
Subject | Abfall, Einkaufsliste, Einkaufszettel, garbage, litter, Müll, shopping list, trash, waste |
Subject Distance | 1.12 m |
Subject Distance Range | Unknown |
Tint | -21 |
Tone Curve | 0, 0, 32, 22, 64, 56, 128, 128, 192, 196, 255, 255 |
Tone Curve Name | Medium Contrast |
Version | 6.6 |
Vibrance | +23 |
Vignette Amount | 0 |
White Balance | Custom |