Shooting information for this photo
Camera: | NIKON CORPORATION NIKON D200 |
Exposure: | 0.01 sec. (1/100) |
Aperture: | f/5.6 |
Focal Length: | 48.0 mm (35 mm equivalent: 72.0 mm) |
Flash: | Fired, Return detected |
Exposure mode: | Manual |
Max Aperture: | 2.8 |
Resolution: | 300 x 300 dpi |
Original Date: | 2012:02:09 19:20:33 |
Created on: | 2012:02:09 19:20:33 |
Modified on: | 2012:02:21 21:09:47 |
Software: | Adobe Photoshop Camera Raw 6.6 (Macintosh) |
Already Applied | True |
Approximate Focus Distance | 1.5 |
Blue Hue | 0 |
Blue Saturation | 0 |
Brightness | +50 |
CFA Pattern | [Green,Red][Blue,Green] |
Camera Profile | Adobe Standard |
Chromatic Aberration B | 0 |
Chromatic Aberration R | 0 |
Circle Of Confusion | 0.020 mm |
Clarity | +31 |
Color Noise Reduction | 25 |
Color Noise Reduction Detail | 50 |
Color Space | Uncalibrated |
Color Temperature | 4750 |
Contrast | +25 |
Convert To Grayscale | False |
Country | Germany |
Country Code | DE |
Crop Angle | 5.328686 |
Crop Bottom | 0.947633 |
Crop Constrain To Warp | 1 |
Crop Left | 0.176723 |
Crop Right | 0.948596 |
Crop Top | 0.009646 |
Custom Rendered | Normal |
Defringe | 0 |
Depth Of Field | 0.21 m (1.40 - 1.61) |
Description | Opening of the 62nd Berlin International Film Festival |
Digital Zoom Ratio | 1 |
Exposure | -0.55 |
Exposure Compensation | 0 |
Exposure Mode | Manual |
Field Of View | 28.1 deg |
Fill Light | 33 |
Focal Length In 35mm Format | 72 mm |
Format | image/jpeg |
Gain Control | None |
Grain Amount | 0 |
Green Hue | 0 |
Green Saturation | 0 |
Has Crop | True |
Has Settings | True |
Hierarchical Subject | Berlinale|62. Berlinale, Berlinale|62. Internationale Filmfestspiele Berlin, Berlinale|62nd Berlin International Film Festival, Berlinale|roter Teppich, Berlinale|roter Teppich|red carpet, Berlinale|Berlinale 2012, Berlinale|actress, Berlinale|actress|Schauspieler in, Berlinale|Sibel Kekilli, Kamera|AF-S 24-70 mm/2.8G ED, Kamera|D200 |
Highlight Recovery | 0 |
Hue Adjustment Aqua | 0 |
Hue Adjustment Blue | 0 |
Hue Adjustment Green | 0 |
Hue Adjustment Magenta | 0 |
Hue Adjustment Orange | 0 |
Hue Adjustment Purple | 0 |
Hue Adjustment Red | 0 |
Hue Adjustment Yellow | 0 |
Hyperfocal Distance | 20.54 m |
ISO | 200 |
Image Description | Opening of the 62nd Berlin International Film Festival |
Image Number | 24214 |
Image Size | 1280x857 |
Label | gelb |
Lens | 24.0-70.0 mm f/2.8 |
Lens ID | AF-S Zoom-Nikkor 24-70mm f/2.8G ED |
Lens Info | 24-70mm f/2.8 |
Lens Manual Distortion Amount | 0 |
Lens Model | 24.0-70.0 mm f/2.8 |
Lens Profile Chromatic Aberration Scale | 100 |
Lens Profile Distortion Scale | 100 |
Lens Profile Enable | 1 |
Lens Profile Filename | NIKON D3X (Nikon FX 24-70mm f2.8 G ED) - RAW.lcp |
Lens Profile Name | Adobe (Nikon AF-S NIKKOR 24-70mm f/2.8G ED) |
Lens Profile Setup | LensDefaults |
Lens Profile Vignetting Scale | 100 |
Light Source | Unknown |
Light Value | 10.6 |
Location | Berlinale Palast, Marlene-Dietrich-Platz |
Luminance Adjustment Aqua | 0 |
Luminance Adjustment Blue | 0 |
Luminance Adjustment Green | 0 |
Luminance Adjustment Magenta | 0 |
Luminance Adjustment Orange | 0 |
Luminance Adjustment Purple | 0 |
Luminance Adjustment Red | 0 |
Luminance Adjustment Yellow | 0 |
Luminance Noise Reduction Contrast | 0 |
Luminance Noise Reduction Detail | 50 |
Luminance Smoothing | 15 |
Metering Mode | Multi-segment |
Parametric Darks | 0 |
Parametric Highlight Split | 75 |
Parametric Highlights | 0 |
Parametric Lights | 0 |
Parametric Midtone Split | 50 |
Parametric Shadow Split | 25 |
Parametric Shadows | 0 |
Perspective Horizontal | 0 |
Perspective Rotate | 0.0 |
Perspective Scale | 100 |
Perspective Vertical | 0 |
Post Crop Vignette Amount | 0 |
Process Version | 5.7 |
Raw File Name | D2H_3731.NEF |
Red Hue | 0 |
Red Saturation | 0 |
Related Image Height | 857 |
Related Image Width | 1280 |
Saturation | 0 |
Saturation Adjustment Aqua | 0 |
Saturation Adjustment Blue | 0 |
Saturation Adjustment Green | 0 |
Saturation Adjustment Magenta | 0 |
Saturation Adjustment Orange | 0 |
Saturation Adjustment Purple | 0 |
Saturation Adjustment Red | 0 |
Saturation Adjustment Yellow | 0 |
Scale Factor To 35 mm Equivalent | 1.5 |
Scene Capture Type | Standard |
Scene Type | Directly photographed |
Sensing Method | One-chip color area |
Shadow Tint | 0 |
Shadows | 5 |
Sharpen Detail | 25 |
Sharpen Edge Masking | 0 |
Sharpen Radius | +1.0 |
Sharpness | 38 |
Split Toning Balance | 0 |
Split Toning Highlight Hue | 0 |
Split Toning Highlight Saturation | 0 |
Split Toning Shadow Hue | 0 |
Split Toning Shadow Saturation | 0 |
State | Berlin |
Subject | 62. Berlinale, 62. Internationale Filmfestspiele Berlin, 62nd Berlin International Film Festival, actress, AF-S 24-70 mm/2.8G ED, Berlinale 2012, D200, red carpet, roter Teppich, Schauspielerin, Sibel Kekilli |
Subject Distance | 1.5 m |
Subject Distance Range | Unknown |
Tint | -5 |
Title | Sibel Kekilli |
Tone Curve | 0, 0, 32, 22, 64, 56, 128, 128, 192, 196, 255, 255 |
Tone Curve Name | Medium Contrast |
User Comment | (C) Thore Siebrands |
Version | 6.6 |
Vibrance | +16 |
Vignette Amount | 0 |
White Balance | As Shot |