Shooting information for this photo
Camera: | NIKON CORPORATION NIKON D200 |
Exposure: | 0.00156 sec. (1/640) |
Aperture: | f/8.0 |
Focal Length: | 12.0 mm (35 mm equivalent: 18.0 mm) |
Flash: | No Flash |
Exposure mode: | Aperture-priority AE |
Max Aperture: | 4.0 |
Resolution: | 240 x 240 dpi |
Original Date: | 2007:08:29 16:39:49.00 |
Digitized Date: | 2007:08:29 16:39:49.00+02:00 |
Created on: | 2007:08:29 16:39:49.00 |
Modified on: | 2007:11:15 21:22:41 |
Software: | Ver.2.00 |
Already Applied | True |
Artist | Thore Siebrands |
Blue Hue | 0 |
Blue Saturation | 0 |
Brightness | +57 |
CFA Pattern | [Green,Red][Blue,Green] |
Camera Profile | ACR 3.3 |
Caption Writer | Thore Siebrands |
Chromatic Aberration B | 0 |
Chromatic Aberration R | 0 |
Circle Of Confusion | 0.020 mm |
City | Hallig Hooge |
Clarity | 0 |
Color Noise Reduction | 25 |
Color Temperature | 5300 |
Contrast | +37 |
Convert To Grayscale | False |
Country | Germany |
Country Code | DE |
Creator | Thore Siebrands |
Custom Rendered | Normal |
Defringe | 0 |
Description | Langeneß von der Fähre Hooge-Föhr |
Digital Zoom Ratio | 1 |
Exposure | 0.00 |
Exposure Compensation | 0 |
Exposure Mode | Auto |
Field Of View | 90.0 deg |
Fill Light | 0 |
Flash Fired | False |
Flash Function | False |
Flash Mode | Unknown |
Flash Red Eye Mode | False |
Flash Return | No return detection |
Focal Length In 35mm Format | 18 mm |
Gain Control | None |
Green Hue | 0 |
Green Saturation | 0 |
Has Crop | False |
Has Settings | True |
Highlight Recovery | 23 |
Hue Adjustment Aqua | 0 |
Hue Adjustment Blue | 0 |
Hue Adjustment Green | 0 |
Hue Adjustment Magenta | 0 |
Hue Adjustment Orange | 0 |
Hue Adjustment Purple | 0 |
Hue Adjustment Red | 0 |
Hue Adjustment Yellow | 0 |
Hyperfocal Distance | 0.90 m |
ISO | 100 |
Image Number | 12355 |
Image Size | 3872x2592 |
Lens | 12.0-24.0 mm f/4.0 |
Lens Info | 12-24mm f/4 |
Light Source | Unknown |
Light Value | 15.3 |
Luminance Adjustment Aqua | 0 |
Luminance Adjustment Blue | 0 |
Luminance Adjustment Green | 0 |
Luminance Adjustment Magenta | 0 |
Luminance Adjustment Orange | 0 |
Luminance Adjustment Purple | 0 |
Luminance Adjustment Red | 0 |
Luminance Adjustment Yellow | 0 |
Luminance Smoothing | 0 |
Marked | True |
Metering Mode | Multi-segment |
Parametric Darks | 0 |
Parametric Highlight Split | 75 |
Parametric Highlights | 0 |
Parametric Lights | 0 |
Parametric Midtone Split | 50 |
Parametric Shadow Split | 25 |
Parametric Shadows | 0 |
Rating | 0 |
Raw File Name | _07Z1897.NEF |
Red Hue | 0 |
Red Saturation | 0 |
Saturation | 0 |
Saturation Adjustment Aqua | 0 |
Saturation Adjustment Blue | 0 |
Saturation Adjustment Green | 0 |
Saturation Adjustment Magenta | 0 |
Saturation Adjustment Orange | 0 |
Saturation Adjustment Purple | 0 |
Saturation Adjustment Red | 0 |
Saturation Adjustment Yellow | 0 |
Scale Factor To 35 mm Equivalent | 1.5 |
Scene Capture Type | Standard |
Scene Type | Directly photographed |
Sensing Method | One-chip color area |
Shadow Tint | 0 |
Shadows | 23 |
Sharpen Detail | 25 |
Sharpen Edge Masking | 0 |
Sharpen Radius | +1.0 |
Sharpness | 25 |
Split Toning Balance | 0 |
Split Toning Highlight Hue | 0 |
Split Toning Highlight Saturation | 0 |
Split Toning Shadow Hue | 0 |
Split Toning Shadow Saturation | 0 |
State | Schleswig-Holstein |
Subject | Urlaub, holiday, Ferien, Nordfriesland, noth friesia, Föhr, foehr, Friesland, Nordsee, northsea, Insel, island, Hallig, Hooge, Langeneß |
Subject Distance Range | Unknown |
Tint | -2 |
Tone Curve | 0, 0, 32, 22, 64, 56, 128, 128, 192, 196, 255, 255 |
Tone Curve Name | Medium Contrast |
User Comment | (C) Thore Siebrands |
Version | 4.2 |
Vibrance | 0 |
Vignette Amount | 0 |
White Balance | As Shot |