Shooting information for this photo
Camera: | NIKON CORPORATION NIKON D700 |
Exposure: | 0.008 sec. (1/125) |
Aperture: | f/4.8 |
Focal Length: | 340.0 mm (35 mm equivalent: 340.0 mm) |
Flash: | On, Return detected |
Exposure mode: | Manual |
Max Aperture: | 4.8 |
Resolution: | 240 x 240 dpi |
Dimension: | 3295 x 2197 pixels |
Original Date: | 2011:02:12 19:59:40.08 |
Created on: | 2011:02:12 19:59:40.08 |
Modified on: | 2011:03:06 02:11:53 |
Software: | Ver.1.02 |
Copyright: | Thore Siebrands |
Already Applied | True |
Approximate Focus Distance | 11.9 |
Artist | Thore Siebrands |
Blue Hue | 0 |
Blue Saturation | 0 |
Brightness | +20 |
CFA Pattern | [Red,Green][Green,Blue] |
Camera Profile | Adobe Standard |
Chromatic Aberration B | 0 |
Chromatic Aberration R | 0 |
Circle Of Confusion | 0.030 mm |
Clarity | +20 |
Color Mode | RGB |
Color Noise Reduction | 25 |
Color Noise Reduction Detail | 50 |
Color Space | Uncalibrated |
Color Temperature | 5750 |
Contrast | +30 |
Convert To Grayscale | False |
Country | Germany |
Country Code | DE |
Creator | Thore Siebrands |
Crop Angle | -0.735149 |
Crop Bottom | 0.914998 |
Crop Constrain To Warp | 1 |
Crop Height | 3 |
Crop Left | 0.218814 |
Crop Right | 0.999586 |
Crop Top | 0.154319 |
Crop Unit | Unknown (3) |
Crop Width | 2 |
Custom Rendered | Normal |
Defringe | 0 |
Depth Of Field | 0.34 m (11.73 - 12.07) |
Description | Harry Belafonte arriving for the press conference for the film "Sing Your Song" |
Digital Zoom Ratio | 1 |
Exposure | +1.00 |
Exposure Compensation | 0 |
Exposure Mode | Manual |
Field Of View | 6.1 deg |
Fill Light | 0 |
Flash Fired | True |
Flash Function | False |
Flash Mode | On |
Flash Red Eye Mode | False |
Flash Return | Return detected |
Focal Length In 35mm Format | 340 mm |
Gain Control | Low gain up |
Grain Amount | 0 |
Green Hue | 0 |
Green Saturation | 0 |
Has Crop | True |
Has Settings | True |
Hierarchical Subject | Andere Stichwörter|59th Berlin International Film Festival, Andere Stichwörter|59. Internationale Filmfestspiele Berlin, Andere Stichwörter|Berlinale 2010, Andere Stichwörter|59. Berlinale, Berlinale|Film|Sing your Song, Berlinale|Harry Belafonte, Berlinale|press conference, Berlinale|press conference|Pressekonferenz, Kamera|D700, Kamera|AF-S VR 70-200 mm/2.8G IF-ED |
Highlight Recovery | 0 |
Hue Adjustment Aqua | 0 |
Hue Adjustment Blue | 0 |
Hue Adjustment Green | 0 |
Hue Adjustment Magenta | 0 |
Hue Adjustment Orange | 0 |
Hue Adjustment Purple | 0 |
Hue Adjustment Red | 0 |
Hue Adjustment Yellow | 0 |
Hyperfocal Distance | 801.54 m |
ICC Profile Name | Adobe RGB (1998) |
ISO | 560 |
Image Number | 27036 |
Image Size | 3295x2197 |
Label | gelb |
Lens | 70.0-200.0 mm f/2.8 |
Lens ID | AF-S VR Zoom-Nikkor 70-200mm f/2.8G IF-ED |
Lens Info | 70-200mm f/2.8 |
Lens Manual Distortion Amount | 0 |
Lens Model | 70.0-200.0 mm f/2.8 |
Lens Profile Chromatic Aberration Scale | 100 |
Lens Profile Distortion Scale | 100 |
Lens Profile Enable | 1 |
Lens Profile Filename | NIKON D3X (Nikon FX 70-200mm f2.8 G IF ED) - RAW.lcp |
Lens Profile Name | Adobe (Nikon AF-S VR Zoom-Nikkor 70-200mm f/2.8G IF-ED) |
Lens Profile Setup | LensDefaults |
Lens Profile Vignetting Scale | 100 |
Light Source | Unknown |
Light Value | 9.0 |
Luminance Adjustment Aqua | 0 |
Luminance Adjustment Blue | 0 |
Luminance Adjustment Green | 0 |
Luminance Adjustment Magenta | 0 |
Luminance Adjustment Orange | 0 |
Luminance Adjustment Purple | 0 |
Luminance Adjustment Red | 0 |
Luminance Adjustment Yellow | 0 |
Luminance Noise Reduction Contrast | 0 |
Luminance Noise Reduction Detail | 50 |
Luminance Smoothing | 8 |
Metering Mode | Multi-segment |
Parametric Darks | 0 |
Parametric Highlight Split | 75 |
Parametric Highlights | 0 |
Parametric Lights | 0 |
Parametric Midtone Split | 50 |
Parametric Shadow Split | 25 |
Parametric Shadows | 0 |
Perspective Horizontal | 0 |
Perspective Rotate | 0.0 |
Perspective Scale | 100 |
Perspective Vertical | 0 |
Photometric Interpretation | RGB |
Post Crop Vignette Amount | 0 |
Process Version | 5.7 |
Rating | 5 |
Raw File Name | D7H_5908.NEF |
Red Hue | 0 |
Red Saturation | 0 |
Rights | Thore Siebrands |
Samples Per Pixel | 3 |
Saturation | 0 |
Saturation Adjustment Aqua | 0 |
Saturation Adjustment Blue | 0 |
Saturation Adjustment Green | 0 |
Saturation Adjustment Magenta | 0 |
Saturation Adjustment Orange | 0 |
Saturation Adjustment Purple | 0 |
Saturation Adjustment Red | 0 |
Saturation Adjustment Yellow | 0 |
Scale Factor To 35 mm Equivalent | 1.0 |
Scene Capture Type | Standard |
Scene Type | Directly photographed |
Sensing Method | One-chip color area |
Sensitivity Type | Unknown |
Shadow Tint | 0 |
Shadows | 2 |
Sharpen Detail | 25 |
Sharpen Edge Masking | 0 |
Sharpen Radius | +1.0 |
Sharpness | 65 |
Split Toning Balance | 0 |
Split Toning Highlight Hue | 0 |
Split Toning Highlight Saturation | 0 |
Split Toning Shadow Hue | 0 |
Split Toning Shadow Saturation | 0 |
State | Berlin |
Subject | 61. Berlinale, 61. Internationale Filmfestspiele Berlin, 61st Berlin International Film Festival, AF-S VR 70-200 mm/2.8G IF-ED, Berlinale 2011, D700, Harry Belafonte, press conference, Pressekonferenz, Sing your Song |
Subject Distance | 11.9 m |
Subject Distance Range | Unknown |
Tint | -8 |
Title | Harry Belafonte |
Tone Curve | 0, 0, 32, 22, 64, 56, 128, 128, 192, 196, 255, 255 |
Tone Curve Name | Medium Contrast |
Version | 6.3 |
Vibrance | +20 |
Vignette Amount | 0 |
White Balance | As Shot |