Shooting information for this photo
Camera: | SONY ILCE-6400 |
Exposure: | 0.0125 sec. (1/80) |
Aperture: | f/22.0 |
Focal Length: | 51.0 mm (35 mm equivalent: 76.0 mm) |
Flash: | Off, Did not fire |
Exposure mode: | Aperture-priority AE |
Max Aperture: | 5.6 |
Resolution: | 240 x 240 dpi |
Dimension: | 5426 x 3737 pixels |
Original Date: | 2021:06:28 16:43:06 |
Created on: | 2021:06:28 16:43:06 |
Modified on: | 2021:07:01 07:53:18 |
Software: | Adobe Photoshop Elements 12.0 Windows |
Already Applied | True |
Artist | Picasa |
Auto Lateral CA | 0 |
Blacks 2012 | -25 |
Blue Hue | 0 |
Blue Saturation | 0 |
Brightness Value | 9.05625 |
Camera Profile | Adobe Standard |
Circle Of Confusion | 0.020 mm |
Clarity 2012 | 0 |
Color Mode | RGB |
Color Noise Reduction | 25 |
Color Noise Reduction Detail | 50 |
Color Space | sRGB |
Color Temperature | 5450 |
Contrast | Normal |
Contrast 2012 | +6 |
Convert To Grayscale | False |
Creator | Picasa |
Custom Rendered | Normal |
Defringe Green Amount | 0 |
Defringe Green Hue Hi | 60 |
Defringe Green Hue Lo | 40 |
Defringe Purple Amount | 0 |
Defringe Purple Hue Hi | 70 |
Defringe Purple Hue Lo | 30 |
Digital Zoom Ratio | 1 |
Exposure 2012 | -0.05 |
Exposure Compensation | 0 |
Exposure Mode | Auto |
Field Of View | 26.6 deg |
Focal Length In 35mm Format | 76 mm |
Format | image/jpeg |
Grain Amount | 0 |
Green Hue | 0 |
Green Saturation | 0 |
Has Crop | False |
Has Settings | True |
Highlights 2012 | -7 |
Hue Adjustment Aqua | 0 |
Hue Adjustment Blue | 0 |
Hue Adjustment Green | 0 |
Hue Adjustment Magenta | 0 |
Hue Adjustment Orange | 0 |
Hue Adjustment Purple | 0 |
Hue Adjustment Red | 0 |
Hue Adjustment Yellow | 0 |
Hyperfocal Distance | 5.86 m |
ICC Profile Name | sRGB IEC61966-2.1 |
ISO | 400 |
Image Size | 5426x3737 |
Lens | E 18-200mm F3.5-6.3 OSS LE |
Lens Distort Info | 1062932949/1073741824 7690240/1073741824 3089799/1073741824 -4242/1073741824 |
Lens Info | 18-200mm f/3.5-6.3 |
Lens Manual Distortion Amount | 0 |
Lens Model | E 18-200mm F3.5-6.3 OSS LE |
Lens Profile Enable | 0 |
Lens Profile Setup | LensDefaults |
Light Source | Unknown |
Light Value | 13.2 |
Luminance Adjustment Aqua | 0 |
Luminance Adjustment Blue | 0 |
Luminance Adjustment Green | 0 |
Luminance Adjustment Magenta | 0 |
Luminance Adjustment Orange | 0 |
Luminance Adjustment Purple | 0 |
Luminance Adjustment Red | 0 |
Luminance Adjustment Yellow | 0 |
Luminance Smoothing | 0 |
Metering Mode | Center-weighted average |
Parametric Darks | 0 |
Parametric Highlight Split | 75 |
Parametric Highlights | 0 |
Parametric Lights | 0 |
Parametric Midtone Split | 50 |
Parametric Shadow Split | 25 |
Parametric Shadows | 0 |
Perspective Aspect | 0 |
Perspective Horizontal | 0 |
Perspective Rotate | 0.0 |
Perspective Scale | 100 |
Perspective Upright | 0 |
Perspective Vertical | 0 |
Post Crop Vignette Amount | 0 |
Process Version | 6.7 |
Rating | 0 |
Raw File Name | deer isle Maine summer.dng |
Recommended Exposure Index | 400 |
Red Hue | 0 |
Red Saturation | 0 |
Related Image Height | 4000 |
Related Image Width | 6000 |
Saturation | Normal |
Saturation Adjustment Aqua | 0 |
Saturation Adjustment Blue | 0 |
Saturation Adjustment Green | 0 |
Saturation Adjustment Magenta | 0 |
Saturation Adjustment Orange | 0 |
Saturation Adjustment Purple | 0 |
Saturation Adjustment Red | 0 |
Saturation Adjustment Yellow | 0 |
Scale Factor To 35 mm Equivalent | 1.5 |
Scene Capture Type | Standard |
Scene Type | Directly photographed |
Sensitivity Type | Recommended Exposure Index |
Shadow Tint | 0 |
Shadows 2012 | +7 |
Sharpen Detail | 25 |
Sharpen Edge Masking | 0 |
Sharpen Radius | +1.0 |
Sharpness | Normal |
Split Toning Balance | 0 |
Split Toning Highlight Hue | 0 |
Split Toning Highlight Saturation | 0 |
Split Toning Shadow Hue | 0 |
Split Toning Shadow Saturation | 0 |
Tint | +18 |
Tone Curve Name 2012 | Linear |
Tone Curve PV2012 | 0, 0, 255, 255 |
Tone Curve PV2012 Blue | 0, 0, 255, 255 |
Tone Curve PV2012 Green | 0, 0, 255, 255 |
Tone Curve PV2012 Red | 0, 0, 255, 255 |
Version | 8.0 |
Vibrance | 0 |
Vignette Amount | 0 |
White Balance | Auto |
Whites 2012 | +42 |