Shooting information for this photo
Camera: | Canon EOS 7D |
Exposure: | 0.001 sec. (1/1000) |
Aperture: | f/6.3 |
Focal Length: | 500.0 mm (35 mm equivalent: 785.2 mm) |
Flash: | Off, Did not fire |
Exposure mode: | Manual |
Max Aperture: | 6.2 |
Resolution: | 240 x 240 dpi |
Original Date: | 2012:05:06 09:52:44.37 |
Created on: | 2012:05:06 09:52:44.37 |
Modified on: | 2012:05:06 19:44:24 |
Software: | Adobe Photoshop Lightroom 3.6 (Windows) |
Copyright: | All rights reserved. |
Already Applied | True |
Approximate Focus Distance | 11.1 |
Artist | Rudi Nuissl |
Blue Hue | 0 |
Blue Saturation | 0 |
Brightness | +88 |
Camera Profile | Adobe Standard |
Chromatic Aberration B | 0 |
Chromatic Aberration R | 0 |
Circle Of Confusion | 0.019 mm |
Clarity | 0 |
Color Noise Reduction | 25 |
Color Noise Reduction Detail | 50 |
Color Temperature | 5250 |
Contrast | +64 |
Convert To Grayscale | False |
Creator | Rudi Nuissl |
Crop Angle | 0 |
Crop Bottom | 0.639098 |
Crop Constrain To Warp | 0 |
Crop Height | 1616 |
Crop Left | 0.335756 |
Crop Right | 0.772181 |
Crop Top | 0.1715 |
Crop Unit | pixels |
Crop Width | 2262 |
Custom Rendered | Normal |
Date Created | 2012:05:06 09:52:44.37 |
Defringe | 0 |
Depth Of Field | 0.11 m (11.04 - 11.16) |
Exposure | +0.60 |
Exposure Compensation | 0 |
Exposure Mode | Manual |
Field Of View | 2.6 deg |
Fill Light | 9 |
Firmware | 1.2.5 |
Flash Compensation | 0 |
Format | image/jpeg |
Grain Amount | 0 |
Green Hue | 0 |
Green Saturation | 0 |
Has Crop | True |
Has Settings | True |
Highlight Recovery | 43 |
Hue Adjustment Aqua | 0 |
Hue Adjustment Blue | 0 |
Hue Adjustment Green | 0 |
Hue Adjustment Magenta | 0 |
Hue Adjustment Orange | 0 |
Hue Adjustment Purple | 0 |
Hue Adjustment Red | 0 |
Hue Adjustment Yellow | 0 |
Hyperfocal Distance | 2073.96 m |
ISO | 400 |
Image Number | 0 |
Image Size | 2262x1616 |
Lens | 50-500mm |
Lens ID | Sigma 50-500mm f/4.5-6.3 APO DG OS HSM |
Lens Info | 50-500mm f/? |
Lens Manual Distortion Amount | 0 |
Lens Model | 50-500mm |
Lens Profile Enable | 0 |
Lens Profile Setup | LensDefaults |
Light Value | 13.3 |
Luminance Adjustment Aqua | 0 |
Luminance Adjustment Blue | 0 |
Luminance Adjustment Green | 0 |
Luminance Adjustment Magenta | 0 |
Luminance Adjustment Orange | 0 |
Luminance Adjustment Purple | 0 |
Luminance Adjustment Red | 0 |
Luminance Adjustment Yellow | 0 |
Luminance Smoothing | 0 |
Metering Mode | Multi-segment |
Parametric Darks | 0 |
Parametric Highlight Split | 75 |
Parametric Highlights | 0 |
Parametric Lights | 0 |
Parametric Midtone Split | 50 |
Parametric Shadow Split | 25 |
Parametric Shadows | 0 |
Perspective Horizontal | 0 |
Perspective Rotate | 0.0 |
Perspective Scale | 100 |
Perspective Vertical | 0 |
Post Crop Vignette Amount | 0 |
Process Version | 5.7 |
Red Hue | 0 |
Red Saturation | 0 |
Rights | All rights reserved. |
Saturation | 0 |
Saturation Adjustment Aqua | 0 |
Saturation Adjustment Blue | 0 |
Saturation Adjustment Green | 0 |
Saturation Adjustment Magenta | 0 |
Saturation Adjustment Orange | 0 |
Saturation Adjustment Purple | 0 |
Saturation Adjustment Red | 0 |
Saturation Adjustment Yellow | 0 |
Scale Factor To 35 mm Equivalent | 1.6 |
Scene Capture Type | Standard |
Shadow Tint | 0 |
Shadows | 5 |
Sharpen Detail | 25 |
Sharpen Edge Masking | 0 |
Sharpen Radius | +1.0 |
Sharpness | 25 |
Split Toning Balance | 0 |
Split Toning Highlight Hue | 0 |
Split Toning Highlight Saturation | 0 |
Split Toning Shadow Hue | 0 |
Split Toning Shadow Saturation | 0 |
Subject Distance | 11.1 m |
Tint | +8 |
Tone Curve | 0, 0, 32, 22, 64, 56, 128, 128, 192, 196, 255, 255 |
Tone Curve Name | Medium Contrast |
Version | 6.6 |
Vibrance | +6 |
Vignette Amount | 0 |
White Balance | Auto |