Shooting information for this photo
Camera: | FUJIFILM X-T1 |
Exposure: | 0.06667 sec. (1/15) |
Aperture: | f/4.0 |
Focal Length: | 10.0 mm (35 mm equivalent: 15.0 mm) |
Flash: | Off, Did not fire |
Exposure mode: | Shutter speed priority AE |
Max Aperture: | 4.0 |
Resolution: | 240 x 240 dpi |
Original Date: | 2015:06:23 15:25:53 |
Created on: | 2015:06:23 21:25:53 |
Modified on: | 2022:12:17 11:05:11 |
Software: | photools.com IMatch 21.18.0.4 (Windows) |
Already Applied | True |
Auto Lateral CA | 1 |
Auto White Version | 134348800 |
Black And White | False |
Black Offset | 0.300000 |
Blacks 2012 | 0 |
Blue Hue | 0 |
Blue Saturation | 0 |
Brightness Value | -0.92 |
Camera Profile | Camera Velvia/VIVID |
Circle Of Confusion | 0.020 mm |
Clarity 2012 | +24 |
Color C Map 0 | 50 50 28 1 0 0 0 0 |
Color C Map 1 | 50 50 56 1 0 0 0 0 |
Color C Map 2 | 50 50 85 1 0 0 0 0 |
Color C Map 3 | 50 50 125 1 0 0 0 0 |
Color C Map 4 | 50 50 185 1 0 0 0 0 |
Color C Map 5 | 50 50 265 1 0 0 0 0 |
Color C Map 6 | 50 50 325 1 0 0 0 0 |
Color C Map Count | 7 |
Color Correction | True |
Color Enhancement | True |
Color Intensity | 50 |
Color Noise Reduction | 25 |
Color Noise Reduction Detail | 50 |
Color Noise Reduction Smoothness | 50 |
Color Recovery | 50 |
Color Space | sRGB |
Color Style | 2 |
Color Temperature | 3450 |
Contrast 2012 | 0 |
Contrast Shoulder | 1.000000 |
Contrast Toe | 0.000000 |
Convert To Grayscale | False |
Crop | False |
Custom Rendered | Normal |
Defringe Green Amount | 0 |
Defringe Green Hue Hi | 60 |
Defringe Green Hue Lo | 40 |
Defringe Purple Amount | 0 |
Defringe Purple Hue Hi | 70 |
Defringe Purple Hue Lo | 30 |
Defringe Strength | 0 |
Dehaze | 0 |
Distortion And Geometry | False |
Exposure 2012 | +0.60 |
Exposure Comp Policy | 0 |
Exposure Compensation | 0 |
Exposure Mode | -1 |
Exposure Shadow Mode | 0 |
Field Of View | 100.4 deg |
Flash Fired | False |
Flash Function | False |
Flash Mode | Off |
Flash Red Eye Mode | False |
Flash Return | No return detection |
Focal Length In 35mm Format | 15 mm |
Format | image/jpeg |
Global Contrast | 1.450000 |
Grain Amount | 0 |
Green Hue | 0 |
Green Saturation | 0 |
Has Crop | False |
Has Settings | True |
Hierarchical Subject | Locaties|Canada|Montreal, Locaties, Vakantie|2015 Canada |
Highlights 2012 | 0 |
Hue Adjustment Aqua | 0 |
Hue Adjustment Blue | 0 |
Hue Adjustment Green | 0 |
Hue Adjustment Magenta | 0 |
Hue Adjustment Orange | 0 |
Hue Adjustment Purple | 0 |
Hue Adjustment Red | 0 |
Hue Adjustment Yellow | 0 |
Hyperfocal Distance | 1.25 m |
ISO | 1600 |
Illum Profile | AAAYjXjaY5RXZ2BkkGBgZGRgYJQDsb kZmBgYGDgZBBgYmYASckAOoxJIQpyB Bcj+dL3MnoGhwV7POhhEO//7zwxSyg JTqohQuuXxAScWf31n57oHTkAuw7// rAx8DF/i5rhyAFUwg4SABsEwF8wENZ AJYmAT0MG//wJEqRIE+gIEhKA0N4Mg mOYBOpWBF8rhg9L8UBrkEwkGkEsZJS EBAXIiE5RmBjqZE0i7qGram1SvtDPw YLdpOLJl72ypbfYhlqv3zZv01OZS2O t9Ofbb7f/9ZyHCpF0PdttvW7Jv36mK w3t1Du+ytdpqY995Ut+OIYLfas2FSr s/6Y72oCCTYHgkBjRJCmKSJFAnC5BM AfpMYY9dCMMoGAWjYBSMglEwCkbBKB gFo4CqgGkUjIJRMApGwSgYBaNgFIyC UUBV8O//v/8A0yxjOQ== |
Illum Strength | 0 |
Image Size | 4896x3264 |
Lens | XF10-24mmF4 R OIS |
Lens Candidates | XF10-24mmF4 R OIS |
Lens Info | 10-24mm f/4 |
Lens Make | FUJIFILM |
Lens Manual Distortion Amount | 0 |
Lens Model | XF10-24mmF4 R OIS |
Lens Profile Enable | 0 |
Lens Profile Setup | LensDefaults |
Lens Specification | 10, 24, 4, 4 |
Lens User Resolved | False |
Light Source | Unknown |
Light Value | 3.9 |
Local Contrast | 5 |
Luminance Adjustment Aqua | 0 |
Luminance Adjustment Blue | 0 |
Luminance Adjustment Green | 0 |
Luminance Adjustment Magenta | 0 |
Luminance Adjustment Orange | 0 |
Luminance Adjustment Purple | 0 |
Luminance Adjustment Red | 0 |
Luminance Adjustment Yellow | 0 |
Luminance Smoothing | 0 |
Metering Mode | Spot |
NR Chroma Strength | 50 |
NR Lum Enabled | True |
NR Lum Resid Strength | 65 |
NR Lum Smoothing | 25 |
NR Mode | 0 |
NR Quality | 1 |
Noise Reduction | True |
Parametric Darks | 0 |
Parametric Highlight Split | 75 |
Parametric Highlights | 0 |
Parametric Lights | 0 |
Parametric Midtone Split | 50 |
Parametric Shadow Split | 25 |
Parametric Shadows | 0 |
Perspective Aspect | 0 |
Perspective Horizontal | 0 |
Perspective Rotate | 0.0 |
Perspective Scale | 100 |
Perspective Upright | 0 |
Perspective Vertical | 0 |
Plain CA | False |
Post Crop Vignette Amount | 0 |
Process Version | 6.7 |
RGGB Converter | False |
Rating | 0 |
Raw CA | False |
Raw File Name | DSCF6607.jpg |
Red Hue | 0 |
Red Saturation | 0 |
Saturation | +7 |
Saturation Adjustment Aqua | 0 |
Saturation Adjustment Blue | 0 |
Saturation Adjustment Green | 0 |
Saturation Adjustment Magenta | 0 |
Saturation Adjustment Orange | 0 |
Saturation Adjustment Purple | 0 |
Saturation Adjustment Red | 0 |
Saturation Adjustment Yellow | 0 |
Scale Factor To 35 mm Equivalent | 1.5 |
Scene Capture Type | Standard |
Scene Type | Directly photographed |
Sensing Method | One-chip color area |
Sensitivity Type | 1 |
Shadow Tint | 0 |
Shadows 2012 | 0 |
Sharpen Detail | 25 |
Sharpen Edge Masking | 0 |
Sharpen Masking | 100 |
Sharpen Radius | +1.0 |
Sharpen Strength | 50 |
Sharpening | True |
Sharpness | Normal |
Split Toning Balance | 0 |
Split Toning Highlight Hue | 0 |
Split Toning Highlight Saturation | 0 |
Split Toning Shadow Hue | 0 |
Split Toning Shadow Saturation | 0 |
Subject | Canada, Locaties, Montreal, Vakantie, 2015 Canada |
Subject Distance Range | Unknown |
Tint | +4 |
Tone And Contrast | True |
Tone Curve | 0, 0, 255, 255 |
Tone Curve Blue | 0, 0, 255, 255 |
Tone Curve Green | 0, 0, 255, 255 |
Tone Curve Mode | 0 |
Tone Curve Name | Linear |
Tone Curve Name 2012 | Linear |
Tone Curve PV2012 | 0, 0, 255, 255 |
Tone Curve PV2012 Blue | 0, 0, 255, 255 |
Tone Curve PV2012 Green | 0, 0, 255, 255 |
Tone Curve PV2012 Red | 0, 0, 255, 255 |
Tone Curve Red | 0, 0, 255, 255 |
Tone Map Strength | 0 |
Tone Version | 1 |
Version | 9.1 |
Vibrance | 0 |
Vignette Amount | 0 |
Vignetting | False |
WB Light Source | 2 |
WB Light Source Name | Daylight/Flash |
WB Mode | 0 |
WB Raw White | 88.4577 128 62.7532 |
WB Temp | 3576.307373 |
WB Tint | 2.283168 |
White Balance | Auto |
White Offset | -0.740000 |
Whites 2012 | 0 |